BEGIN:VCALENDAR
VERSION:2.0
PRODID:-//CIEMI - ECPv6.15.13.1//NONSGML v1.0//EN
CALSCALE:GREGORIAN
METHOD:PUBLISH
X-WR-CALNAME:CIEMI
X-ORIGINAL-URL:https://ciemicr.org
X-WR-CALDESC:Eventos para CIEMI
REFRESH-INTERVAL;VALUE=DURATION:PT1H
X-Robots-Tag:noindex
X-PUBLISHED-TTL:PT1H
BEGIN:VTIMEZONE
TZID:America/Costa_Rica
BEGIN:STANDARD
TZOFFSETFROM:-0600
TZOFFSETTO:-0600
TZNAME:CST
DTSTART:20220101T000000
END:STANDARD
END:VTIMEZONE
BEGIN:VEVENT
DTSTART;TZID=America/Costa_Rica:20231129T100000
DTEND;TZID=America/Costa_Rica:20231129T100000
DTSTAMP:20260421T170524
CREATED:20231030T192801Z
LAST-MODIFIED:20231120T171629Z
UID:10000733-1701252000-1701252000@ciemicr.org
SUMMARY:Webinar Calderas Eléctricas\, ampliemos la matriz energética en Centroamérica
DESCRIPTION:Inscríbase
URL:https://ciemicr.org/eventosrefresh_css/webinar-calderas-electricas-ampliemos-la-matriz-energetica-en-centroamerica/
LOCATION:Virtual\, Costa Rica
CATEGORIES:Conferencias
ATTACH;FMTTYPE=image/jpeg:https://ciemicr.org/wp-content/uploads/2023/10/Webinar-Calderas-Electricas-ampliemos-la-matriz-energetica.jpg
END:VEVENT
BEGIN:VEVENT
DTSTART;TZID=America/Costa_Rica:20231129T100000
DTEND;TZID=America/Costa_Rica:20231129T100000
DTSTAMP:20260421T170524
CREATED:20231030T192801Z
LAST-MODIFIED:20231030T192801Z
UID:10001814-1701252000-1701252000@ciemicr.org
SUMMARY:Webinar Calderas Eléctricas\, ampliemos la matriz energética en Centroamérica
DESCRIPTION:Inscríbase
URL:https://ciemicr.org/eventosrefresh_css/webinar-calderas-electricas-ampliemos-la-matriz-energetica-en-centroamerica-3/
LOCATION:Virtual\, Costa Rica
CATEGORIES:Conferencias
ATTACH;FMTTYPE=image/jpeg:https://ciemicr.org/wp-content/uploads/2023/10/Webinar-Calderas-Electricas-ampliemos-la-matriz-energetica.jpg
END:VEVENT
BEGIN:VEVENT
DTSTART;TZID=America/Costa_Rica:20231129T100000
DTEND;TZID=America/Costa_Rica:20231129T100000
DTSTAMP:20260421T170524
CREATED:20231030T192801Z
LAST-MODIFIED:20231030T192801Z
UID:10002232-1701252000-1701252000@ciemicr.org
SUMMARY:Webinar Calderas Eléctricas\, ampliemos la matriz energética en Centroamérica
DESCRIPTION:Inscríbase
URL:https://ciemicr.org/eventosrefresh_css/webinar-calderas-electricas-ampliemos-la-matriz-energetica-en-centroamerica-4/
LOCATION:Virtual\, Costa Rica
CATEGORIES:Conferencias
ATTACH;FMTTYPE=image/jpeg:https://ciemicr.org/wp-content/uploads/2023/10/Webinar-Calderas-Electricas-ampliemos-la-matriz-energetica.jpg
END:VEVENT
END:VCALENDAR