BEGIN:VCALENDAR
VERSION:2.0
PRODID:-//CIEMI - ECPv6.15.13.1//NONSGML v1.0//EN
CALSCALE:GREGORIAN
METHOD:PUBLISH
X-WR-CALNAME:CIEMI
X-ORIGINAL-URL:https://ciemicr.org
X-WR-CALDESC:Eventos para CIEMI
REFRESH-INTERVAL;VALUE=DURATION:PT1H
X-Robots-Tag:noindex
X-PUBLISHED-TTL:PT1H
BEGIN:VTIMEZONE
TZID:America/Costa_Rica
BEGIN:STANDARD
TZOFFSETFROM:-0600
TZOFFSETTO:-0600
TZNAME:CST
DTSTART:20220101T000000
END:STANDARD
END:VTIMEZONE
BEGIN:VEVENT
DTSTART;TZID=America/Costa_Rica:20231218T180000
DTEND;TZID=America/Costa_Rica:20231218T180000
DTSTAMP:20260421T170524
CREATED:20231129T163125Z
LAST-MODIFIED:20231212T155838Z
UID:10000762-1702922400-1702922400@ciemicr.org
SUMMARY:Webinar Principios de Regulación en Gas LP\, Cálculo de Tanques de Almacenamiento y Conceptos básicos en Sistemas Contra Incendio aplicados a Gas LP
DESCRIPTION:Inscríbase aquí
URL:https://ciemicr.org/eventosrefresh_css/webinar-principio-calculos-y-proteccion-basica-de-tanques-para-gas-lp/
LOCATION:Virtual\, Costa Rica
CATEGORIES:Conferencias
ATTACH;FMTTYPE=image/jpeg:https://ciemicr.org/wp-content/uploads/2023/11/Webinar-Principio-calculos-y-proteccion-basica-de-tanques-para-Gas-LP-3.jpg
END:VEVENT
BEGIN:VEVENT
DTSTART;TZID=America/Costa_Rica:20231218T180000
DTEND;TZID=America/Costa_Rica:20231218T180000
DTSTAMP:20260421T170524
CREATED:20231129T163125Z
LAST-MODIFIED:20231129T163125Z
UID:10001838-1702922400-1702922400@ciemicr.org
SUMMARY:Webinar Principios de Regulación en Gas LP\, Cálculo de Tanques de Almacenamiento y Conceptos básicos en Sistemas Contra Incendio aplicados a Gas LP
DESCRIPTION:Inscríbase aquí
URL:https://ciemicr.org/eventosrefresh_css/webinar-principio-calculos-y-proteccion-basica-de-tanques-para-gas-lp-2/
LOCATION:Virtual\, Costa Rica
CATEGORIES:Conferencias
ATTACH;FMTTYPE=image/jpeg:https://ciemicr.org/wp-content/uploads/2023/11/Webinar-Principio-calculos-y-proteccion-basica-de-tanques-para-Gas-LP-3.jpg
END:VEVENT
BEGIN:VEVENT
DTSTART;TZID=America/Costa_Rica:20231218T180000
DTEND;TZID=America/Costa_Rica:20231218T180000
DTSTAMP:20260421T170524
CREATED:20231129T163125Z
LAST-MODIFIED:20231129T163125Z
UID:10002256-1702922400-1702922400@ciemicr.org
SUMMARY:Webinar Principios de Regulación en Gas LP\, Cálculo de Tanques de Almacenamiento y Conceptos básicos en Sistemas Contra Incendio aplicados a Gas LP
DESCRIPTION:Inscríbase aquí
URL:https://ciemicr.org/eventosrefresh_css/webinar-principio-calculos-y-proteccion-basica-de-tanques-para-gas-lp-3/
LOCATION:Virtual\, Costa Rica
CATEGORIES:Conferencias
ATTACH;FMTTYPE=image/jpeg:https://ciemicr.org/wp-content/uploads/2023/11/Webinar-Principio-calculos-y-proteccion-basica-de-tanques-para-Gas-LP-3.jpg
END:VEVENT
END:VCALENDAR