BEGIN:VCALENDAR
VERSION:2.0
PRODID:-//CIEMI - ECPv6.15.13.1//NONSGML v1.0//EN
CALSCALE:GREGORIAN
METHOD:PUBLISH
X-ORIGINAL-URL:https://ciemicr.org
X-WR-CALDESC:Eventos para CIEMI
REFRESH-INTERVAL;VALUE=DURATION:PT1H
X-Robots-Tag:noindex
X-PUBLISHED-TTL:PT1H
BEGIN:VTIMEZONE
TZID:America/Costa_Rica
BEGIN:STANDARD
TZOFFSETFROM:-0600
TZOFFSETTO:-0600
TZNAME:CST
DTSTART:20230101T000000
END:STANDARD
END:VTIMEZONE
BEGIN:VEVENT
DTSTART;TZID=America/Costa_Rica:20240822T170000
DTEND;TZID=America/Costa_Rica:20240822T210000
DTSTAMP:20260421T032315
CREATED:20240723T163815Z
LAST-MODIFIED:20240723T163815Z
UID:10000865-1724346000-1724360400@ciemicr.org
SUMMARY:Certificación Six Sigma - Green Belt
DESCRIPTION:Más información
URL:https://ciemicr.org/eventosrefresh_css/certificacion-six-sigma-green-belt-2/
LOCATION:Virtual\, Costa Rica
CATEGORIES:Capacitaciones
ATTACH;FMTTYPE=image/jpeg:https://ciemicr.org/wp-content/uploads/2024/07/Green-CIEMI.jpg
END:VEVENT
BEGIN:VEVENT
DTSTART;TZID=America/Costa_Rica:20240822T170000
DTEND;TZID=America/Costa_Rica:20240822T210000
DTSTAMP:20260421T032315
CREATED:20240723T163815Z
LAST-MODIFIED:20240723T163815Z
UID:10001928-1724346000-1724360400@ciemicr.org
SUMMARY:Certificación Six Sigma - Green Belt
DESCRIPTION:Más información
URL:https://ciemicr.org/eventosrefresh_css/certificacion-six-sigma-green-belt-2-2/
LOCATION:Virtual\, Costa Rica
CATEGORIES:Capacitaciones
ATTACH;FMTTYPE=image/jpeg:https://ciemicr.org/wp-content/uploads/2024/07/Green-CIEMI.jpg
END:VEVENT
BEGIN:VEVENT
DTSTART;TZID=America/Costa_Rica:20240822T170000
DTEND;TZID=America/Costa_Rica:20240822T210000
DTSTAMP:20260421T032315
CREATED:20240723T163815Z
LAST-MODIFIED:20240723T163815Z
UID:10002346-1724346000-1724360400@ciemicr.org
SUMMARY:Certificación Six Sigma - Green Belt
DESCRIPTION:Más información
URL:https://ciemicr.org/eventosrefresh_css/certificacion-six-sigma-green-belt-2-3/
LOCATION:Virtual\, Costa Rica
CATEGORIES:Capacitaciones
ATTACH;FMTTYPE=image/jpeg:https://ciemicr.org/wp-content/uploads/2024/07/Green-CIEMI.jpg
END:VEVENT
END:VCALENDAR