BEGIN:VCALENDAR
VERSION:2.0
PRODID:-//CIEMI - ECPv6.15.13.1//NONSGML v1.0//EN
CALSCALE:GREGORIAN
METHOD:PUBLISH
X-WR-CALNAME:CIEMI
X-ORIGINAL-URL:https://ciemicr.org
X-WR-CALDESC:Eventos para CIEMI
REFRESH-INTERVAL;VALUE=DURATION:PT1H
X-Robots-Tag:noindex
X-PUBLISHED-TTL:PT1H
BEGIN:VTIMEZONE
TZID:America/Costa_Rica
BEGIN:STANDARD
TZOFFSETFROM:-0600
TZOFFSETTO:-0600
TZNAME:CST
DTSTART:20230101T000000
END:STANDARD
END:VTIMEZONE
BEGIN:VEVENT
DTSTART;TZID=America/Costa_Rica:20240902T080000
DTEND;TZID=America/Costa_Rica:20240902T170000
DTSTAMP:20260421T020320
CREATED:20240902T212938Z
LAST-MODIFIED:20240902T212938Z
UID:10001521-1725264000-1725296400@ciemicr.org
SUMMARY:Celebración de la Independencia de Costa Rica
DESCRIPTION:Inscríbase aquí
URL:https://ciemicr.org/eventosrefresh_css/celebracion-de-la-independencia-de-costa-rica/
CATEGORIES:Eventos
END:VEVENT
BEGIN:VEVENT
DTSTART;TZID=America/Costa_Rica:20240902T080000
DTEND;TZID=America/Costa_Rica:20240902T170000
DTSTAMP:20260421T020320
CREATED:20240902T212938Z
LAST-MODIFIED:20240902T212938Z
UID:10001937-1725264000-1725296400@ciemicr.org
SUMMARY:Celebración de la Independencia de Costa Rica
DESCRIPTION:Inscríbase aquí
URL:https://ciemicr.org/eventosrefresh_css/celebracion-de-la-independencia-de-costa-rica-2/
CATEGORIES:Eventos
END:VEVENT
BEGIN:VEVENT
DTSTART;TZID=America/Costa_Rica:20240902T080000
DTEND;TZID=America/Costa_Rica:20240902T170000
DTSTAMP:20260421T020320
CREATED:20240902T212938Z
LAST-MODIFIED:20240902T212938Z
UID:10002355-1725264000-1725296400@ciemicr.org
SUMMARY:Celebración de la Independencia de Costa Rica
DESCRIPTION:Inscríbase aquí
URL:https://ciemicr.org/eventosrefresh_css/celebracion-de-la-independencia-de-costa-rica-3/
CATEGORIES:Eventos
END:VEVENT
BEGIN:VEVENT
DTSTART;TZID=America/Costa_Rica:20240902T180000
DTEND;TZID=America/Costa_Rica:20240902T210000
DTSTAMP:20260421T020320
CREATED:20240715T164643Z
LAST-MODIFIED:20240816T215717Z
UID:10000861-1725300000-1725310800@ciemicr.org
SUMMARY:Curso Interpretación de la norma ISO/IEC 17020:2012
DESCRIPTION:Inscríbase aquí \nPrograma \n 
URL:https://ciemicr.org/eventosrefresh_css/curso-interpretacion-de-la-norma-iso-iec-170202012/
LOCATION:Virtual\, Costa Rica
CATEGORIES:Capacitaciones
ATTACH;FMTTYPE=image/jpeg:https://ciemicr.org/wp-content/uploads/2024/07/Curso-Interpretacion-de-las-normas-ISO-IEC-17020-2012-9.jpg
END:VEVENT
BEGIN:VEVENT
DTSTART;TZID=America/Costa_Rica:20240902T180000
DTEND;TZID=America/Costa_Rica:20240902T210000
DTSTAMP:20260421T020320
CREATED:20240715T164643Z
LAST-MODIFIED:20240715T164643Z
UID:10001924-1725300000-1725310800@ciemicr.org
SUMMARY:Curso Interpretación de la norma ISO/IEC 17020:2012
DESCRIPTION:Inscríbase aquí \nPrograma \n 
URL:https://ciemicr.org/eventosrefresh_css/curso-interpretacion-de-la-norma-iso-iec-170202012-2/
LOCATION:Virtual\, Costa Rica
CATEGORIES:Capacitaciones
ATTACH;FMTTYPE=image/jpeg:https://ciemicr.org/wp-content/uploads/2024/07/Curso-Interpretacion-de-las-normas-ISO-IEC-17020-2012-9.jpg
END:VEVENT
BEGIN:VEVENT
DTSTART;TZID=America/Costa_Rica:20240902T180000
DTEND;TZID=America/Costa_Rica:20240902T210000
DTSTAMP:20260421T020320
CREATED:20240715T164643Z
LAST-MODIFIED:20240715T164643Z
UID:10002342-1725300000-1725310800@ciemicr.org
SUMMARY:Curso Interpretación de la norma ISO/IEC 17020:2012
DESCRIPTION:Inscríbase aquí \nPrograma \n 
URL:https://ciemicr.org/eventosrefresh_css/curso-interpretacion-de-la-norma-iso-iec-170202012-3/
LOCATION:Virtual\, Costa Rica
CATEGORIES:Capacitaciones
ATTACH;FMTTYPE=image/jpeg:https://ciemicr.org/wp-content/uploads/2024/07/Curso-Interpretacion-de-las-normas-ISO-IEC-17020-2012-9.jpg
END:VEVENT
END:VCALENDAR