BEGIN:VCALENDAR
VERSION:2.0
PRODID:-//CIEMI - ECPv6.15.13.1//NONSGML v1.0//EN
CALSCALE:GREGORIAN
METHOD:PUBLISH
X-ORIGINAL-URL:https://ciemicr.org
X-WR-CALDESC:Eventos para CIEMI
REFRESH-INTERVAL;VALUE=DURATION:PT1H
X-Robots-Tag:noindex
X-PUBLISHED-TTL:PT1H
BEGIN:VTIMEZONE
TZID:America/Costa_Rica
BEGIN:STANDARD
TZOFFSETFROM:-0600
TZOFFSETTO:-0600
TZNAME:CST
DTSTART:20230101T000000
END:STANDARD
END:VTIMEZONE
BEGIN:VEVENT
DTSTART;TZID=America/Costa_Rica:20241118T180000
DTEND;TZID=America/Costa_Rica:20241118T210000
DTSTAMP:20260420T231612
CREATED:20241031T171501Z
LAST-MODIFIED:20241031T194613Z
UID:10001527-1731952800-1731963600@ciemicr.org
SUMMARY:Curso Presupuesto de Obra Eléctrica
DESCRIPTION:Inscríbase  \nPrograma \n 
URL:https://ciemicr.org/eventosrefresh_css/curso-presupuesto-de-obra-electrica/
LOCATION:Virtual\, Costa Rica
CATEGORIES:Capacitaciones
ATTACH;FMTTYPE=image/jpeg:https://ciemicr.org/wp-content/uploads/2024/10/Curso-de-Presupuesto-para-Obra-Electrica-1.jpg
END:VEVENT
BEGIN:VEVENT
DTSTART;TZID=America/Costa_Rica:20241118T180000
DTEND;TZID=America/Costa_Rica:20241118T210000
DTSTAMP:20260420T231612
CREATED:20241031T171501Z
LAST-MODIFIED:20241031T171501Z
UID:10001942-1731952800-1731963600@ciemicr.org
SUMMARY:Curso Presupuesto de Obra Eléctrica
DESCRIPTION:Inscríbase  \nPrograma \n 
URL:https://ciemicr.org/eventosrefresh_css/curso-presupuesto-de-obra-electrica-2/
LOCATION:Virtual\, Costa Rica
CATEGORIES:Capacitaciones
ATTACH;FMTTYPE=image/jpeg:https://ciemicr.org/wp-content/uploads/2024/10/Curso-de-Presupuesto-para-Obra-Electrica-1.jpg
END:VEVENT
BEGIN:VEVENT
DTSTART;TZID=America/Costa_Rica:20241118T180000
DTEND;TZID=America/Costa_Rica:20241118T210000
DTSTAMP:20260420T231612
CREATED:20241031T171501Z
LAST-MODIFIED:20241031T171501Z
UID:10002360-1731952800-1731963600@ciemicr.org
SUMMARY:Curso Presupuesto de Obra Eléctrica
DESCRIPTION:Inscríbase  \nPrograma \n 
URL:https://ciemicr.org/eventosrefresh_css/curso-presupuesto-de-obra-electrica-3/
LOCATION:Virtual\, Costa Rica
CATEGORIES:Capacitaciones
ATTACH;FMTTYPE=image/jpeg:https://ciemicr.org/wp-content/uploads/2024/10/Curso-de-Presupuesto-para-Obra-Electrica-1.jpg
END:VEVENT
END:VCALENDAR