BEGIN:VCALENDAR
VERSION:2.0
PRODID:-//CIEMI - ECPv6.15.13.1//NONSGML v1.0//EN
CALSCALE:GREGORIAN
METHOD:PUBLISH
X-ORIGINAL-URL:https://ciemicr.org
X-WR-CALDESC:Eventos para CIEMI
REFRESH-INTERVAL;VALUE=DURATION:PT1H
X-Robots-Tag:noindex
X-PUBLISHED-TTL:PT1H
BEGIN:VTIMEZONE
TZID:America/Costa_Rica
BEGIN:STANDARD
TZOFFSETFROM:-0600
TZOFFSETTO:-0600
TZNAME:CST
DTSTART:20240101T000000
END:STANDARD
END:VTIMEZONE
BEGIN:VEVENT
DTSTART;TZID=America/Costa_Rica:20250219T180000
DTEND;TZID=America/Costa_Rica:20250219T210000
DTSTAMP:20260420T175654
CREATED:20241126T210152Z
LAST-MODIFIED:20241203T231636Z
UID:10001551-1739988000-1739998800@ciemicr.org
SUMMARY:Curso CAPDEE-M2: Diseño eléctrico residencial\, comercial e industrial
DESCRIPTION:Inscríbase \nPrograma
URL:https://ciemicr.org/eventosrefresh_css/curso-capdee-m2-diseno-electrico-residencial-comercial-e-industrial-9/
LOCATION:Virtual\, Costa Rica
CATEGORIES:Capacitaciones
ATTACH;FMTTYPE=image/jpeg:https://ciemicr.org/wp-content/uploads/2024/11/CAPDEE-M2-Diseno-electrico-residencial-comercial-e-industrial_1-ok.jpg
END:VEVENT
BEGIN:VEVENT
DTSTART;TZID=America/Costa_Rica:20250219T180000
DTEND;TZID=America/Costa_Rica:20250219T210000
DTSTAMP:20260420T175654
CREATED:20241126T210152Z
LAST-MODIFIED:20241126T210152Z
UID:10001964-1739988000-1739998800@ciemicr.org
SUMMARY:Curso CAPDEE-M2: Diseño eléctrico residencial\, comercial e industrial
DESCRIPTION:Inscríbase \nPrograma
URL:https://ciemicr.org/eventosrefresh_css/curso-capdee-m2-diseno-electrico-residencial-comercial-e-industrial-9-2/
LOCATION:Virtual\, Costa Rica
CATEGORIES:Capacitaciones
ATTACH;FMTTYPE=image/jpeg:https://ciemicr.org/wp-content/uploads/2024/11/CAPDEE-M2-Diseno-electrico-residencial-comercial-e-industrial_1-ok.jpg
END:VEVENT
BEGIN:VEVENT
DTSTART;TZID=America/Costa_Rica:20250219T180000
DTEND;TZID=America/Costa_Rica:20250219T210000
DTSTAMP:20260420T175654
CREATED:20241126T210152Z
LAST-MODIFIED:20241126T210152Z
UID:10002382-1739988000-1739998800@ciemicr.org
SUMMARY:Curso CAPDEE-M2: Diseño eléctrico residencial\, comercial e industrial
DESCRIPTION:Inscríbase \nPrograma
URL:https://ciemicr.org/eventosrefresh_css/curso-capdee-m2-diseno-electrico-residencial-comercial-e-industrial-9-3/
LOCATION:Virtual\, Costa Rica
CATEGORIES:Capacitaciones
ATTACH;FMTTYPE=image/jpeg:https://ciemicr.org/wp-content/uploads/2024/11/CAPDEE-M2-Diseno-electrico-residencial-comercial-e-industrial_1-ok.jpg
END:VEVENT
END:VCALENDAR