BEGIN:VCALENDAR
VERSION:2.0
PRODID:-//CIEMI - ECPv6.15.13.1//NONSGML v1.0//EN
CALSCALE:GREGORIAN
METHOD:PUBLISH
X-ORIGINAL-URL:https://ciemicr.org
X-WR-CALDESC:Eventos para CIEMI
REFRESH-INTERVAL;VALUE=DURATION:PT1H
X-Robots-Tag:noindex
X-PUBLISHED-TTL:PT1H
BEGIN:VTIMEZONE
TZID:America/Costa_Rica
BEGIN:STANDARD
TZOFFSETFROM:-0600
TZOFFSETTO:-0600
TZNAME:CST
DTSTART:20240101T000000
END:STANDARD
END:VTIMEZONE
BEGIN:VEVENT
DTSTART;TZID=America/Costa_Rica:20250415T160000
DTEND;TZID=America/Costa_Rica:20250415T160000
DTSTAMP:20260420T144224
CREATED:20250331T223023Z
LAST-MODIFIED:20250331T223023Z
UID:10002029-1744732800-1744732800@ciemicr.org
SUMMARY:Webinar Oportunidades para profesionales en ingeniería en Canadá
DESCRIPTION:Inscríbase
URL:https://ciemicr.org/eventosrefresh_css/webinar-oportunidades-para-profesionales-en-ingenieria-en-canada/
LOCATION:Virtual\, Costa Rica
CATEGORIES:Conferencias
ATTACH;FMTTYPE=image/jpeg:https://ciemicr.org/wp-content/uploads/2025/03/CIEMI.jpg
END:VEVENT
BEGIN:VEVENT
DTSTART;TZID=America/Costa_Rica:20250415T160000
DTEND;TZID=America/Costa_Rica:20250415T160000
DTSTAMP:20260420T144224
CREATED:20250331T223023Z
LAST-MODIFIED:20250331T223023Z
UID:10002447-1744732800-1744732800@ciemicr.org
SUMMARY:Webinar Oportunidades para profesionales en ingeniería en Canadá
DESCRIPTION:Inscríbase
URL:https://ciemicr.org/eventosrefresh_css/webinar-oportunidades-para-profesionales-en-ingenieria-en-canada-2/
LOCATION:Virtual\, Costa Rica
CATEGORIES:Conferencias
ATTACH;FMTTYPE=image/jpeg:https://ciemicr.org/wp-content/uploads/2025/03/CIEMI.jpg
END:VEVENT
END:VCALENDAR