BEGIN:VCALENDAR
VERSION:2.0
PRODID:-//CIEMI - ECPv6.15.13.1//NONSGML v1.0//EN
CALSCALE:GREGORIAN
METHOD:PUBLISH
X-WR-CALNAME:CIEMI
X-ORIGINAL-URL:https://ciemicr.org
X-WR-CALDESC:Eventos para CIEMI
REFRESH-INTERVAL;VALUE=DURATION:PT1H
X-Robots-Tag:noindex
X-PUBLISHED-TTL:PT1H
BEGIN:VTIMEZONE
TZID:America/Costa_Rica
BEGIN:STANDARD
TZOFFSETFROM:-0600
TZOFFSETTO:-0600
TZNAME:CST
DTSTART:20240101T000000
END:STANDARD
END:VTIMEZONE
BEGIN:VEVENT
DTSTART;TZID=America/Costa_Rica:20250903T044500
DTEND;TZID=America/Costa_Rica:20250903T044500
DTSTAMP:20260420T065030
CREATED:20250808T191719Z
LAST-MODIFIED:20250819T145110Z
UID:10002483-1756874700-1756874700@ciemicr.org
SUMMARY:Gira técnica:  Sistema de Almacenamiento Energético con Baterías (SAEB)
DESCRIPTION:Inscríbase
URL:https://ciemicr.org/eventosrefresh_css/gira-tecnica-sistema-de-almacenamiento-energetico-con-baterias-saeb-4/
CATEGORIES:Eventos
ATTACH;FMTTYPE=image/jpeg:https://ciemicr.org/wp-content/uploads/2025/08/Gira-Tecnica1-1.jpg
END:VEVENT
END:VCALENDAR