BEGIN:VCALENDAR
VERSION:2.0
PRODID:-//CIEMI - ECPv6.15.13.1//NONSGML v1.0//EN
CALSCALE:GREGORIAN
METHOD:PUBLISH
X-WR-CALNAME:CIEMI
X-ORIGINAL-URL:https://ciemicr.org
X-WR-CALDESC:Eventos para CIEMI
REFRESH-INTERVAL;VALUE=DURATION:PT1H
X-Robots-Tag:noindex
X-PUBLISHED-TTL:PT1H
BEGIN:VTIMEZONE
TZID:America/Costa_Rica
BEGIN:STANDARD
TZOFFSETFROM:-0600
TZOFFSETTO:-0600
TZNAME:CST
DTSTART:20250101T000000
END:STANDARD
END:VTIMEZONE
BEGIN:VEVENT
DTSTART;TZID=America/Costa_Rica:20260122T180000
DTEND;TZID=America/Costa_Rica:20260122T210000
DTSTAMP:20260420T013722
CREATED:20260109T152111Z
LAST-MODIFIED:20260119T194637Z
UID:10002549-1769104800-1769115600@ciemicr.org
SUMMARY:Webinar Nuevo formato de la Boleta de Solicitud de Sellado de Planos Eléctricos
DESCRIPTION:Inscríbase
URL:https://ciemicr.org/eventosrefresh_css/webinar-nuevo-formato-de-la-boleta-electrica/
LOCATION:Virtual\, Costa Rica
CATEGORIES:Conferencias
ATTACH;FMTTYPE=image/jpeg:https://ciemicr.org/wp-content/uploads/2026/01/FB-4.jpg
END:VEVENT
END:VCALENDAR