BEGIN:VCALENDAR
VERSION:2.0
PRODID:-//CIEMI - ECPv6.15.13.1//NONSGML v1.0//EN
CALSCALE:GREGORIAN
METHOD:PUBLISH
X-ORIGINAL-URL:https://ciemicr.org
X-WR-CALDESC:Eventos para CIEMI
REFRESH-INTERVAL;VALUE=DURATION:PT1H
X-Robots-Tag:noindex
X-PUBLISHED-TTL:PT1H
BEGIN:VTIMEZONE
TZID:America/Costa_Rica
BEGIN:STANDARD
TZOFFSETFROM:-0600
TZOFFSETTO:-0600
TZNAME:CST
DTSTART:20250101T000000
END:STANDARD
END:VTIMEZONE
BEGIN:VEVENT
DTSTART;TZID=America/Costa_Rica:20260319T100000
DTEND;TZID=America/Costa_Rica:20260319T100000
DTSTAMP:20260419T223947
CREATED:20260223T170925Z
LAST-MODIFIED:20260223T170925Z
UID:10002561-1773914400-1773914400@ciemicr.org
SUMMARY:Webinar Emigra a Canadá como profesional
DESCRIPTION:Inscríbase
URL:https://ciemicr.org/eventosrefresh_css/webinar-emigra-a-canada-como-profesional/
LOCATION:Virtual\, Costa Rica
CATEGORIES:Conferencias
ATTACH;FMTTYPE=image/jpeg:https://ciemicr.org/wp-content/uploads/2026/02/Ciemi-19-de-Marzo-1080x1350-1.jpg
END:VEVENT
BEGIN:VEVENT
DTSTART;TZID=America/Costa_Rica:20260319T180000
DTEND;TZID=America/Costa_Rica:20260319T210000
DTSTAMP:20260419T223947
CREATED:20251210T213222Z
LAST-MODIFIED:20260205T173308Z
UID:10002535-1773943200-1773954000@ciemicr.org
SUMMARY:Curso # 2 Norma NFPA 1 Código de Incendios
DESCRIPTION:Inscríbase  \nPrograma
URL:https://ciemicr.org/eventosrefresh_css/curso-2-norma-nfpa-1-codigo-de-incendios-6/
LOCATION:Virtual\, Costa Rica
CATEGORIES:Capacitaciones
ATTACH;FMTTYPE=image/jpeg:https://ciemicr.org/wp-content/uploads/2025/12/Curso2_NormaNFPA1.jpg
END:VEVENT
END:VCALENDAR