BEGIN:VCALENDAR
VERSION:2.0
PRODID:-//CIEMI - ECPv6.15.13.1//NONSGML v1.0//EN
CALSCALE:GREGORIAN
METHOD:PUBLISH
X-ORIGINAL-URL:https://ciemicr.org
X-WR-CALDESC:Eventos para CIEMI
REFRESH-INTERVAL;VALUE=DURATION:PT1H
X-Robots-Tag:noindex
X-PUBLISHED-TTL:PT1H
BEGIN:VTIMEZONE
TZID:America/Costa_Rica
BEGIN:STANDARD
TZOFFSETFROM:-0600
TZOFFSETTO:-0600
TZNAME:CST
DTSTART:20220101T000000
END:STANDARD
END:VTIMEZONE
BEGIN:VEVENT
DTSTART;TZID=America/Costa_Rica:20231102T180000
DTEND;TZID=America/Costa_Rica:20231102T210000
DTSTAMP:20260421T185627
CREATED:20230810T195138Z
LAST-MODIFIED:20231009T195745Z
UID:10000698-1698948000-1698958800@ciemicr.org
SUMMARY:Curso Componentes de las redes eléctricas de distribución
DESCRIPTION:Inscríbase aquí \nPrograma
URL:https://ciemicr.org/eventosrefresh_css/curso-componentes-de-las-redes-electricas-de-distribucion-modulo-ii/
LOCATION:Virtual\, Costa Rica
CATEGORIES:Capacitaciones
ATTACH;FMTTYPE=image/jpeg:https://ciemicr.org/wp-content/uploads/2023/08/Curso-Componentes-de-las-redes-electricas-de-distribucion-Modulo-II-3-1.jpg
END:VEVENT
BEGIN:VEVENT
DTSTART;TZID=America/Costa_Rica:20231102T180000
DTEND;TZID=America/Costa_Rica:20231102T210000
DTSTAMP:20260421T185627
CREATED:20230810T195138Z
LAST-MODIFIED:20230810T195138Z
UID:10001787-1698948000-1698958800@ciemicr.org
SUMMARY:Curso Componentes de las redes eléctricas de distribución
DESCRIPTION:Inscríbase aquí \nPrograma
URL:https://ciemicr.org/eventosrefresh_css/curso-componentes-de-las-redes-electricas-de-distribucion-modulo-ii-3/
LOCATION:Virtual\, Costa Rica
CATEGORIES:Capacitaciones
ATTACH;FMTTYPE=image/jpeg:https://ciemicr.org/wp-content/uploads/2023/08/Curso-Componentes-de-las-redes-electricas-de-distribucion-Modulo-II-3-1.jpg
END:VEVENT
BEGIN:VEVENT
DTSTART;TZID=America/Costa_Rica:20231102T180000
DTEND;TZID=America/Costa_Rica:20231102T210000
DTSTAMP:20260421T185627
CREATED:20230810T195138Z
LAST-MODIFIED:20230810T195138Z
UID:10002205-1698948000-1698958800@ciemicr.org
SUMMARY:Curso Componentes de las redes eléctricas de distribución
DESCRIPTION:Inscríbase aquí \nPrograma
URL:https://ciemicr.org/eventosrefresh_css/curso-componentes-de-las-redes-electricas-de-distribucion-modulo-ii-4/
LOCATION:Virtual\, Costa Rica
CATEGORIES:Capacitaciones
ATTACH;FMTTYPE=image/jpeg:https://ciemicr.org/wp-content/uploads/2023/08/Curso-Componentes-de-las-redes-electricas-de-distribucion-Modulo-II-3-1.jpg
END:VEVENT
BEGIN:VEVENT
DTSTART;TZID=America/Costa_Rica:20231106T180000
DTEND;TZID=America/Costa_Rica:20231106T210000
DTSTAMP:20260421T185627
CREATED:20230728T001201Z
LAST-MODIFIED:20230728T001201Z
UID:10001781-1699293600-1699304400@ciemicr.org
SUMMARY:Curso Fundamentos de sistemas de supresión contra incendios a base agua
DESCRIPTION:Regístrese aquí \nPrograma
URL:https://ciemicr.org/eventosrefresh_css/curso-fundamentos-de-sistemas-de-supresion-contra-incendios-a-base-agua-5/
LOCATION:Virtual\, Costa Rica
CATEGORIES:Capacitaciones
ATTACH;FMTTYPE=image/jpeg:https://ciemicr.org/wp-content/uploads/2023/07/Curso-Fundamentos-de-sistemas-de-supresion-contra-incendios-a-base-agua-.jpg
END:VEVENT
BEGIN:VEVENT
DTSTART;TZID=America/Costa_Rica:20231106T180000
DTEND;TZID=America/Costa_Rica:20231106T210000
DTSTAMP:20260421T185627
CREATED:20230728T001201Z
LAST-MODIFIED:20230728T001201Z
UID:10002199-1699293600-1699304400@ciemicr.org
SUMMARY:Curso Fundamentos de sistemas de supresión contra incendios a base agua
DESCRIPTION:Regístrese aquí \nPrograma
URL:https://ciemicr.org/eventosrefresh_css/curso-fundamentos-de-sistemas-de-supresion-contra-incendios-a-base-agua-6/
LOCATION:Virtual\, Costa Rica
CATEGORIES:Capacitaciones
ATTACH;FMTTYPE=image/jpeg:https://ciemicr.org/wp-content/uploads/2023/07/Curso-Fundamentos-de-sistemas-de-supresion-contra-incendios-a-base-agua-.jpg
END:VEVENT
BEGIN:VEVENT
DTSTART;TZID=America/Costa_Rica:20231106T180000
DTEND;TZID=America/Costa_Rica:20231106T210000
DTSTAMP:20260421T185627
CREATED:20230728T001201Z
LAST-MODIFIED:20230906T165241Z
UID:10000692-1699293600-1699304400@ciemicr.org
SUMMARY:Curso Fundamentos de sistemas de supresión contra incendios a base agua
DESCRIPTION:Regístrese aquí \nPrograma
URL:https://ciemicr.org/eventosrefresh_css/curso-fundamentos-de-sistemas-de-supresion-contra-incendios-a-base-agua/
LOCATION:Virtual\, Costa Rica
CATEGORIES:Capacitaciones
ATTACH;FMTTYPE=image/jpeg:https://ciemicr.org/wp-content/uploads/2023/07/Curso-Fundamentos-de-sistemas-de-supresion-contra-incendios-a-base-agua-.jpg
END:VEVENT
BEGIN:VEVENT
DTSTART;TZID=America/Costa_Rica:20231107T180000
DTEND;TZID=America/Costa_Rica:20231107T210000
DTSTAMP:20260421T185627
CREATED:20230731T194705Z
LAST-MODIFIED:20230731T194705Z
UID:10001786-1699380000-1699390800@ciemicr.org
SUMMARY:Curso Protección Sísmica y Soportería de los Sistemas Contra Incendio
DESCRIPTION:Regístrese aquí \nPrograma
URL:https://ciemicr.org/eventosrefresh_css/curso-proteccion-sismica-y-soporteria-de-los-sistemas-contra-incendio-5/
LOCATION:Virtual\, Costa Rica
CATEGORIES:Capacitaciones
ATTACH;FMTTYPE=image/jpeg:https://ciemicr.org/wp-content/uploads/2023/07/Curso-Proteccion-Sismica-y-Soporteria-de-los-Sistemas-Contra-Incendio-2.jpg
END:VEVENT
BEGIN:VEVENT
DTSTART;TZID=America/Costa_Rica:20231107T180000
DTEND;TZID=America/Costa_Rica:20231107T210000
DTSTAMP:20260421T185627
CREATED:20230731T194705Z
LAST-MODIFIED:20230906T165510Z
UID:10000697-1699380000-1699390800@ciemicr.org
SUMMARY:Curso Protección Sísmica y Soportería de los Sistemas Contra Incendio
DESCRIPTION:Regístrese aquí \nPrograma
URL:https://ciemicr.org/eventosrefresh_css/curso-proteccion-sismica-y-soporteria-de-los-sistemas-contra-incendio/
LOCATION:Virtual\, Costa Rica
CATEGORIES:Capacitaciones
ATTACH;FMTTYPE=image/jpeg:https://ciemicr.org/wp-content/uploads/2023/07/Curso-Proteccion-Sismica-y-Soporteria-de-los-Sistemas-Contra-Incendio-2.jpg
END:VEVENT
BEGIN:VEVENT
DTSTART;TZID=America/Costa_Rica:20231107T180000
DTEND;TZID=America/Costa_Rica:20231107T210000
DTSTAMP:20260421T185627
CREATED:20230731T194705Z
LAST-MODIFIED:20230731T194705Z
UID:10002204-1699380000-1699390800@ciemicr.org
SUMMARY:Curso Protección Sísmica y Soportería de los Sistemas Contra Incendio
DESCRIPTION:Regístrese aquí \nPrograma
URL:https://ciemicr.org/eventosrefresh_css/curso-proteccion-sismica-y-soporteria-de-los-sistemas-contra-incendio-6/
LOCATION:Virtual\, Costa Rica
CATEGORIES:Capacitaciones
ATTACH;FMTTYPE=image/jpeg:https://ciemicr.org/wp-content/uploads/2023/07/Curso-Proteccion-Sismica-y-Soporteria-de-los-Sistemas-Contra-Incendio-2.jpg
END:VEVENT
BEGIN:VEVENT
DTSTART;TZID=America/Costa_Rica:20231108T180000
DTEND;TZID=America/Costa_Rica:20231108T210000
DTSTAMP:20260421T185627
CREATED:20230728T002037Z
LAST-MODIFIED:20230728T002037Z
UID:10001782-1699466400-1699477200@ciemicr.org
SUMMARY:Curso Instalación de Sistemas Estacionarios de Almacenamiento de Energía acorde a la normativa NFPA 855
DESCRIPTION:Regístrese aquí \nPrograma
URL:https://ciemicr.org/eventosrefresh_css/curso-instalacion-de-sistemas-estacionarios-de-almacenamiento-de-energia-acorde-a-la-normativa-nfpa-855-3-3/
LOCATION:Virtual\, Costa Rica
CATEGORIES:Capacitaciones
ATTACH;FMTTYPE=image/jpeg:https://ciemicr.org/wp-content/uploads/2023/07/Curso-Instalacion-de-Sistemas-Estacionarios-de-Almacenamiento-de-Energia-acorde-a-la-normativa-NFPA-855-5.jpg
END:VEVENT
BEGIN:VEVENT
DTSTART;TZID=America/Costa_Rica:20231108T180000
DTEND;TZID=America/Costa_Rica:20231108T210000
DTSTAMP:20260421T185627
CREATED:20230728T002037Z
LAST-MODIFIED:20230728T002037Z
UID:10002200-1699466400-1699477200@ciemicr.org
SUMMARY:Curso Instalación de Sistemas Estacionarios de Almacenamiento de Energía acorde a la normativa NFPA 855
DESCRIPTION:Regístrese aquí \nPrograma
URL:https://ciemicr.org/eventosrefresh_css/curso-instalacion-de-sistemas-estacionarios-de-almacenamiento-de-energia-acorde-a-la-normativa-nfpa-855-3-4/
LOCATION:Virtual\, Costa Rica
CATEGORIES:Capacitaciones
ATTACH;FMTTYPE=image/jpeg:https://ciemicr.org/wp-content/uploads/2023/07/Curso-Instalacion-de-Sistemas-Estacionarios-de-Almacenamiento-de-Energia-acorde-a-la-normativa-NFPA-855-5.jpg
END:VEVENT
BEGIN:VEVENT
DTSTART;TZID=America/Costa_Rica:20231108T180000
DTEND;TZID=America/Costa_Rica:20231108T210000
DTSTAMP:20260421T185627
CREATED:20230728T002037Z
LAST-MODIFIED:20230825T175627Z
UID:10000693-1699466400-1699477200@ciemicr.org
SUMMARY:Curso Instalación de Sistemas Estacionarios de Almacenamiento de Energía acorde a la normativa NFPA 855
DESCRIPTION:Regístrese aquí \nPrograma
URL:https://ciemicr.org/eventosrefresh_css/curso-instalacion-de-sistemas-estacionarios-de-almacenamiento-de-energia-acorde-a-la-normativa-nfpa-855-3/
LOCATION:Virtual\, Costa Rica
CATEGORIES:Capacitaciones
ATTACH;FMTTYPE=image/jpeg:https://ciemicr.org/wp-content/uploads/2023/07/Curso-Instalacion-de-Sistemas-Estacionarios-de-Almacenamiento-de-Energia-acorde-a-la-normativa-NFPA-855-5.jpg
END:VEVENT
BEGIN:VEVENT
DTSTART;TZID=America/Costa_Rica:20231114T180000
DTEND;TZID=America/Costa_Rica:20231114T210000
DTSTAMP:20260421T185627
CREATED:20230927T210322Z
LAST-MODIFIED:20231106T180435Z
UID:10000718-1699984800-1699995600@ciemicr.org
SUMMARY:Curso Fundamentos de Diseño Industrial Inteligente con Creo Parametric
DESCRIPTION:Regístrese aquí \nPrograma
URL:https://ciemicr.org/eventosrefresh_css/curso-fundamentos-de-diseno-industrial-inteligente-con-creo-parametric/
LOCATION:Virtual\, Costa Rica
CATEGORIES:Capacitaciones
ATTACH;FMTTYPE=image/jpeg:https://ciemicr.org/wp-content/uploads/2023/09/Curso-Fundamentos-de-Diseno-Industrial-Inteligente-con-Creo-Parametric-2-1.jpg
END:VEVENT
BEGIN:VEVENT
DTSTART;TZID=America/Costa_Rica:20231114T180000
DTEND;TZID=America/Costa_Rica:20231114T210000
DTSTAMP:20260421T185627
CREATED:20230927T210322Z
LAST-MODIFIED:20230927T210322Z
UID:10002220-1699984800-1699995600@ciemicr.org
SUMMARY:Curso Fundamentos de Diseño Industrial Inteligente con Creo Parametric
DESCRIPTION:Regístrese aquí \nPrograma
URL:https://ciemicr.org/eventosrefresh_css/curso-fundamentos-de-diseno-industrial-inteligente-con-creo-parametric-4/
LOCATION:Virtual\, Costa Rica
CATEGORIES:Capacitaciones
ATTACH;FMTTYPE=image/jpeg:https://ciemicr.org/wp-content/uploads/2023/09/Curso-Fundamentos-de-Diseno-Industrial-Inteligente-con-Creo-Parametric-2-1.jpg
END:VEVENT
BEGIN:VEVENT
DTSTART;TZID=America/Costa_Rica:20231114T180000
DTEND;TZID=America/Costa_Rica:20231114T210000
DTSTAMP:20260421T185627
CREATED:20230927T210322Z
LAST-MODIFIED:20230927T210322Z
UID:10001802-1699984800-1699995600@ciemicr.org
SUMMARY:Curso Fundamentos de Diseño Industrial Inteligente con Creo Parametric
DESCRIPTION:Regístrese aquí \nPrograma
URL:https://ciemicr.org/eventosrefresh_css/curso-fundamentos-de-diseno-industrial-inteligente-con-creo-parametric-3/
LOCATION:Virtual\, Costa Rica
CATEGORIES:Capacitaciones
ATTACH;FMTTYPE=image/jpeg:https://ciemicr.org/wp-content/uploads/2023/09/Curso-Fundamentos-de-Diseno-Industrial-Inteligente-con-Creo-Parametric-2-1.jpg
END:VEVENT
BEGIN:VEVENT
DTSTART;TZID=America/Costa_Rica:20231116T180000
DTEND;TZID=America/Costa_Rica:20231116T210000
DTSTAMP:20260421T185627
CREATED:20230906T224847Z
LAST-MODIFIED:20230906T224847Z
UID:10002213-1700157600-1700168400@ciemicr.org
SUMMARY:Curso #1: Ingeniería de Fuego
DESCRIPTION:Regístrese aquí \nPrograma
URL:https://ciemicr.org/eventosrefresh_css/curso-1-ingenieria-de-fuego-2-4/
LOCATION:Virtual\, Costa Rica
CATEGORIES:Capacitaciones
ATTACH;FMTTYPE=image/jpeg:https://ciemicr.org/wp-content/uploads/2023/09/Curso-1-Ingenieria-de-Fuego222.jpeg
END:VEVENT
BEGIN:VEVENT
DTSTART;TZID=America/Costa_Rica:20231116T180000
DTEND;TZID=America/Costa_Rica:20231116T210000
DTSTAMP:20260421T185627
CREATED:20230906T224847Z
LAST-MODIFIED:20230906T224847Z
UID:10001795-1700157600-1700168400@ciemicr.org
SUMMARY:Curso #1: Ingeniería de Fuego
DESCRIPTION:Regístrese aquí \nPrograma
URL:https://ciemicr.org/eventosrefresh_css/curso-1-ingenieria-de-fuego-2-3/
LOCATION:Virtual\, Costa Rica
CATEGORIES:Capacitaciones
ATTACH;FMTTYPE=image/jpeg:https://ciemicr.org/wp-content/uploads/2023/09/Curso-1-Ingenieria-de-Fuego222.jpeg
END:VEVENT
BEGIN:VEVENT
DTSTART;TZID=America/Costa_Rica:20231116T180000
DTEND;TZID=America/Costa_Rica:20231116T210000
DTSTAMP:20260421T185627
CREATED:20230906T224847Z
LAST-MODIFIED:20231106T180124Z
UID:10000709-1700157600-1700168400@ciemicr.org
SUMMARY:Curso #1: Ingeniería de Fuego
DESCRIPTION:Regístrese aquí \nPrograma
URL:https://ciemicr.org/eventosrefresh_css/curso-1-ingenieria-de-fuego-2/
LOCATION:Virtual\, Costa Rica
CATEGORIES:Capacitaciones
ATTACH;FMTTYPE=image/jpeg:https://ciemicr.org/wp-content/uploads/2023/09/Curso-1-Ingenieria-de-Fuego222.jpeg
END:VEVENT
BEGIN:VEVENT
DTSTART;TZID=America/Costa_Rica:20231120T080000
DTEND;TZID=America/Costa_Rica:20231120T170000
DTSTAMP:20260421T185627
CREATED:20231120T201208Z
LAST-MODIFIED:20231120T201208Z
UID:10001824-1700467200-1700499600@ciemicr.org
SUMMARY:Curso Instalaciones eléctricas en lugares clasificados como peligrosos
DESCRIPTION:Inscríbase aquí
URL:https://ciemicr.org/eventosrefresh_css/curso-instalaciones-electricas-en-lugares-clasificados-como-peligrosos-4/
CATEGORIES:Capacitaciones
END:VEVENT
BEGIN:VEVENT
DTSTART;TZID=America/Costa_Rica:20231120T080000
DTEND;TZID=America/Costa_Rica:20231120T170000
DTSTAMP:20260421T185627
CREATED:20231120T201208Z
LAST-MODIFIED:20231120T201208Z
UID:10000743-1700467200-1700499600@ciemicr.org
SUMMARY:Curso Instalaciones eléctricas en lugares clasificados como peligrosos
DESCRIPTION:Inscríbase aquí
URL:https://ciemicr.org/eventosrefresh_css/curso-instalaciones-electricas-en-lugares-clasificados-como-peligrosos/
CATEGORIES:Capacitaciones
END:VEVENT
BEGIN:VEVENT
DTSTART;TZID=America/Costa_Rica:20231120T080000
DTEND;TZID=America/Costa_Rica:20231120T170000
DTSTAMP:20260421T185627
CREATED:20231120T201208Z
LAST-MODIFIED:20231120T201208Z
UID:10002242-1700467200-1700499600@ciemicr.org
SUMMARY:Curso Instalaciones eléctricas en lugares clasificados como peligrosos
DESCRIPTION:Inscríbase aquí
URL:https://ciemicr.org/eventosrefresh_css/curso-instalaciones-electricas-en-lugares-clasificados-como-peligrosos-5/
CATEGORIES:Capacitaciones
END:VEVENT
BEGIN:VEVENT
DTSTART;TZID=America/Costa_Rica:20231128T180000
DTEND;TZID=America/Costa_Rica:20231128T210000
DTSTAMP:20260421T185627
CREATED:20231020T145807Z
LAST-MODIFIED:20231020T145807Z
UID:10001812-1701194400-1701205200@ciemicr.org
SUMMARY:Curso de Neuroseguridad Laboral
DESCRIPTION:Inscríbase aquí \nPrograma
URL:https://ciemicr.org/eventosrefresh_css/curso-de-neuroseguridad-laboral-3/
LOCATION:Virtual\, Costa Rica
CATEGORIES:Capacitaciones
ATTACH;FMTTYPE=image/jpeg:https://ciemicr.org/wp-content/uploads/2023/10/Curso-de-Neuroseguridad-Laboral.jpg
END:VEVENT
BEGIN:VEVENT
DTSTART;TZID=America/Costa_Rica:20231128T180000
DTEND;TZID=America/Costa_Rica:20231128T210000
DTSTAMP:20260421T185627
CREATED:20231020T145807Z
LAST-MODIFIED:20231103T212718Z
UID:10000730-1701194400-1701205200@ciemicr.org
SUMMARY:Curso de Neuroseguridad Laboral
DESCRIPTION:Inscríbase aquí \nPrograma
URL:https://ciemicr.org/eventosrefresh_css/curso-de-neuroseguridad-laboral/
LOCATION:Virtual\, Costa Rica
CATEGORIES:Capacitaciones
ATTACH;FMTTYPE=image/jpeg:https://ciemicr.org/wp-content/uploads/2023/10/Curso-de-Neuroseguridad-Laboral.jpg
END:VEVENT
BEGIN:VEVENT
DTSTART;TZID=America/Costa_Rica:20231128T180000
DTEND;TZID=America/Costa_Rica:20231128T210000
DTSTAMP:20260421T185627
CREATED:20231020T145807Z
LAST-MODIFIED:20231020T145807Z
UID:10002230-1701194400-1701205200@ciemicr.org
SUMMARY:Curso de Neuroseguridad Laboral
DESCRIPTION:Inscríbase aquí \nPrograma
URL:https://ciemicr.org/eventosrefresh_css/curso-de-neuroseguridad-laboral-4/
LOCATION:Virtual\, Costa Rica
CATEGORIES:Capacitaciones
ATTACH;FMTTYPE=image/jpeg:https://ciemicr.org/wp-content/uploads/2023/10/Curso-de-Neuroseguridad-Laboral.jpg
END:VEVENT
END:VCALENDAR