BEGIN:VCALENDAR
VERSION:2.0
PRODID:-//CIEMI - ECPv6.15.13.1//NONSGML v1.0//EN
CALSCALE:GREGORIAN
METHOD:PUBLISH
X-ORIGINAL-URL:https://ciemicr.org
X-WR-CALDESC:Eventos para CIEMI
REFRESH-INTERVAL;VALUE=DURATION:PT1H
X-Robots-Tag:noindex
X-PUBLISHED-TTL:PT1H
BEGIN:VTIMEZONE
TZID:America/Costa_Rica
BEGIN:STANDARD
TZOFFSETFROM:-0600
TZOFFSETTO:-0600
TZNAME:CST
DTSTART:20230101T000000
END:STANDARD
END:VTIMEZONE
BEGIN:VEVENT
DTSTART;TZID=America/Costa_Rica:20240305T180000
DTEND;TZID=America/Costa_Rica:20240305T210000
DTSTAMP:20260421T125332
CREATED:20231120T144934Z
LAST-MODIFIED:20231204T211310Z
UID:10000738-1709661600-1709672400@ciemicr.org
SUMMARY:Curso CAPDEE-M3: Criterios de diseño desde el punto de vista de corrientes de cortocircuito
DESCRIPTION:Inscríbase aquí \nPrograma
URL:https://ciemicr.org/eventosrefresh_css/curso-capdee-m3criterios-de-diseno-desde-el-punto-de-vista-de-corrientes-de-cortocircuito/
LOCATION:Virtual\, Costa Rica
CATEGORIES:Capacitaciones
ATTACH;FMTTYPE=image/jpeg:https://ciemicr.org/wp-content/uploads/2023/11/CAPDEE-M3-Criterios-de-diseno-desde-el-punto-de-vista-de-corrientes-de-cortocircuito.jpg
END:VEVENT
BEGIN:VEVENT
DTSTART;TZID=America/Costa_Rica:20240305T180000
DTEND;TZID=America/Costa_Rica:20240305T210000
DTSTAMP:20260421T125332
CREATED:20231120T144934Z
LAST-MODIFIED:20231120T144934Z
UID:10002237-1709661600-1709672400@ciemicr.org
SUMMARY:Curso CAPDEE-M3: Criterios de diseño desde el punto de vista de corrientes de cortocircuito
DESCRIPTION:Inscríbase aquí \nPrograma
URL:https://ciemicr.org/eventosrefresh_css/curso-capdee-m3criterios-de-diseno-desde-el-punto-de-vista-de-corrientes-de-cortocircuito-4/
LOCATION:Virtual\, Costa Rica
CATEGORIES:Capacitaciones
ATTACH;FMTTYPE=image/jpeg:https://ciemicr.org/wp-content/uploads/2023/11/CAPDEE-M3-Criterios-de-diseno-desde-el-punto-de-vista-de-corrientes-de-cortocircuito.jpg
END:VEVENT
BEGIN:VEVENT
DTSTART;TZID=America/Costa_Rica:20240305T180000
DTEND;TZID=America/Costa_Rica:20240305T210000
DTSTAMP:20260421T125332
CREATED:20231120T144934Z
LAST-MODIFIED:20231120T144934Z
UID:10001819-1709661600-1709672400@ciemicr.org
SUMMARY:Curso CAPDEE-M3: Criterios de diseño desde el punto de vista de corrientes de cortocircuito
DESCRIPTION:Inscríbase aquí \nPrograma
URL:https://ciemicr.org/eventosrefresh_css/curso-capdee-m3criterios-de-diseno-desde-el-punto-de-vista-de-corrientes-de-cortocircuito-3/
LOCATION:Virtual\, Costa Rica
CATEGORIES:Capacitaciones
ATTACH;FMTTYPE=image/jpeg:https://ciemicr.org/wp-content/uploads/2023/11/CAPDEE-M3-Criterios-de-diseno-desde-el-punto-de-vista-de-corrientes-de-cortocircuito.jpg
END:VEVENT
BEGIN:VEVENT
DTSTART;TZID=America/Costa_Rica:20240312T170000
DTEND;TZID=America/Costa_Rica:20240312T200000
DTSTAMP:20260421T125332
CREATED:20240301T180433Z
LAST-MODIFIED:20240301T180433Z
UID:10002282-1710262800-1710273600@ciemicr.org
SUMMARY:Curso Creación de Dashboard con Power BI - Nivel básico
DESCRIPTION:Más información
URL:https://ciemicr.org/eventosrefresh_css/curso-creacion-de-dashboard-con-power-bi-nivel-basico-3/
LOCATION:Virtual\, Costa Rica
CATEGORIES:Capacitaciones
END:VEVENT
BEGIN:VEVENT
DTSTART;TZID=America/Costa_Rica:20240312T170000
DTEND;TZID=America/Costa_Rica:20240312T200000
DTSTAMP:20260421T125332
CREATED:20240301T180433Z
LAST-MODIFIED:20240301T180433Z
UID:10000793-1710262800-1710273600@ciemicr.org
SUMMARY:Curso Creación de Dashboard con Power BI - Nivel básico
DESCRIPTION:Más información
URL:https://ciemicr.org/eventosrefresh_css/curso-creacion-de-dashboard-con-power-bi-nivel-basico/
LOCATION:Virtual\, Costa Rica
CATEGORIES:Capacitaciones
END:VEVENT
BEGIN:VEVENT
DTSTART;TZID=America/Costa_Rica:20240312T170000
DTEND;TZID=America/Costa_Rica:20240312T200000
DTSTAMP:20260421T125332
CREATED:20240301T180433Z
LAST-MODIFIED:20240301T180433Z
UID:10001864-1710262800-1710273600@ciemicr.org
SUMMARY:Curso Creación de Dashboard con Power BI - Nivel básico
DESCRIPTION:Más información
URL:https://ciemicr.org/eventosrefresh_css/curso-creacion-de-dashboard-con-power-bi-nivel-basico-2/
LOCATION:Virtual\, Costa Rica
CATEGORIES:Capacitaciones
END:VEVENT
BEGIN:VEVENT
DTSTART;TZID=America/Costa_Rica:20240312T180000
DTEND;TZID=America/Costa_Rica:20240312T210000
DTSTAMP:20260421T125332
CREATED:20240111T164926Z
LAST-MODIFIED:20240227T213829Z
UID:10000768-1710266400-1710277200@ciemicr.org
SUMMARY:Curso Sistemas de Ventilación y control de la calidad del aire Industrial
DESCRIPTION:Inscríbase aquí \nPrograma
URL:https://ciemicr.org/eventosrefresh_css/curso-sistemas-de-ventilacion-y-control-de-la-calidad-del-aire-industrial/
LOCATION:Moodle CFIA\, Moodle CFIA\, San José\, Virtual\, Costa Rica
CATEGORIES:Capacitaciones
ATTACH;FMTTYPE=image/jpeg:https://ciemicr.org/wp-content/uploads/2024/01/Curso-Sistemas-de-Ventilacion-y-control-de-la-calidad-del-aire-Industrial-1.jpg
END:VEVENT
BEGIN:VEVENT
DTSTART;TZID=America/Costa_Rica:20240312T180000
DTEND;TZID=America/Costa_Rica:20240312T210000
DTSTAMP:20260421T125332
CREATED:20240111T164926Z
LAST-MODIFIED:20240111T164926Z
UID:10002260-1710266400-1710277200@ciemicr.org
SUMMARY:Curso Sistemas de Ventilación y control de la calidad del aire Industrial
DESCRIPTION:Inscríbase aquí \nPrograma
URL:https://ciemicr.org/eventosrefresh_css/curso-sistemas-de-ventilacion-y-control-de-la-calidad-del-aire-industrial-4/
LOCATION:Moodle CFIA\, Moodle CFIA\, San José\, Virtual\, Costa Rica
CATEGORIES:Capacitaciones
ATTACH;FMTTYPE=image/jpeg:https://ciemicr.org/wp-content/uploads/2024/01/Curso-Sistemas-de-Ventilacion-y-control-de-la-calidad-del-aire-Industrial-1.jpg
END:VEVENT
BEGIN:VEVENT
DTSTART;TZID=America/Costa_Rica:20240312T180000
DTEND;TZID=America/Costa_Rica:20240312T210000
DTSTAMP:20260421T125332
CREATED:20240111T164926Z
LAST-MODIFIED:20240111T164926Z
UID:10001842-1710266400-1710277200@ciemicr.org
SUMMARY:Curso Sistemas de Ventilación y control de la calidad del aire Industrial
DESCRIPTION:Inscríbase aquí \nPrograma
URL:https://ciemicr.org/eventosrefresh_css/curso-sistemas-de-ventilacion-y-control-de-la-calidad-del-aire-industrial-3/
LOCATION:Moodle CFIA\, Moodle CFIA\, San José\, Virtual\, Costa Rica
CATEGORIES:Capacitaciones
ATTACH;FMTTYPE=image/jpeg:https://ciemicr.org/wp-content/uploads/2024/01/Curso-Sistemas-de-Ventilacion-y-control-de-la-calidad-del-aire-Industrial-1.jpg
END:VEVENT
BEGIN:VEVENT
DTSTART;TZID=America/Costa_Rica:20240313T080000
DTEND;TZID=America/Costa_Rica:20240313T170000
DTSTAMP:20260421T125332
CREATED:20231128T155458Z
LAST-MODIFIED:20240304T171455Z
UID:10000761-1710316800-1710349200@ciemicr.org
SUMMARY:Curso NFPA 101: Código de Seguridad Humana
DESCRIPTION:Inscríbase aquí \nPrograma
URL:https://ciemicr.org/eventosrefresh_css/curso-nfpa-101-codigo-de-seguridad-humana/
LOCATION:CCCIEMI\, CIEMI\, CIEMI\, Costa Rica
CATEGORIES:Capacitaciones
ATTACH;FMTTYPE=image/jpeg:https://ciemicr.org/wp-content/uploads/2023/11/NFPA-101-Codigo-de-Seguridad-Humana.jpg
END:VEVENT
BEGIN:VEVENT
DTSTART;TZID=America/Costa_Rica:20240313T080000
DTEND;TZID=America/Costa_Rica:20240313T170000
DTSTAMP:20260421T125332
CREATED:20231128T155458Z
LAST-MODIFIED:20231128T155458Z
UID:10002255-1710316800-1710349200@ciemicr.org
SUMMARY:Curso NFPA 101: Código de Seguridad Humana
DESCRIPTION:Inscríbase aquí \nPrograma
URL:https://ciemicr.org/eventosrefresh_css/curso-nfpa-101-codigo-de-seguridad-humana-4/
LOCATION:CCCIEMI\, CIEMI\, CIEMI\, Costa Rica
CATEGORIES:Capacitaciones
ATTACH;FMTTYPE=image/jpeg:https://ciemicr.org/wp-content/uploads/2023/11/NFPA-101-Codigo-de-Seguridad-Humana.jpg
END:VEVENT
BEGIN:VEVENT
DTSTART;TZID=America/Costa_Rica:20240313T080000
DTEND;TZID=America/Costa_Rica:20240313T170000
DTSTAMP:20260421T125332
CREATED:20231128T155458Z
LAST-MODIFIED:20231128T155458Z
UID:10001837-1710316800-1710349200@ciemicr.org
SUMMARY:Curso NFPA 101: Código de Seguridad Humana
DESCRIPTION:Inscríbase aquí \nPrograma
URL:https://ciemicr.org/eventosrefresh_css/curso-nfpa-101-codigo-de-seguridad-humana-3/
LOCATION:CCCIEMI\, CIEMI\, CIEMI\, Costa Rica
CATEGORIES:Capacitaciones
ATTACH;FMTTYPE=image/jpeg:https://ciemicr.org/wp-content/uploads/2023/11/NFPA-101-Codigo-de-Seguridad-Humana.jpg
END:VEVENT
BEGIN:VEVENT
DTSTART;TZID=America/Costa_Rica:20240314T170000
DTEND;TZID=America/Costa_Rica:20240314T200000
DTSTAMP:20260421T125332
CREATED:20240301T180905Z
LAST-MODIFIED:20240301T180905Z
UID:10002283-1710435600-1710446400@ciemicr.org
SUMMARY:Curso Excel Intermadio
DESCRIPTION:Más información
URL:https://ciemicr.org/eventosrefresh_css/curso-excel-intermadio-3/
LOCATION:Virtual\, Costa Rica
CATEGORIES:Capacitaciones
END:VEVENT
BEGIN:VEVENT
DTSTART;TZID=America/Costa_Rica:20240314T170000
DTEND;TZID=America/Costa_Rica:20240314T200000
DTSTAMP:20260421T125332
CREATED:20240301T180905Z
LAST-MODIFIED:20240301T180905Z
UID:10001865-1710435600-1710446400@ciemicr.org
SUMMARY:Curso Excel Intermadio
DESCRIPTION:Más información
URL:https://ciemicr.org/eventosrefresh_css/curso-excel-intermadio-2/
LOCATION:Virtual\, Costa Rica
CATEGORIES:Capacitaciones
END:VEVENT
BEGIN:VEVENT
DTSTART;TZID=America/Costa_Rica:20240314T170000
DTEND;TZID=America/Costa_Rica:20240314T200000
DTSTAMP:20260421T125332
CREATED:20240301T180905Z
LAST-MODIFIED:20240301T180905Z
UID:10000794-1710435600-1710446400@ciemicr.org
SUMMARY:Curso Excel Intermadio
DESCRIPTION:Más información
URL:https://ciemicr.org/eventosrefresh_css/curso-excel-intermadio/
LOCATION:Virtual\, Costa Rica
CATEGORIES:Capacitaciones
END:VEVENT
BEGIN:VEVENT
DTSTART;TZID=America/Costa_Rica:20240314T180000
DTEND;TZID=America/Costa_Rica:20240314T210000
DTSTAMP:20260421T125332
CREATED:20231127T235931Z
LAST-MODIFIED:20231127T235931Z
UID:10001827-1710439200-1710450000@ciemicr.org
SUMMARY:Curso #3 Propiedades del Gas LP y Normativa Asociada a las Instalaciones de GLP
DESCRIPTION:Inscríbase aquí \nPrograma
URL:https://ciemicr.org/eventosrefresh_css/curso-3-propiedades-del-gas-lp-y-normativa-asociada-a-las-instalaciones-de-glp-3-2/
LOCATION:Virtual\, Costa Rica
CATEGORIES:Capacitaciones
ATTACH;FMTTYPE=image/jpeg:https://ciemicr.org/wp-content/uploads/2023/11/Curso-3-Propiedades-del-Gas-LP-y-Normativa-Asociada-a-las-Instalaciones-de-GLP-1.jpg
END:VEVENT
BEGIN:VEVENT
DTSTART;TZID=America/Costa_Rica:20240314T180000
DTEND;TZID=America/Costa_Rica:20240314T210000
DTSTAMP:20260421T125332
CREATED:20231127T235931Z
LAST-MODIFIED:20231127T235931Z
UID:10002245-1710439200-1710450000@ciemicr.org
SUMMARY:Curso #3 Propiedades del Gas LP y Normativa Asociada a las Instalaciones de GLP
DESCRIPTION:Inscríbase aquí \nPrograma
URL:https://ciemicr.org/eventosrefresh_css/curso-3-propiedades-del-gas-lp-y-normativa-asociada-a-las-instalaciones-de-glp-3-3/
LOCATION:Virtual\, Costa Rica
CATEGORIES:Capacitaciones
ATTACH;FMTTYPE=image/jpeg:https://ciemicr.org/wp-content/uploads/2023/11/Curso-3-Propiedades-del-Gas-LP-y-Normativa-Asociada-a-las-Instalaciones-de-GLP-1.jpg
END:VEVENT
BEGIN:VEVENT
DTSTART;TZID=America/Costa_Rica:20240314T180000
DTEND;TZID=America/Costa_Rica:20240314T210000
DTSTAMP:20260421T125332
CREATED:20231127T235931Z
LAST-MODIFIED:20231206T182346Z
UID:10000748-1710439200-1710450000@ciemicr.org
SUMMARY:Curso #3 Propiedades del Gas LP y Normativa Asociada a las Instalaciones de GLP
DESCRIPTION:Inscríbase aquí \nPrograma
URL:https://ciemicr.org/eventosrefresh_css/curso-3-propiedades-del-gas-lp-y-normativa-asociada-a-las-instalaciones-de-glp-3/
LOCATION:Virtual\, Costa Rica
CATEGORIES:Capacitaciones
ATTACH;FMTTYPE=image/jpeg:https://ciemicr.org/wp-content/uploads/2023/11/Curso-3-Propiedades-del-Gas-LP-y-Normativa-Asociada-a-las-Instalaciones-de-GLP-1.jpg
END:VEVENT
BEGIN:VEVENT
DTSTART;TZID=America/Costa_Rica:20240316T080000
DTEND;TZID=America/Costa_Rica:20240316T170000
DTSTAMP:20260421T125332
CREATED:20240126T215043Z
LAST-MODIFIED:20240126T215043Z
UID:10001851-1710576000-1710608400@ciemicr.org
SUMMARY:Curso Actualización de requerimientos de diseño e inspección para instalaciones eléctricas residenciales
DESCRIPTION:Programa  \nInscríbase aquí
URL:https://ciemicr.org/eventosrefresh_css/curso-actualizacion-de-requerimientos-de-diseno-e-inspeccion-para-instalaciones-electricas-residenciales-4-2/
LOCATION:CIEMI Ingenieros Electricistas\, CIEMI Ingenieros Electricistas\, Mecánicos e Industriales\, San José\, CIEMI
CATEGORIES:Capacitaciones
ATTACH;FMTTYPE=image/jpeg:https://ciemicr.org/wp-content/uploads/2024/01/Curso-Actualizacion-requerimientos-2.jpg
END:VEVENT
BEGIN:VEVENT
DTSTART;TZID=America/Costa_Rica:20240316T080000
DTEND;TZID=America/Costa_Rica:20240316T170000
DTSTAMP:20260421T125332
CREATED:20240126T215043Z
LAST-MODIFIED:20240126T215803Z
UID:10000777-1710576000-1710608400@ciemicr.org
SUMMARY:Curso Actualización de requerimientos de diseño e inspección para instalaciones eléctricas residenciales
DESCRIPTION:Programa  \nInscríbase aquí
URL:https://ciemicr.org/eventosrefresh_css/curso-actualizacion-de-requerimientos-de-diseno-e-inspeccion-para-instalaciones-electricas-residenciales-4/
LOCATION:CIEMI Ingenieros Electricistas\, CIEMI Ingenieros Electricistas\, Mecánicos e Industriales\, San José\, CIEMI
CATEGORIES:Capacitaciones
ATTACH;FMTTYPE=image/jpeg:https://ciemicr.org/wp-content/uploads/2024/01/Curso-Actualizacion-requerimientos-2.jpg
END:VEVENT
BEGIN:VEVENT
DTSTART;TZID=America/Costa_Rica:20240316T080000
DTEND;TZID=America/Costa_Rica:20240316T170000
DTSTAMP:20260421T125332
CREATED:20240126T215043Z
LAST-MODIFIED:20240126T215043Z
UID:10002269-1710576000-1710608400@ciemicr.org
SUMMARY:Curso Actualización de requerimientos de diseño e inspección para instalaciones eléctricas residenciales
DESCRIPTION:Programa  \nInscríbase aquí
URL:https://ciemicr.org/eventosrefresh_css/curso-actualizacion-de-requerimientos-de-diseno-e-inspeccion-para-instalaciones-electricas-residenciales-4-3/
LOCATION:CIEMI Ingenieros Electricistas\, CIEMI Ingenieros Electricistas\, Mecánicos e Industriales\, San José\, CIEMI
CATEGORIES:Capacitaciones
ATTACH;FMTTYPE=image/jpeg:https://ciemicr.org/wp-content/uploads/2024/01/Curso-Actualizacion-requerimientos-2.jpg
END:VEVENT
BEGIN:VEVENT
DTSTART;TZID=America/Costa_Rica:20240318T180000
DTEND;TZID=America/Costa_Rica:20240318T210000
DTSTAMP:20260421T125332
CREATED:20231128T002815Z
LAST-MODIFIED:20231128T002815Z
UID:10001832-1710784800-1710795600@ciemicr.org
SUMMARY:Curso Sistemas de bombeo contra incendios y de tubería vertical
DESCRIPTION:Inscríbase aquí \nPrograma
URL:https://ciemicr.org/eventosrefresh_css/curso-sistemas-de-bombeo-contra-incendios-y-de-tuberia-vertical-3/
LOCATION:Virtual\, Costa Rica
CATEGORIES:Capacitaciones
ATTACH;FMTTYPE=image/jpeg:https://ciemicr.org/wp-content/uploads/2023/11/Sistemas-de-bombeo-contra-incendios-y-de-tuberia-vertical.jpg
END:VEVENT
BEGIN:VEVENT
DTSTART;TZID=America/Costa_Rica:20240318T180000
DTEND;TZID=America/Costa_Rica:20240318T210000
DTSTAMP:20260421T125332
CREATED:20231128T002815Z
LAST-MODIFIED:20231128T002815Z
UID:10002250-1710784800-1710795600@ciemicr.org
SUMMARY:Curso Sistemas de bombeo contra incendios y de tubería vertical
DESCRIPTION:Inscríbase aquí \nPrograma
URL:https://ciemicr.org/eventosrefresh_css/curso-sistemas-de-bombeo-contra-incendios-y-de-tuberia-vertical-4/
LOCATION:Virtual\, Costa Rica
CATEGORIES:Capacitaciones
ATTACH;FMTTYPE=image/jpeg:https://ciemicr.org/wp-content/uploads/2023/11/Sistemas-de-bombeo-contra-incendios-y-de-tuberia-vertical.jpg
END:VEVENT
BEGIN:VEVENT
DTSTART;TZID=America/Costa_Rica:20240318T180000
DTEND;TZID=America/Costa_Rica:20240318T210000
DTSTAMP:20260421T125332
CREATED:20231128T002815Z
LAST-MODIFIED:20240229T161603Z
UID:10000754-1710784800-1710795600@ciemicr.org
SUMMARY:Curso Sistemas de bombeo contra incendios y de tubería vertical
DESCRIPTION:Inscríbase aquí \nPrograma
URL:https://ciemicr.org/eventosrefresh_css/curso-sistemas-de-bombeo-contra-incendios-y-de-tuberia-vertical/
LOCATION:Virtual\, Costa Rica
CATEGORIES:Capacitaciones
ATTACH;FMTTYPE=image/jpeg:https://ciemicr.org/wp-content/uploads/2023/11/Sistemas-de-bombeo-contra-incendios-y-de-tuberia-vertical.jpg
END:VEVENT
BEGIN:VEVENT
DTSTART;TZID=America/Costa_Rica:20240321T170000
DTEND;TZID=America/Costa_Rica:20240321T200000
DTSTAMP:20260421T125332
CREATED:20240301T175230Z
LAST-MODIFIED:20240301T175230Z
UID:10001863-1711040400-1711051200@ciemicr.org
SUMMARY:Curso Programa excel completo\, básico\, intermedio y avanzado
DESCRIPTION:Programa
URL:https://ciemicr.org/eventosrefresh_css/programa-excel-completo-basico-intermedio-y-avanzado-3/
LOCATION:Virtual\, Costa Rica
CATEGORIES:Capacitaciones
ATTACH;FMTTYPE=image/jpeg:https://ciemicr.org/wp-content/uploads/2024/03/excel-completo.jpg
END:VEVENT
BEGIN:VEVENT
DTSTART;TZID=America/Costa_Rica:20240321T170000
DTEND;TZID=America/Costa_Rica:20240321T200000
DTSTAMP:20260421T125332
CREATED:20240301T175230Z
LAST-MODIFIED:20240301T180939Z
UID:10000792-1711040400-1711051200@ciemicr.org
SUMMARY:Curso Programa excel completo\, básico\, intermedio y avanzado
DESCRIPTION:Programa
URL:https://ciemicr.org/eventosrefresh_css/programa-excel-completo-basico-intermedio-y-avanzado/
LOCATION:Virtual\, Costa Rica
CATEGORIES:Capacitaciones
ATTACH;FMTTYPE=image/jpeg:https://ciemicr.org/wp-content/uploads/2024/03/excel-completo.jpg
END:VEVENT
BEGIN:VEVENT
DTSTART;TZID=America/Costa_Rica:20240321T170000
DTEND;TZID=America/Costa_Rica:20240321T200000
DTSTAMP:20260421T125332
CREATED:20240301T175230Z
LAST-MODIFIED:20240301T175230Z
UID:10002281-1711040400-1711051200@ciemicr.org
SUMMARY:Curso Programa excel completo\, básico\, intermedio y avanzado
DESCRIPTION:Programa
URL:https://ciemicr.org/eventosrefresh_css/programa-excel-completo-basico-intermedio-y-avanzado-4/
LOCATION:Virtual\, Costa Rica
CATEGORIES:Capacitaciones
ATTACH;FMTTYPE=image/jpeg:https://ciemicr.org/wp-content/uploads/2024/03/excel-completo.jpg
END:VEVENT
END:VCALENDAR