BEGIN:VCALENDAR
VERSION:2.0
PRODID:-//CIEMI - ECPv6.15.13.1//NONSGML v1.0//EN
CALSCALE:GREGORIAN
METHOD:PUBLISH
X-WR-CALNAME:CIEMI
X-ORIGINAL-URL:https://ciemicr.org
X-WR-CALDESC:Eventos para CIEMI
REFRESH-INTERVAL;VALUE=DURATION:PT1H
X-Robots-Tag:noindex
X-PUBLISHED-TTL:PT1H
BEGIN:VTIMEZONE
TZID:America/Costa_Rica
BEGIN:STANDARD
TZOFFSETFROM:-0600
TZOFFSETTO:-0600
TZNAME:CST
DTSTART:20240101T000000
END:STANDARD
END:VTIMEZONE
BEGIN:VEVENT
DTSTART;TZID=America/Costa_Rica:20250506T180000
DTEND;TZID=America/Costa_Rica:20250506T210000
DTSTAMP:20260420T145949
CREATED:20250317T194937Z
LAST-MODIFIED:20250317T194937Z
UID:10002444-1746554400-1746565200@ciemicr.org
SUMMARY:Curso Introductorio a Calderas
DESCRIPTION:Inscríbase \nPrograma
URL:https://ciemicr.org/eventosrefresh_css/curso-introduccion-a-calderas-3/
CATEGORIES:Capacitaciones
ATTACH;FMTTYPE=image/png:https://ciemicr.org/wp-content/uploads/2025/03/Curso-Calderas.png
END:VEVENT
BEGIN:VEVENT
DTSTART;TZID=America/Costa_Rica:20250507T180000
DTEND;TZID=America/Costa_Rica:20250507T210000
DTSTAMP:20260420T145949
CREATED:20241121T211004Z
LAST-MODIFIED:20250225T151423Z
UID:10001539-1746640800-1746651600@ciemicr.org
SUMMARY:Curso Sistemas de suministro y distribución de agua potable\, I módulo
DESCRIPTION:Inscríbase \nPrograma
URL:https://ciemicr.org/eventosrefresh_css/curso-sistemas-de-suministro-y-distribucion-de-agua-potable-i-modulo-2/
LOCATION:Virtual\, Costa Rica
CATEGORIES:Capacitaciones
ATTACH;FMTTYPE=image/jpeg:https://ciemicr.org/wp-content/uploads/2024/11/Curso-Sistemas-de-suministro-y_distribucion-de-agua-potable_I-modulo.jpg
END:VEVENT
BEGIN:VEVENT
DTSTART;TZID=America/Costa_Rica:20250519T080000
DTEND;TZID=America/Costa_Rica:20250519T170000
DTSTAMP:20260420T145949
CREATED:20250211T221928Z
LAST-MODIFIED:20250211T221928Z
UID:10002413-1747641600-1747674000@ciemicr.org
SUMMARY:Curso FVOL 101: Diseño e Instalación Solar Eléctrica (Sistemas Interactivos) - en línea
DESCRIPTION:Inscríbase
URL:https://ciemicr.org/eventosrefresh_css/curso-fvol-101-diseno-e-instalacion-solar-electrica-sistemas-interactivos-en-linea-2-3/
LOCATION:Virtual\, Costa Rica
CATEGORIES:Capacitaciones
ATTACH;FMTTYPE=image/png:https://ciemicr.org/wp-content/uploads/2025/02/CIEMI_2025_FVOL101.png
END:VEVENT
BEGIN:VEVENT
DTSTART;TZID=America/Costa_Rica:20250519T080000
DTEND;TZID=America/Costa_Rica:20250519T170000
DTSTAMP:20260420T145949
CREATED:20250211T224307Z
LAST-MODIFIED:20250211T224307Z
UID:10002418-1747641600-1747674000@ciemicr.org
SUMMARY:Curso FVOL 202: Diseño Fotovoltaico Avanzado y el NEC (Sistemas Interactivos) - en línea
DESCRIPTION:Inscríbase \nPrograma
URL:https://ciemicr.org/eventosrefresh_css/curso-fvol-202-diseno-fotovoltaico-avanzado-y-el-nec-sistemas-interactivos-en-linea-6/
LOCATION:Virtual\, Costa Rica
CATEGORIES:Capacitaciones
ATTACH;FMTTYPE=image/png:https://ciemicr.org/wp-content/uploads/2025/02/CIEMI_2025_FVOL202.png
END:VEVENT
BEGIN:VEVENT
DTSTART;TZID=America/Costa_Rica:20250519T080000
DTEND;TZID=America/Costa_Rica:20250519T170000
DTSTAMP:20260420T145949
CREATED:20250225T162817Z
LAST-MODIFIED:20250225T164250Z
UID:10001600-1747641600-1747674000@ciemicr.org
SUMMARY:Curso PVOL304: Advanced PV Stand-alone System Design (Battery-Based) - en línea
DESCRIPTION:Inscríbase \nPrograma
URL:https://ciemicr.org/eventosrefresh_css/curso-pvol304-advanced-pv-stand-alone-system-design-battery-based-en-linea/
LOCATION:Virtual\, Costa Rica
CATEGORIES:Capacitaciones
ATTACH;FMTTYPE=image/png:https://ciemicr.org/wp-content/uploads/2025/02/CIEMI_2025_PVOL304.png
END:VEVENT
BEGIN:VEVENT
DTSTART;TZID=America/Costa_Rica:20250519T080000
DTEND;TZID=America/Costa_Rica:20250519T173000
DTSTAMP:20260420T145949
CREATED:20250224T175411Z
LAST-MODIFIED:20250303T150208Z
UID:10001594-1747641600-1747675800@ciemicr.org
SUMMARY:Curso NFPA 70\, Fundamentos de Código Eléctrico Nacional 2020
DESCRIPTION:Inscríbase \nPrograma
URL:https://ciemicr.org/eventosrefresh_css/curso-nfpa-70-codigo-electrico-nacional-2020/
LOCATION:CCCIEMI\, CIEMI\, CIEMI\, Costa Rica
CATEGORIES:Capacitaciones
ATTACH;FMTTYPE=image/jpeg:https://ciemicr.org/wp-content/uploads/2025/02/NFPA-70-.jpg
END:VEVENT
BEGIN:VEVENT
DTSTART;TZID=America/Costa_Rica:20250531T090000
DTEND;TZID=America/Costa_Rica:20250531T120000
DTSTAMP:20260420T145949
CREATED:20241121T224655Z
LAST-MODIFIED:20250526T163825Z
UID:10001958-1748682000-1748692800@ciemicr.org
SUMMARY:Curso ISO 14064-1 e INTE B5 Carbono neutralidad
DESCRIPTION:Inscríbase \nPrograma
URL:https://ciemicr.org/eventosrefresh_css/curso-en-iso-14064-1-e-inte-b5-2/
LOCATION:Virtual\, Costa Rica
CATEGORIES:Capacitaciones
ATTACH;FMTTYPE=image/jpeg:https://ciemicr.org/wp-content/uploads/2024/11/Curso-ISO-14064-1e-INTE-B5-2-2.jpg
END:VEVENT
END:VCALENDAR