BEGIN:VCALENDAR
VERSION:2.0
PRODID:-//CIEMI - ECPv6.15.13.1//NONSGML v1.0//EN
CALSCALE:GREGORIAN
METHOD:PUBLISH
X-ORIGINAL-URL:https://ciemicr.org
X-WR-CALDESC:Eventos para CIEMI
REFRESH-INTERVAL;VALUE=DURATION:PT1H
X-Robots-Tag:noindex
X-PUBLISHED-TTL:PT1H
BEGIN:VTIMEZONE
TZID:America/Costa_Rica
BEGIN:STANDARD
TZOFFSETFROM:-0600
TZOFFSETTO:-0600
TZNAME:CST
DTSTART:20240101T000000
END:STANDARD
END:VTIMEZONE
BEGIN:VEVENT
DTSTART;TZID=America/Costa_Rica:20250901T180000
DTEND;TZID=America/Costa_Rica:20250901T210000
DTSTAMP:20260420T084548
CREATED:20250807T170253Z
LAST-MODIFIED:20250812T170937Z
UID:10002482-1756749600-1756760400@ciemicr.org
SUMMARY:Curso Modificación y conversión de vehículos de carga. Módulo I: Introducción al estudio de vehículos de carga
DESCRIPTION:Regístrese  \nPrograma
URL:https://ciemicr.org/eventosrefresh_css/curso-modificacion-y-conversion-de-vehiculos-de-carga-modulo-i-introduccion-al-estudio-de-vehiculos-de-carga/
LOCATION:Virtual\, Costa Rica
CATEGORIES:Capacitaciones
ATTACH;FMTTYPE=image/jpeg:https://ciemicr.org/wp-content/uploads/2025/08/CURSO-1-1.jpg
END:VEVENT
BEGIN:VEVENT
DTSTART;TZID=America/Costa_Rica:20250902T083000
DTEND;TZID=America/Costa_Rica:20250902T113000
DTSTAMP:20260420T084548
CREATED:20250814T214617Z
LAST-MODIFIED:20250814T214617Z
UID:10002484-1756801800-1756812600@ciemicr.org
SUMMARY:Curso Programa excel completo: básico\, intermedio y avanzado
DESCRIPTION:Más información aquí
URL:https://ciemicr.org/eventosrefresh_css/curso-programa-excel-completo-basico-intermedio-y-avanzado/
LOCATION:Virtual\, Costa Rica
CATEGORIES:Capacitaciones
ATTACH;FMTTYPE=image/jpeg:https://ciemicr.org/wp-content/uploads/2025/08/01-PROGRAMA-EXCEL-COMPLETO-BASICO-INTERMEDIO-Y-AVANZADO2.jpg
END:VEVENT
BEGIN:VEVENT
DTSTART;TZID=America/Costa_Rica:20250902T180000
DTEND;TZID=America/Costa_Rica:20250902T210000
DTSTAMP:20260420T084548
CREATED:20241121T154228Z
LAST-MODIFIED:20250825T155050Z
UID:10001945-1756836000-1756846800@ciemicr.org
SUMMARY:Curso CAPDEE-M5: Diseño de Sistemas de puesta a tierra en las instalaciones eléctricas
DESCRIPTION:Inscríbase\nPrograma
URL:https://ciemicr.org/eventosrefresh_css/curso-capdee-m5-diseno-de-sistemas-de-puesta-a-tierra-en-las-instalaciones-electricas-5-2/
LOCATION:Virtual\, Costa Rica
CATEGORIES:Capacitaciones
ATTACH;FMTTYPE=image/jpeg:https://ciemicr.org/wp-content/uploads/2024/11/CAPDEE-M5-Diseno-de-Sistemas-de-puesta-a-tierra-en-las-instalaciones-electricas-1-1.jpg
END:VEVENT
BEGIN:VEVENT
DTSTART;TZID=America/Costa_Rica:20250904T180000
DTEND;TZID=America/Costa_Rica:20250904T210000
DTSTAMP:20260420T084548
CREATED:20250618T155529Z
LAST-MODIFIED:20250618T155713Z
UID:10002471-1757008800-1757019600@ciemicr.org
SUMMARY:Curso CAPDEE-M3: Criterios de diseño desde el punto de vista de corrientes de cortocircuito
DESCRIPTION:Inscríbase \nPrograma
URL:https://ciemicr.org/eventosrefresh_css/curso-capdee-m3-criterios-de-diseno-desde-el-punto-de-vista-de-corrientes-de-cortocircuito-5/
LOCATION:Virtual\, Costa Rica
CATEGORIES:Capacitaciones
ATTACH;FMTTYPE=image/jpeg:https://ciemicr.org/wp-content/uploads/2025/06/Curso-CAPDEE-M3-Criterios-de-diseno-desde-el-punto-devista-de-corrientes-de-cortocircuito.jpg
END:VEVENT
BEGIN:VEVENT
DTSTART;TZID=America/Costa_Rica:20250908T180000
DTEND;TZID=America/Costa_Rica:20250908T210000
DTSTAMP:20260420T084548
CREATED:20241128T200503Z
LAST-MODIFIED:20250818T224505Z
UID:10001562-1757354400-1757365200@ciemicr.org
SUMMARY:Curso Seguridad eléctrica y Arc-Flash basado en NFPA 70E\, IEEE 1584
DESCRIPTION:Inscríbase \nPrograma
URL:https://ciemicr.org/eventosrefresh_css/curso-seguridad-electrica-y-arc-flash-basado-en-nfpa-70e-ieee-1584-2/
LOCATION:Virtual\, Costa Rica
CATEGORIES:Capacitaciones
ATTACH;FMTTYPE=image/jpeg:https://ciemicr.org/wp-content/uploads/2024/11/Curso-Seguridad-electrica-y-Arc-Flash-basado-en-NFPA-70E-IEEE-1584.jpg
END:VEVENT
BEGIN:VEVENT
DTSTART;TZID=America/Costa_Rica:20250910T180000
DTEND;TZID=America/Costa_Rica:20250910T210000
DTSTAMP:20260420T084548
CREATED:20241121T225755Z
LAST-MODIFIED:20250812T170924Z
UID:10001546-1757527200-1757538000@ciemicr.org
SUMMARY:Curso Diseño de Sistemas Mecánicos para Piscinas
DESCRIPTION:Inscríbase \nPrograma
URL:https://ciemicr.org/eventosrefresh_css/curso-diseno-de-sistemas-mecanicos-para-piscinas-2/
LOCATION:Virtual\, Costa Rica
CATEGORIES:Capacitaciones
ATTACH;FMTTYPE=image/jpeg:https://ciemicr.org/wp-content/uploads/2024/11/Curso-Diseno-de-Sistemas-Mecanicos-para-Piscinas-1.jpg
END:VEVENT
BEGIN:VEVENT
DTSTART;TZID=America/Costa_Rica:20250922T080000
DTEND;TZID=America/Costa_Rica:20250922T170000
DTSTAMP:20260420T084548
CREATED:20250211T223731Z
LAST-MODIFIED:20250211T223731Z
UID:10001585-1758528000-1758560400@ciemicr.org
SUMMARY:Curso FVOL 101: Diseño e Instalación Solar Eléctrica (Sistemas Interactivos) - en línea
DESCRIPTION:Inscríbase
URL:https://ciemicr.org/eventosrefresh_css/curso-fvol-101-diseno-e-instalacion-solar-electrica-sistemas-interactivos-en-linea-5/
LOCATION:Virtual\, Costa Rica
CATEGORIES:Capacitaciones
ATTACH;FMTTYPE=image/png:https://ciemicr.org/wp-content/uploads/2025/02/CIEMI_2025_FVOL101.png
END:VEVENT
BEGIN:VEVENT
DTSTART;TZID=America/Costa_Rica:20250922T080000
DTEND;TZID=America/Costa_Rica:20250922T170000
DTSTAMP:20260420T084548
CREATED:20250211T225522Z
LAST-MODIFIED:20250211T225644Z
UID:10001592-1758528000-1758560400@ciemicr.org
SUMMARY:Curso FVOL 203: Fundamentos de Sistemas Fotovoltaicos basados en Baterías - en línea
DESCRIPTION:Inscríbase
URL:https://ciemicr.org/eventosrefresh_css/curso-fvol-203-fundamentos-de-sistemas-fotovoltaicos-basados-en-baterias-en-linea-4/
LOCATION:Virtual\, Costa Rica
CATEGORIES:Capacitaciones
ATTACH;FMTTYPE=image/png:https://ciemicr.org/wp-content/uploads/2025/02/CIEMI_2025_FVOL203.png
END:VEVENT
BEGIN:VEVENT
DTSTART;TZID=America/Costa_Rica:20250922T080000
DTEND;TZID=America/Costa_Rica:20250922T170000
DTSTAMP:20260420T084548
CREATED:20250225T162343Z
LAST-MODIFIED:20250225T162343Z
UID:10001599-1758528000-1758560400@ciemicr.org
SUMMARY:Curso PVOL303: Advanced PV Multimode & MicrogridDesign (Battery-based) - en línea
DESCRIPTION:Inscríbase \nPrograma
URL:https://ciemicr.org/eventosrefresh_css/curso-pvol303-advanced-pv-multimode-microgriddesign-battery-based-en-linea-3/
LOCATION:Virtual\, Costa Rica
CATEGORIES:Capacitaciones
ATTACH;FMTTYPE=image/png:https://ciemicr.org/wp-content/uploads/2025/02/CIEMI_2025_PVOL303.png
END:VEVENT
BEGIN:VEVENT
DTSTART;TZID=America/Costa_Rica:20250922T080000
DTEND;TZID=America/Costa_Rica:20250922T170000
DTSTAMP:20260420T084548
CREATED:20250225T163742Z
LAST-MODIFIED:20250225T163742Z
UID:10001604-1758528000-1758560400@ciemicr.org
SUMMARY:Curso PVOL350: Tools and Techniques for Operations& Maintenance - en línea
DESCRIPTION:Inscríbase \nPrograma
URL:https://ciemicr.org/eventosrefresh_css/curso-pvol350-tools-and-techniques-for-operations-maintenance-en-linea-3/
LOCATION:Virtual\, Costa Rica
CATEGORIES:Capacitaciones
ATTACH;FMTTYPE=image/png:https://ciemicr.org/wp-content/uploads/2025/02/CIEMI_2025_PVOL350.png
END:VEVENT
BEGIN:VEVENT
DTSTART;TZID=America/Costa_Rica:20250923T180000
DTEND;TZID=America/Costa_Rica:20250923T210000
DTSTAMP:20260420T084548
CREATED:20241128T200749Z
LAST-MODIFIED:20250605T171321Z
UID:10001563-1758650400-1758661200@ciemicr.org
SUMMARY:Curso #4 Inspectores de instalaciones de consumo\, almacenamiento y venta de Gas Licuado de Petróleo “Basado en NFPA 58
DESCRIPTION:Inscríbase \nPrograma
URL:https://ciemicr.org/eventosrefresh_css/curso-4-inspectores-de-instalaciones-de-consumo-almacenamiento-y-venta-de-gas-licuado-de-petroleo-basado-en-nfpa-58-4/
LOCATION:Virtual\, Costa Rica
CATEGORIES:Capacitaciones
ATTACH;FMTTYPE=image/jpeg:https://ciemicr.org/wp-content/uploads/2024/11/Curso-4-Inspectores-de-instalaciones-de-consumo-almacenamiento-y-venta-de-Gas-SET-1.jpg
END:VEVENT
END:VCALENDAR