BEGIN:VCALENDAR
VERSION:2.0
PRODID:-//CIEMI - ECPv6.15.13.1//NONSGML v1.0//EN
CALSCALE:GREGORIAN
METHOD:PUBLISH
X-WR-CALNAME:CIEMI
X-ORIGINAL-URL:https://ciemicr.org
X-WR-CALDESC:Eventos para CIEMI
REFRESH-INTERVAL;VALUE=DURATION:PT1H
X-Robots-Tag:noindex
X-PUBLISHED-TTL:PT1H
BEGIN:VTIMEZONE
TZID:America/Costa_Rica
BEGIN:STANDARD
TZOFFSETFROM:-0600
TZOFFSETTO:-0600
TZNAME:CST
DTSTART:20220101T000000
END:STANDARD
END:VTIMEZONE
BEGIN:VEVENT
DTSTART;TZID=America/Costa_Rica:20230626T080000
DTEND;TZID=America/Costa_Rica:20230626T080000
DTSTAMP:20260422T030608
CREATED:20230119T203756Z
LAST-MODIFIED:20230119T203756Z
UID:10000593-1687766400-1687766400@ciemicr.org
SUMMARY:Curso FVOL101: Diseño e Instalación Solar Eléctrica (sistemas interactivos) – en línea
DESCRIPTION:El objetivo de este curso es enseñar los aspectos fundamentales de un sistema fotovoltaico conectado a la red que un profesional en la industria debe de manejar
URL:https://ciemicr.org/eventosrefresh_css/curso-fvol101-diseno-e-instalacion-solar-electrica-sistemas-interactivos-en-linea-4/
LOCATION:Virtual\, Costa Rica
CATEGORIES:Capacitaciones
ATTACH;FMTTYPE=image/jpeg:https://ciemicr.org/wp-content/uploads/2023/01/CIEMI-2023-COURSES-05.jpg
END:VEVENT
BEGIN:VEVENT
DTSTART;TZID=America/Costa_Rica:20230626T080000
DTEND;TZID=America/Costa_Rica:20230626T080000
DTSTAMP:20260422T030608
CREATED:20230119T203756Z
LAST-MODIFIED:20230119T203756Z
UID:10001710-1687766400-1687766400@ciemicr.org
SUMMARY:Curso FVOL101: Diseño e Instalación Solar Eléctrica (sistemas interactivos) – en línea
DESCRIPTION:El objetivo de este curso es enseñar los aspectos fundamentales de un sistema fotovoltaico conectado a la red que un profesional en la industria debe de manejar
URL:https://ciemicr.org/eventosrefresh_css/curso-fvol101-diseno-e-instalacion-solar-electrica-sistemas-interactivos-en-linea-4-3/
LOCATION:Virtual\, Costa Rica
CATEGORIES:Capacitaciones
ATTACH;FMTTYPE=image/jpeg:https://ciemicr.org/wp-content/uploads/2023/01/CIEMI-2023-COURSES-05.jpg
END:VEVENT
BEGIN:VEVENT
DTSTART;TZID=America/Costa_Rica:20230626T080000
DTEND;TZID=America/Costa_Rica:20230626T080000
DTSTAMP:20260422T030608
CREATED:20230119T203756Z
LAST-MODIFIED:20230119T203756Z
UID:10002128-1687766400-1687766400@ciemicr.org
SUMMARY:Curso FVOL101: Diseño e Instalación Solar Eléctrica (sistemas interactivos) – en línea
DESCRIPTION:El objetivo de este curso es enseñar los aspectos fundamentales de un sistema fotovoltaico conectado a la red que un profesional en la industria debe de manejar
URL:https://ciemicr.org/eventosrefresh_css/curso-fvol101-diseno-e-instalacion-solar-electrica-sistemas-interactivos-en-linea-4-4/
LOCATION:Virtual\, Costa Rica
CATEGORIES:Capacitaciones
ATTACH;FMTTYPE=image/jpeg:https://ciemicr.org/wp-content/uploads/2023/01/CIEMI-2023-COURSES-05.jpg
END:VEVENT
BEGIN:VEVENT
DTSTART;TZID=America/Costa_Rica:20230626T080000
DTEND;TZID=America/Costa_Rica:20230626T080000
DTSTAMP:20260422T030608
CREATED:20230120T001420Z
LAST-MODIFIED:20230120T001420Z
UID:10000599-1687766400-1687766400@ciemicr.org
SUMMARY:Curso FVOL202: Diseño Fotovoltaico Avanzado y el Nec (Sistemas Interactivos) - en línea
DESCRIPTION:En este curso se estudian los detalles de ingeniería y diseño avanzados para el diseño eléctrico y la instalación de sistemas FV con recomendaciones de prácticas más utilizadas por profesionales en la industria. Existen muchos códigos eléctricos en países de habla hispana; este curso se basa en el que a la fecha es el más adoptado como base para muchos de ellos: el Código Eléctrico Nacional (NEC) de EE.UU. en su última versión en español\, 2014. El curso incluye los cambios pertinentes a sistemas FV publicados en el ciclo NEC 2017. Este curso combina presentaciones con audios de instructores profesionales\, ejercicios\, pruebas y ejemplos de diseño que contemplan múltiples consideraciones de diseño. El curso en línea es de 6 semanas de duración. El fin es continuar el programa de capacitación de Solar Energy International (SEI) con profesionales que diseñen\, inspeccionen\, e instalen sistemas FV seguros\, en cumplimiento con códigos eléctricos\, resultando en altos rendimientos y larga vida útil.
URL:https://ciemicr.org/eventosrefresh_css/curso-fvol202-diseno-fotovoltaico-avanzado-y-el-nec-sistemas-interactivos-en-linea-3/
LOCATION:Virtual\, Costa Rica
CATEGORIES:Capacitaciones
ATTACH;FMTTYPE=image/jpeg:https://ciemicr.org/wp-content/uploads/2023/01/CIEMI-2023-COURSES-04.jpg
END:VEVENT
BEGIN:VEVENT
DTSTART;TZID=America/Costa_Rica:20230626T080000
DTEND;TZID=America/Costa_Rica:20230626T080000
DTSTAMP:20260422T030608
CREATED:20230120T001420Z
LAST-MODIFIED:20230120T001420Z
UID:10001715-1687766400-1687766400@ciemicr.org
SUMMARY:Curso FVOL202: Diseño Fotovoltaico Avanzado y el Nec (Sistemas Interactivos) - en línea
DESCRIPTION:En este curso se estudian los detalles de ingeniería y diseño avanzados para el diseño eléctrico y la instalación de sistemas FV con recomendaciones de prácticas más utilizadas por profesionales en la industria. Existen muchos códigos eléctricos en países de habla hispana; este curso se basa en el que a la fecha es el más adoptado como base para muchos de ellos: el Código Eléctrico Nacional (NEC) de EE.UU. en su última versión en español\, 2014. El curso incluye los cambios pertinentes a sistemas FV publicados en el ciclo NEC 2017. Este curso combina presentaciones con audios de instructores profesionales\, ejercicios\, pruebas y ejemplos de diseño que contemplan múltiples consideraciones de diseño. El curso en línea es de 6 semanas de duración. El fin es continuar el programa de capacitación de Solar Energy International (SEI) con profesionales que diseñen\, inspeccionen\, e instalen sistemas FV seguros\, en cumplimiento con códigos eléctricos\, resultando en altos rendimientos y larga vida útil.
URL:https://ciemicr.org/eventosrefresh_css/curso-fvol202-diseno-fotovoltaico-avanzado-y-el-nec-sistemas-interactivos-en-linea-3-3/
LOCATION:Virtual\, Costa Rica
CATEGORIES:Capacitaciones
ATTACH;FMTTYPE=image/jpeg:https://ciemicr.org/wp-content/uploads/2023/01/CIEMI-2023-COURSES-04.jpg
END:VEVENT
BEGIN:VEVENT
DTSTART;TZID=America/Costa_Rica:20230626T080000
DTEND;TZID=America/Costa_Rica:20230626T080000
DTSTAMP:20260422T030608
CREATED:20230120T001420Z
LAST-MODIFIED:20230120T001420Z
UID:10002133-1687766400-1687766400@ciemicr.org
SUMMARY:Curso FVOL202: Diseño Fotovoltaico Avanzado y el Nec (Sistemas Interactivos) - en línea
DESCRIPTION:En este curso se estudian los detalles de ingeniería y diseño avanzados para el diseño eléctrico y la instalación de sistemas FV con recomendaciones de prácticas más utilizadas por profesionales en la industria. Existen muchos códigos eléctricos en países de habla hispana; este curso se basa en el que a la fecha es el más adoptado como base para muchos de ellos: el Código Eléctrico Nacional (NEC) de EE.UU. en su última versión en español\, 2014. El curso incluye los cambios pertinentes a sistemas FV publicados en el ciclo NEC 2017. Este curso combina presentaciones con audios de instructores profesionales\, ejercicios\, pruebas y ejemplos de diseño que contemplan múltiples consideraciones de diseño. El curso en línea es de 6 semanas de duración. El fin es continuar el programa de capacitación de Solar Energy International (SEI) con profesionales que diseñen\, inspeccionen\, e instalen sistemas FV seguros\, en cumplimiento con códigos eléctricos\, resultando en altos rendimientos y larga vida útil.
URL:https://ciemicr.org/eventosrefresh_css/curso-fvol202-diseno-fotovoltaico-avanzado-y-el-nec-sistemas-interactivos-en-linea-3-4/
LOCATION:Virtual\, Costa Rica
CATEGORIES:Capacitaciones
ATTACH;FMTTYPE=image/jpeg:https://ciemicr.org/wp-content/uploads/2023/01/CIEMI-2023-COURSES-04.jpg
END:VEVENT
BEGIN:VEVENT
DTSTART;TZID=America/Costa_Rica:20230626T080000
DTEND;TZID=America/Costa_Rica:20230626T080000
DTSTAMP:20260422T030608
CREATED:20230120T004029Z
LAST-MODIFIED:20230120T004029Z
UID:10000603-1687766400-1687766400@ciemicr.org
SUMMARY:Curso FVOL203: Fundamentos de sistemas fotovoltaicos basados en baterías – en línea
DESCRIPTION:l objetivo principal de este curso es brindarle al estudiante los fundamentos técnicos necesarios para comprender la gran mayoría de sistemas FV basados en baterías en el mercado hoy.
URL:https://ciemicr.org/eventosrefresh_css/curso-fvol203-fundamentos-de-sistemas-fotovoltaicos-basados-en-baterias-en-linea-4/
LOCATION:Virtual\, Costa Rica
CATEGORIES:Capacitaciones
ATTACH;FMTTYPE=image/jpeg:https://ciemicr.org/wp-content/uploads/2023/01/CIEMI-2023-COURSES-06.jpg
END:VEVENT
BEGIN:VEVENT
DTSTART;TZID=America/Costa_Rica:20230626T080000
DTEND;TZID=America/Costa_Rica:20230626T080000
DTSTAMP:20260422T030608
CREATED:20230120T004029Z
LAST-MODIFIED:20230120T004029Z
UID:10001720-1687766400-1687766400@ciemicr.org
SUMMARY:Curso FVOL203: Fundamentos de sistemas fotovoltaicos basados en baterías – en línea
DESCRIPTION:l objetivo principal de este curso es brindarle al estudiante los fundamentos técnicos necesarios para comprender la gran mayoría de sistemas FV basados en baterías en el mercado hoy.
URL:https://ciemicr.org/eventosrefresh_css/curso-fvol203-fundamentos-de-sistemas-fotovoltaicos-basados-en-baterias-en-linea-4-3/
LOCATION:Virtual\, Costa Rica
CATEGORIES:Capacitaciones
ATTACH;FMTTYPE=image/jpeg:https://ciemicr.org/wp-content/uploads/2023/01/CIEMI-2023-COURSES-06.jpg
END:VEVENT
BEGIN:VEVENT
DTSTART;TZID=America/Costa_Rica:20230626T080000
DTEND;TZID=America/Costa_Rica:20230626T080000
DTSTAMP:20260422T030608
CREATED:20230120T004029Z
LAST-MODIFIED:20230120T004029Z
UID:10002138-1687766400-1687766400@ciemicr.org
SUMMARY:Curso FVOL203: Fundamentos de sistemas fotovoltaicos basados en baterías – en línea
DESCRIPTION:l objetivo principal de este curso es brindarle al estudiante los fundamentos técnicos necesarios para comprender la gran mayoría de sistemas FV basados en baterías en el mercado hoy.
URL:https://ciemicr.org/eventosrefresh_css/curso-fvol203-fundamentos-de-sistemas-fotovoltaicos-basados-en-baterias-en-linea-4-4/
LOCATION:Virtual\, Costa Rica
CATEGORIES:Capacitaciones
ATTACH;FMTTYPE=image/jpeg:https://ciemicr.org/wp-content/uploads/2023/01/CIEMI-2023-COURSES-06.jpg
END:VEVENT
END:VCALENDAR