BEGIN:VCALENDAR
VERSION:2.0
PRODID:-//CIEMI - ECPv6.15.13.1//NONSGML v1.0//EN
CALSCALE:GREGORIAN
METHOD:PUBLISH
X-WR-CALNAME:CIEMI
X-ORIGINAL-URL:https://ciemicr.org
X-WR-CALDESC:Eventos para CIEMI
REFRESH-INTERVAL;VALUE=DURATION:PT1H
X-Robots-Tag:noindex
X-PUBLISHED-TTL:PT1H
BEGIN:VTIMEZONE
TZID:America/Costa_Rica
BEGIN:STANDARD
TZOFFSETFROM:-0600
TZOFFSETTO:-0600
TZNAME:CST
DTSTART:20220101T000000
END:STANDARD
END:VTIMEZONE
BEGIN:VEVENT
DTSTART;TZID=America/Costa_Rica:20230807T080000
DTEND;TZID=America/Costa_Rica:20230807T080000
DTSTAMP:20260422T003448
CREATED:20230119T235010Z
LAST-MODIFIED:20230808T142508Z
UID:10000596-1691395200-1691395200@ciemicr.org
SUMMARY:Curso FVOL101: Diseño e Instalación Solar Eléctrica (sistemas interactivos) – en línea
DESCRIPTION:Inscríbase aquí \nPrograma
URL:https://ciemicr.org/eventosrefresh_css/curso-fvol101-diseno-e-instalacion-solar-electrica-sistemas-interactivos-en-linea-7/
LOCATION:Virtual\, Costa Rica
CATEGORIES:Capacitaciones
ATTACH;FMTTYPE=image/png:https://ciemicr.org/wp-content/uploads/2023/01/CIEMI-2023-COURSES-04-1.png
END:VEVENT
BEGIN:VEVENT
DTSTART;TZID=America/Costa_Rica:20230807T080000
DTEND;TZID=America/Costa_Rica:20230807T080000
DTSTAMP:20260422T003448
CREATED:20230119T235010Z
LAST-MODIFIED:20230119T235010Z
UID:10001708-1691395200-1691395200@ciemicr.org
SUMMARY:Curso FVOL101: Diseño e Instalación Solar Eléctrica (sistemas interactivos) – en línea
DESCRIPTION:Inscríbase aquí \nPrograma
URL:https://ciemicr.org/eventosrefresh_css/curso-fvol101-diseno-e-instalacion-solar-electrica-sistemas-interactivos-en-linea-7-3/
LOCATION:Virtual\, Costa Rica
CATEGORIES:Capacitaciones
ATTACH;FMTTYPE=image/png:https://ciemicr.org/wp-content/uploads/2023/01/CIEMI-2023-COURSES-04-1.png
END:VEVENT
BEGIN:VEVENT
DTSTART;TZID=America/Costa_Rica:20230807T080000
DTEND;TZID=America/Costa_Rica:20230807T080000
DTSTAMP:20260422T003448
CREATED:20230119T235010Z
LAST-MODIFIED:20230119T235010Z
UID:10002126-1691395200-1691395200@ciemicr.org
SUMMARY:Curso FVOL101: Diseño e Instalación Solar Eléctrica (sistemas interactivos) – en línea
DESCRIPTION:Inscríbase aquí \nPrograma
URL:https://ciemicr.org/eventosrefresh_css/curso-fvol101-diseno-e-instalacion-solar-electrica-sistemas-interactivos-en-linea-7-4/
LOCATION:Virtual\, Costa Rica
CATEGORIES:Capacitaciones
ATTACH;FMTTYPE=image/png:https://ciemicr.org/wp-content/uploads/2023/01/CIEMI-2023-COURSES-04-1.png
END:VEVENT
BEGIN:VEVENT
DTSTART;TZID=America/Costa_Rica:20230807T080000
DTEND;TZID=America/Costa_Rica:20230807T170000
DTSTAMP:20260422T003448
CREATED:20230323T221241Z
LAST-MODIFIED:20230523T171731Z
UID:10000643-1691395200-1691427600@ciemicr.org
SUMMARY:Curso Diseño de Sistemas Rociadores en Riesgos por Ocupación
DESCRIPTION:Regístrese aquí \nConsulte el programa aquí  \n 
URL:https://ciemicr.org/eventosrefresh_css/curso-diseno-de-sistemas-rociadores-en-riesgos-por-ocupacion/
LOCATION:CCCIEMI\, CIEMI\, CIEMI\, Costa Rica
CATEGORIES:Capacitaciones
ATTACH;FMTTYPE=image/jpeg:https://ciemicr.org/wp-content/uploads/2023/03/Curso-Diseno-de-Sistemas-Rociadores-en-Riesgos-por-Ocupacion-4.jpg
END:VEVENT
BEGIN:VEVENT
DTSTART;TZID=America/Costa_Rica:20230807T080000
DTEND;TZID=America/Costa_Rica:20230807T170000
DTSTAMP:20260422T003448
CREATED:20230323T221241Z
LAST-MODIFIED:20230323T221241Z
UID:10001749-1691395200-1691427600@ciemicr.org
SUMMARY:Curso Diseño de Sistemas Rociadores en Riesgos por Ocupación
DESCRIPTION:Regístrese aquí \nConsulte el programa aquí  \n 
URL:https://ciemicr.org/eventosrefresh_css/curso-diseno-de-sistemas-rociadores-en-riesgos-por-ocupacion-3/
LOCATION:CCCIEMI\, CIEMI\, CIEMI\, Costa Rica
CATEGORIES:Capacitaciones
ATTACH;FMTTYPE=image/jpeg:https://ciemicr.org/wp-content/uploads/2023/03/Curso-Diseno-de-Sistemas-Rociadores-en-Riesgos-por-Ocupacion-4.jpg
END:VEVENT
BEGIN:VEVENT
DTSTART;TZID=America/Costa_Rica:20230807T080000
DTEND;TZID=America/Costa_Rica:20230807T170000
DTSTAMP:20260422T003448
CREATED:20230323T221241Z
LAST-MODIFIED:20230323T221241Z
UID:10002167-1691395200-1691427600@ciemicr.org
SUMMARY:Curso Diseño de Sistemas Rociadores en Riesgos por Ocupación
DESCRIPTION:Regístrese aquí \nConsulte el programa aquí  \n 
URL:https://ciemicr.org/eventosrefresh_css/curso-diseno-de-sistemas-rociadores-en-riesgos-por-ocupacion-4/
LOCATION:CCCIEMI\, CIEMI\, CIEMI\, Costa Rica
CATEGORIES:Capacitaciones
ATTACH;FMTTYPE=image/jpeg:https://ciemicr.org/wp-content/uploads/2023/03/Curso-Diseno-de-Sistemas-Rociadores-en-Riesgos-por-Ocupacion-4.jpg
END:VEVENT
END:VCALENDAR