BEGIN:VCALENDAR
VERSION:2.0
PRODID:-//CIEMI - ECPv6.15.13.1//NONSGML v1.0//EN
CALSCALE:GREGORIAN
METHOD:PUBLISH
X-ORIGINAL-URL:https://ciemicr.org
X-WR-CALDESC:Eventos para CIEMI
REFRESH-INTERVAL;VALUE=DURATION:PT1H
X-Robots-Tag:noindex
X-PUBLISHED-TTL:PT1H
BEGIN:VTIMEZONE
TZID:America/Costa_Rica
BEGIN:STANDARD
TZOFFSETFROM:-0600
TZOFFSETTO:-0600
TZNAME:CST
DTSTART:20220101T000000
END:STANDARD
END:VTIMEZONE
BEGIN:VEVENT
DTSTART;TZID=America/Costa_Rica:20230808T180000
DTEND;TZID=America/Costa_Rica:20230808T210000
DTSTAMP:20260422T003704
CREATED:20230425T140057Z
LAST-MODIFIED:20230508T162840Z
UID:10000653-1691517600-1691528400@ciemicr.org
SUMMARY:Curso CAPDEE M4: Criterios de diseño desde el punto de vista de corrientes de coordinación de protecciones
DESCRIPTION:Proporcionar a los profesionales en ingeniería eléctrica los conocimientos necesarios para el diseño de sistemas de protección\, según el tipo de elemento a proteger\, de manera que  se  logre  un  buen desempeño y  la  confiabilidad de  los  sistemas  eléctricos  mediante  una  adecuada  coordinación de protecciones.
URL:https://ciemicr.org/eventosrefresh_css/curso-capdee-m4-criterios-de-diseno-desde-el-punto-de-vista-de-corrientes-de-coordinacion-de-protecciones-2/
LOCATION:Virtual\, Costa Rica
CATEGORIES:Capacitaciones
ATTACH;FMTTYPE=image/jpeg:https://ciemicr.org/wp-content/uploads/2023/04/CAPDEE-M4-Criterios-de-diseno-desde-el-punto-de-vista-de-corrientes-de-coordinacion-de-protecciones.jpg
END:VEVENT
BEGIN:VEVENT
DTSTART;TZID=America/Costa_Rica:20230808T180000
DTEND;TZID=America/Costa_Rica:20230808T210000
DTSTAMP:20260422T003704
CREATED:20230425T140057Z
LAST-MODIFIED:20230425T140057Z
UID:10001756-1691517600-1691528400@ciemicr.org
SUMMARY:Curso CAPDEE M4: Criterios de diseño desde el punto de vista de corrientes de coordinación de protecciones
DESCRIPTION:Proporcionar a los profesionales en ingeniería eléctrica los conocimientos necesarios para el diseño de sistemas de protección\, según el tipo de elemento a proteger\, de manera que  se  logre  un  buen desempeño y  la  confiabilidad de  los  sistemas  eléctricos  mediante  una  adecuada  coordinación de protecciones.
URL:https://ciemicr.org/eventosrefresh_css/curso-capdee-m4-criterios-de-diseno-desde-el-punto-de-vista-de-corrientes-de-coordinacion-de-protecciones-2-3/
LOCATION:Virtual\, Costa Rica
CATEGORIES:Capacitaciones
ATTACH;FMTTYPE=image/jpeg:https://ciemicr.org/wp-content/uploads/2023/04/CAPDEE-M4-Criterios-de-diseno-desde-el-punto-de-vista-de-corrientes-de-coordinacion-de-protecciones.jpg
END:VEVENT
BEGIN:VEVENT
DTSTART;TZID=America/Costa_Rica:20230808T180000
DTEND;TZID=America/Costa_Rica:20230808T210000
DTSTAMP:20260422T003704
CREATED:20230425T140057Z
LAST-MODIFIED:20230425T140057Z
UID:10002174-1691517600-1691528400@ciemicr.org
SUMMARY:Curso CAPDEE M4: Criterios de diseño desde el punto de vista de corrientes de coordinación de protecciones
DESCRIPTION:Proporcionar a los profesionales en ingeniería eléctrica los conocimientos necesarios para el diseño de sistemas de protección\, según el tipo de elemento a proteger\, de manera que  se  logre  un  buen desempeño y  la  confiabilidad de  los  sistemas  eléctricos  mediante  una  adecuada  coordinación de protecciones.
URL:https://ciemicr.org/eventosrefresh_css/curso-capdee-m4-criterios-de-diseno-desde-el-punto-de-vista-de-corrientes-de-coordinacion-de-protecciones-2-4/
LOCATION:Virtual\, Costa Rica
CATEGORIES:Capacitaciones
ATTACH;FMTTYPE=image/jpeg:https://ciemicr.org/wp-content/uploads/2023/04/CAPDEE-M4-Criterios-de-diseno-desde-el-punto-de-vista-de-corrientes-de-coordinacion-de-protecciones.jpg
END:VEVENT
END:VCALENDAR