BEGIN:VCALENDAR
VERSION:2.0
PRODID:-//CIEMI - ECPv6.15.13.1//NONSGML v1.0//EN
CALSCALE:GREGORIAN
METHOD:PUBLISH
X-WR-CALNAME:CIEMI
X-ORIGINAL-URL:https://ciemicr.org
X-WR-CALDESC:Eventos para CIEMI
REFRESH-INTERVAL;VALUE=DURATION:PT1H
X-Robots-Tag:noindex
X-PUBLISHED-TTL:PT1H
BEGIN:VTIMEZONE
TZID:America/Costa_Rica
BEGIN:STANDARD
TZOFFSETFROM:-0600
TZOFFSETTO:-0600
TZNAME:CST
DTSTART:20220101T000000
END:STANDARD
END:VTIMEZONE
BEGIN:VEVENT
DTSTART;TZID=America/Costa_Rica:20230809T180000
DTEND;TZID=America/Costa_Rica:20230809T210000
DTSTAMP:20260422T003525
CREATED:20230519T203706Z
LAST-MODIFIED:20230713T194349Z
UID:10000672-1691604000-1691614800@ciemicr.org
SUMMARY:Cursos Instalaciones eléctricas en lugares clasificados como peligrosas
DESCRIPTION:Inscríbase aquí \nPrograma
URL:https://ciemicr.org/eventosrefresh_css/cursos-instalaciones-electricas-en-lugares-clasificados-como-peligrosas/
LOCATION:Virtual\, Costa Rica
CATEGORIES:Capacitaciones
ATTACH;FMTTYPE=image/jpeg:https://ciemicr.org/wp-content/uploads/2023/05/Curso-Instalaciones-electricas-en-lugares-clasificados-como-peligrosos-4.jpg
END:VEVENT
BEGIN:VEVENT
DTSTART;TZID=America/Costa_Rica:20230809T180000
DTEND;TZID=America/Costa_Rica:20230809T210000
DTSTAMP:20260422T003525
CREATED:20230519T203706Z
LAST-MODIFIED:20230519T203706Z
UID:10001763-1691604000-1691614800@ciemicr.org
SUMMARY:Cursos Instalaciones eléctricas en lugares clasificados como peligrosas
DESCRIPTION:Inscríbase aquí \nPrograma
URL:https://ciemicr.org/eventosrefresh_css/cursos-instalaciones-electricas-en-lugares-clasificados-como-peligrosas-3/
LOCATION:Virtual\, Costa Rica
CATEGORIES:Capacitaciones
ATTACH;FMTTYPE=image/jpeg:https://ciemicr.org/wp-content/uploads/2023/05/Curso-Instalaciones-electricas-en-lugares-clasificados-como-peligrosos-4.jpg
END:VEVENT
BEGIN:VEVENT
DTSTART;TZID=America/Costa_Rica:20230809T180000
DTEND;TZID=America/Costa_Rica:20230809T210000
DTSTAMP:20260422T003525
CREATED:20230519T203706Z
LAST-MODIFIED:20230519T203706Z
UID:10002181-1691604000-1691614800@ciemicr.org
SUMMARY:Cursos Instalaciones eléctricas en lugares clasificados como peligrosas
DESCRIPTION:Inscríbase aquí \nPrograma
URL:https://ciemicr.org/eventosrefresh_css/cursos-instalaciones-electricas-en-lugares-clasificados-como-peligrosas-4/
LOCATION:Virtual\, Costa Rica
CATEGORIES:Capacitaciones
ATTACH;FMTTYPE=image/jpeg:https://ciemicr.org/wp-content/uploads/2023/05/Curso-Instalaciones-electricas-en-lugares-clasificados-como-peligrosos-4.jpg
END:VEVENT
END:VCALENDAR