BEGIN:VCALENDAR
VERSION:2.0
PRODID:-//CIEMI - ECPv6.15.13.1//NONSGML v1.0//EN
CALSCALE:GREGORIAN
METHOD:PUBLISH
X-ORIGINAL-URL:https://ciemicr.org
X-WR-CALDESC:Eventos para CIEMI
REFRESH-INTERVAL;VALUE=DURATION:PT1H
X-Robots-Tag:noindex
X-PUBLISHED-TTL:PT1H
BEGIN:VTIMEZONE
TZID:America/Costa_Rica
BEGIN:STANDARD
TZOFFSETFROM:-0600
TZOFFSETTO:-0600
TZNAME:CST
DTSTART:20220101T000000
END:STANDARD
END:VTIMEZONE
BEGIN:VEVENT
DTSTART;TZID=America/Costa_Rica:20230810T080000
DTEND;TZID=America/Costa_Rica:20230810T170000
DTSTAMP:20260422T003801
CREATED:20230323T222421Z
LAST-MODIFIED:20230523T173925Z
UID:10000644-1691654400-1691686800@ciemicr.org
SUMMARY:Curso Diseño de Sistemas Rociadores en Riesgos de Almacenamiento
DESCRIPTION:Regístrese aquí \nConsulte el programa aquí 
URL:https://ciemicr.org/eventosrefresh_css/curso-diseno-de-sistemas-rociadores-en-riesgos-por-almacenamiento/
LOCATION:CCCIEMI\, CIEMI\, CIEMI\, Costa Rica
CATEGORIES:Capacitaciones
ATTACH;FMTTYPE=image/jpeg:https://ciemicr.org/wp-content/uploads/2023/03/Curso-Diseno-de-Sistemas-Rociadores-en-Riesgos-por-Almacenamiento-1-1.jpg
END:VEVENT
BEGIN:VEVENT
DTSTART;TZID=America/Costa_Rica:20230810T080000
DTEND;TZID=America/Costa_Rica:20230810T170000
DTSTAMP:20260422T003801
CREATED:20230323T222421Z
LAST-MODIFIED:20230323T222421Z
UID:10001750-1691654400-1691686800@ciemicr.org
SUMMARY:Curso Diseño de Sistemas Rociadores en Riesgos de Almacenamiento
DESCRIPTION:Regístrese aquí \nConsulte el programa aquí 
URL:https://ciemicr.org/eventosrefresh_css/curso-diseno-de-sistemas-rociadores-en-riesgos-por-almacenamiento-3/
LOCATION:CCCIEMI\, CIEMI\, CIEMI\, Costa Rica
CATEGORIES:Capacitaciones
ATTACH;FMTTYPE=image/jpeg:https://ciemicr.org/wp-content/uploads/2023/03/Curso-Diseno-de-Sistemas-Rociadores-en-Riesgos-por-Almacenamiento-1-1.jpg
END:VEVENT
BEGIN:VEVENT
DTSTART;TZID=America/Costa_Rica:20230810T080000
DTEND;TZID=America/Costa_Rica:20230810T170000
DTSTAMP:20260422T003801
CREATED:20230323T222421Z
LAST-MODIFIED:20230323T222421Z
UID:10002168-1691654400-1691686800@ciemicr.org
SUMMARY:Curso Diseño de Sistemas Rociadores en Riesgos de Almacenamiento
DESCRIPTION:Regístrese aquí \nConsulte el programa aquí 
URL:https://ciemicr.org/eventosrefresh_css/curso-diseno-de-sistemas-rociadores-en-riesgos-por-almacenamiento-4/
LOCATION:CCCIEMI\, CIEMI\, CIEMI\, Costa Rica
CATEGORIES:Capacitaciones
ATTACH;FMTTYPE=image/jpeg:https://ciemicr.org/wp-content/uploads/2023/03/Curso-Diseno-de-Sistemas-Rociadores-en-Riesgos-por-Almacenamiento-1-1.jpg
END:VEVENT
END:VCALENDAR