BEGIN:VCALENDAR
VERSION:2.0
PRODID:-//CIEMI - ECPv6.15.13.1//NONSGML v1.0//EN
CALSCALE:GREGORIAN
METHOD:PUBLISH
X-WR-CALNAME:CIEMI
X-ORIGINAL-URL:https://ciemicr.org
X-WR-CALDESC:Eventos para CIEMI
REFRESH-INTERVAL;VALUE=DURATION:PT1H
X-Robots-Tag:noindex
X-PUBLISHED-TTL:PT1H
BEGIN:VTIMEZONE
TZID:America/Costa_Rica
BEGIN:STANDARD
TZOFFSETFROM:-0600
TZOFFSETTO:-0600
TZNAME:CST
DTSTART:20220101T000000
END:STANDARD
END:VTIMEZONE
BEGIN:VEVENT
DTSTART;TZID=America/Costa_Rica:20230821T180000
DTEND;TZID=America/Costa_Rica:20230821T210000
DTSTAMP:20260422T003519
CREATED:20230519T193830Z
LAST-MODIFIED:20230810T201928Z
UID:10000669-1692640800-1692651600@ciemicr.org
SUMMARY:Curso CAPDEE-M8: Cableado Estructurado
DESCRIPTION:Inscríbase aquí  \nConsulte el programa aquí 
URL:https://ciemicr.org/eventosrefresh_css/curso-capdee-m8/
LOCATION:Virtual\, Costa Rica
CATEGORIES:Capacitaciones
ATTACH;FMTTYPE=image/jpeg:https://ciemicr.org/wp-content/uploads/2023/05/Curso-CAPDEE-M8-Cableado-Estructurado-2.jpg
END:VEVENT
BEGIN:VEVENT
DTSTART;TZID=America/Costa_Rica:20230821T180000
DTEND;TZID=America/Costa_Rica:20230821T210000
DTSTAMP:20260422T003519
CREATED:20230519T193830Z
LAST-MODIFIED:20230519T193830Z
UID:10001765-1692640800-1692651600@ciemicr.org
SUMMARY:Curso CAPDEE-M8: Cableado Estructurado
DESCRIPTION:Inscríbase aquí  \nConsulte el programa aquí 
URL:https://ciemicr.org/eventosrefresh_css/curso-capdee-m8-3/
LOCATION:Virtual\, Costa Rica
CATEGORIES:Capacitaciones
ATTACH;FMTTYPE=image/jpeg:https://ciemicr.org/wp-content/uploads/2023/05/Curso-CAPDEE-M8-Cableado-Estructurado-2.jpg
END:VEVENT
BEGIN:VEVENT
DTSTART;TZID=America/Costa_Rica:20230821T180000
DTEND;TZID=America/Costa_Rica:20230821T210000
DTSTAMP:20260422T003519
CREATED:20230519T193830Z
LAST-MODIFIED:20230519T193830Z
UID:10002183-1692640800-1692651600@ciemicr.org
SUMMARY:Curso CAPDEE-M8: Cableado Estructurado
DESCRIPTION:Inscríbase aquí  \nConsulte el programa aquí 
URL:https://ciemicr.org/eventosrefresh_css/curso-capdee-m8-4/
LOCATION:Virtual\, Costa Rica
CATEGORIES:Capacitaciones
ATTACH;FMTTYPE=image/jpeg:https://ciemicr.org/wp-content/uploads/2023/05/Curso-CAPDEE-M8-Cableado-Estructurado-2.jpg
END:VEVENT
END:VCALENDAR