BEGIN:VCALENDAR
VERSION:2.0
PRODID:-//CIEMI - ECPv6.15.13.1//NONSGML v1.0//EN
CALSCALE:GREGORIAN
METHOD:PUBLISH
X-ORIGINAL-URL:https://ciemicr.org
X-WR-CALDESC:Eventos para CIEMI
REFRESH-INTERVAL;VALUE=DURATION:PT1H
X-Robots-Tag:noindex
X-PUBLISHED-TTL:PT1H
BEGIN:VTIMEZONE
TZID:America/Costa_Rica
BEGIN:STANDARD
TZOFFSETFROM:-0600
TZOFFSETTO:-0600
TZNAME:CST
DTSTART:20220101T000000
END:STANDARD
END:VTIMEZONE
BEGIN:VEVENT
DTSTART;TZID=America/Costa_Rica:20230905T180000
DTEND;TZID=America/Costa_Rica:20230905T210000
DTSTAMP:20260421T231422
CREATED:20230711T224154Z
LAST-MODIFIED:20230823T231926Z
UID:10000681-1693936800-1693947600@ciemicr.org
SUMMARY:Curso #6 Protecciones activas para prevención de Incendios Normas NFPA Asociadas
DESCRIPTION:Inscríbase aquí  \nPrograma 
URL:https://ciemicr.org/eventosrefresh_css/curso-6-protecciones-activas-para-prevencion-de-incendios-normas-nfpa-asociadas/
LOCATION:Virtual\, Costa Rica
CATEGORIES:Capacitaciones
ATTACH;FMTTYPE=image/jpeg:https://ciemicr.org/wp-content/uploads/2023/07/Curso-6-Protecciones-activas-para-prevencion-de-Incendios-Normas-NFPA-Asociadas-1-1.jpg
END:VEVENT
BEGIN:VEVENT
DTSTART;TZID=America/Costa_Rica:20230905T180000
DTEND;TZID=America/Costa_Rica:20230905T210000
DTSTAMP:20260421T231422
CREATED:20230711T224154Z
LAST-MODIFIED:20230711T224154Z
UID:10001773-1693936800-1693947600@ciemicr.org
SUMMARY:Curso #6 Protecciones activas para prevención de Incendios Normas NFPA Asociadas
DESCRIPTION:Inscríbase aquí  \nPrograma 
URL:https://ciemicr.org/eventosrefresh_css/curso-6-protecciones-activas-para-prevencion-de-incendios-normas-nfpa-asociadas-3/
LOCATION:Virtual\, Costa Rica
CATEGORIES:Capacitaciones
ATTACH;FMTTYPE=image/jpeg:https://ciemicr.org/wp-content/uploads/2023/07/Curso-6-Protecciones-activas-para-prevencion-de-Incendios-Normas-NFPA-Asociadas-1-1.jpg
END:VEVENT
BEGIN:VEVENT
DTSTART;TZID=America/Costa_Rica:20230905T180000
DTEND;TZID=America/Costa_Rica:20230905T210000
DTSTAMP:20260421T231422
CREATED:20230711T224154Z
LAST-MODIFIED:20230711T224154Z
UID:10002191-1693936800-1693947600@ciemicr.org
SUMMARY:Curso #6 Protecciones activas para prevención de Incendios Normas NFPA Asociadas
DESCRIPTION:Inscríbase aquí  \nPrograma 
URL:https://ciemicr.org/eventosrefresh_css/curso-6-protecciones-activas-para-prevencion-de-incendios-normas-nfpa-asociadas-4/
LOCATION:Virtual\, Costa Rica
CATEGORIES:Capacitaciones
ATTACH;FMTTYPE=image/jpeg:https://ciemicr.org/wp-content/uploads/2023/07/Curso-6-Protecciones-activas-para-prevencion-de-Incendios-Normas-NFPA-Asociadas-1-1.jpg
END:VEVENT
END:VCALENDAR