BEGIN:VCALENDAR
VERSION:2.0
PRODID:-//CIEMI - ECPv6.15.13.1//NONSGML v1.0//EN
CALSCALE:GREGORIAN
METHOD:PUBLISH
X-WR-CALNAME:CIEMI
X-ORIGINAL-URL:https://ciemicr.org
X-WR-CALDESC:Eventos para CIEMI
REFRESH-INTERVAL;VALUE=DURATION:PT1H
X-Robots-Tag:noindex
X-PUBLISHED-TTL:PT1H
BEGIN:VTIMEZONE
TZID:America/Costa_Rica
BEGIN:STANDARD
TZOFFSETFROM:-0600
TZOFFSETTO:-0600
TZNAME:CST
DTSTART:20220101T000000
END:STANDARD
END:VTIMEZONE
BEGIN:VEVENT
DTSTART;TZID=America/Costa_Rica:20231030T080000
DTEND;TZID=America/Costa_Rica:20231030T080000
DTSTAMP:20260421T201514
CREATED:20230119T234610Z
LAST-MODIFIED:20230808T142533Z
UID:10000595-1698652800-1698652800@ciemicr.org
SUMMARY:Curso FVOL101: Diseño e Instalación Solar Eléctrica (sistemas interactivos) – en línea
DESCRIPTION:Inscríbase aquí \nPrograma
URL:https://ciemicr.org/eventosrefresh_css/curso-fvol101-diseno-e-instalacion-solar-electrica-sistemas-interactivos-en-linea-6/
LOCATION:Virtual\, Costa Rica
CATEGORIES:Capacitaciones
ATTACH;FMTTYPE=image/png:https://ciemicr.org/wp-content/uploads/2023/01/CIEMI-2023-COURSES-04-1-1.png
END:VEVENT
BEGIN:VEVENT
DTSTART;TZID=America/Costa_Rica:20231030T080000
DTEND;TZID=America/Costa_Rica:20231030T080000
DTSTAMP:20260421T201514
CREATED:20230119T234610Z
LAST-MODIFIED:20230119T234610Z
UID:10001709-1698652800-1698652800@ciemicr.org
SUMMARY:Curso FVOL101: Diseño e Instalación Solar Eléctrica (sistemas interactivos) – en línea
DESCRIPTION:Inscríbase aquí \nPrograma
URL:https://ciemicr.org/eventosrefresh_css/curso-fvol101-diseno-e-instalacion-solar-electrica-sistemas-interactivos-en-linea-6-3/
LOCATION:Virtual\, Costa Rica
CATEGORIES:Capacitaciones
ATTACH;FMTTYPE=image/png:https://ciemicr.org/wp-content/uploads/2023/01/CIEMI-2023-COURSES-04-1-1.png
END:VEVENT
BEGIN:VEVENT
DTSTART;TZID=America/Costa_Rica:20231030T080000
DTEND;TZID=America/Costa_Rica:20231030T080000
DTSTAMP:20260421T201514
CREATED:20230119T234610Z
LAST-MODIFIED:20230119T234610Z
UID:10002127-1698652800-1698652800@ciemicr.org
SUMMARY:Curso FVOL101: Diseño e Instalación Solar Eléctrica (sistemas interactivos) – en línea
DESCRIPTION:Inscríbase aquí \nPrograma
URL:https://ciemicr.org/eventosrefresh_css/curso-fvol101-diseno-e-instalacion-solar-electrica-sistemas-interactivos-en-linea-6-4/
LOCATION:Virtual\, Costa Rica
CATEGORIES:Capacitaciones
ATTACH;FMTTYPE=image/png:https://ciemicr.org/wp-content/uploads/2023/01/CIEMI-2023-COURSES-04-1-1.png
END:VEVENT
BEGIN:VEVENT
DTSTART;TZID=America/Costa_Rica:20231030T080000
DTEND;TZID=America/Costa_Rica:20231030T080000
DTSTAMP:20260421T201514
CREATED:20230120T001554Z
LAST-MODIFIED:20230808T142351Z
UID:10000600-1698652800-1698652800@ciemicr.org
SUMMARY:Curso FVOL202: Diseño Fotovoltaico Avanzado y el Nec (Sistemas Interactivos) - en línea
DESCRIPTION:Inscríbase aquí \nPrograma \n 
URL:https://ciemicr.org/eventosrefresh_css/curso-fvol202-diseno-fotovoltaico-avanzado-y-el-nec-sistemas-interactivos-en-linea-4/
LOCATION:Virtual\, Costa Rica
CATEGORIES:Capacitaciones
ATTACH;FMTTYPE=image/png:https://ciemicr.org/wp-content/uploads/2023/01/CIEMI-2023-COURSES_CIEMI-2023_101_FB.png
END:VEVENT
BEGIN:VEVENT
DTSTART;TZID=America/Costa_Rica:20231030T080000
DTEND;TZID=America/Costa_Rica:20231030T080000
DTSTAMP:20260421T201514
CREATED:20230120T001554Z
LAST-MODIFIED:20230120T001554Z
UID:10001714-1698652800-1698652800@ciemicr.org
SUMMARY:Curso FVOL202: Diseño Fotovoltaico Avanzado y el Nec (Sistemas Interactivos) - en línea
DESCRIPTION:Inscríbase aquí \nPrograma \n 
URL:https://ciemicr.org/eventosrefresh_css/curso-fvol202-diseno-fotovoltaico-avanzado-y-el-nec-sistemas-interactivos-en-linea-4-3/
LOCATION:Virtual\, Costa Rica
CATEGORIES:Capacitaciones
ATTACH;FMTTYPE=image/png:https://ciemicr.org/wp-content/uploads/2023/01/CIEMI-2023-COURSES_CIEMI-2023_101_FB.png
END:VEVENT
BEGIN:VEVENT
DTSTART;TZID=America/Costa_Rica:20231030T080000
DTEND;TZID=America/Costa_Rica:20231030T080000
DTSTAMP:20260421T201514
CREATED:20230120T001554Z
LAST-MODIFIED:20230120T001554Z
UID:10002132-1698652800-1698652800@ciemicr.org
SUMMARY:Curso FVOL202: Diseño Fotovoltaico Avanzado y el Nec (Sistemas Interactivos) - en línea
DESCRIPTION:Inscríbase aquí \nPrograma \n 
URL:https://ciemicr.org/eventosrefresh_css/curso-fvol202-diseno-fotovoltaico-avanzado-y-el-nec-sistemas-interactivos-en-linea-4-4/
LOCATION:Virtual\, Costa Rica
CATEGORIES:Capacitaciones
ATTACH;FMTTYPE=image/png:https://ciemicr.org/wp-content/uploads/2023/01/CIEMI-2023-COURSES_CIEMI-2023_101_FB.png
END:VEVENT
END:VCALENDAR