BEGIN:VCALENDAR
VERSION:2.0
PRODID:-//CIEMI - ECPv6.15.13.1//NONSGML v1.0//EN
CALSCALE:GREGORIAN
METHOD:PUBLISH
X-ORIGINAL-URL:https://ciemicr.org
X-WR-CALDESC:Eventos para CIEMI
REFRESH-INTERVAL;VALUE=DURATION:PT1H
X-Robots-Tag:noindex
X-PUBLISHED-TTL:PT1H
BEGIN:VTIMEZONE
TZID:America/Costa_Rica
BEGIN:STANDARD
TZOFFSETFROM:-0600
TZOFFSETTO:-0600
TZNAME:CST
DTSTART:20230101T000000
END:STANDARD
END:VTIMEZONE
BEGIN:VEVENT
DTSTART;TZID=America/Costa_Rica:20240115T080000
DTEND;TZID=America/Costa_Rica:20240115T170000
DTSTAMP:20260421T172848
CREATED:20240115T224823Z
LAST-MODIFIED:20240115T224823Z
UID:10000772-1705305600-1705338000@ciemicr.org
SUMMARY:Certificación Auditor Interno de Calidad basado en la Norma ISO 9001:2015
DESCRIPTION:Más información  capacitacion@cicr.com
URL:https://ciemicr.org/eventosrefresh_css/certificacion-auditor-interno-de-calidad-basado-en-la-norma-iso-90012015/
LOCATION:Virtual\, Costa Rica
CATEGORIES:Capacitaciones
ATTACH;FMTTYPE=image/jpeg:https://ciemicr.org/wp-content/uploads/2024/01/CERTIFICACION-AUDITOR-INTERNO-DE-CALIDAD-BASADO-EN-LA-NORMA-ISO-9001-2015.jpg
END:VEVENT
BEGIN:VEVENT
DTSTART;TZID=America/Costa_Rica:20240115T080000
DTEND;TZID=America/Costa_Rica:20240115T170000
DTSTAMP:20260421T172848
CREATED:20240115T224823Z
LAST-MODIFIED:20240115T224823Z
UID:10001846-1705305600-1705338000@ciemicr.org
SUMMARY:Certificación Auditor Interno de Calidad basado en la Norma ISO 9001:2015
DESCRIPTION:Más información  capacitacion@cicr.com
URL:https://ciemicr.org/eventosrefresh_css/certificacion-auditor-interno-de-calidad-basado-en-la-norma-iso-90012015-2/
LOCATION:Virtual\, Costa Rica
CATEGORIES:Capacitaciones
ATTACH;FMTTYPE=image/jpeg:https://ciemicr.org/wp-content/uploads/2024/01/CERTIFICACION-AUDITOR-INTERNO-DE-CALIDAD-BASADO-EN-LA-NORMA-ISO-9001-2015.jpg
END:VEVENT
BEGIN:VEVENT
DTSTART;TZID=America/Costa_Rica:20240115T080000
DTEND;TZID=America/Costa_Rica:20240115T170000
DTSTAMP:20260421T172848
CREATED:20240115T224823Z
LAST-MODIFIED:20240115T224823Z
UID:10002264-1705305600-1705338000@ciemicr.org
SUMMARY:Certificación Auditor Interno de Calidad basado en la Norma ISO 9001:2015
DESCRIPTION:Más información  capacitacion@cicr.com
URL:https://ciemicr.org/eventosrefresh_css/certificacion-auditor-interno-de-calidad-basado-en-la-norma-iso-90012015-3/
LOCATION:Virtual\, Costa Rica
CATEGORIES:Capacitaciones
ATTACH;FMTTYPE=image/jpeg:https://ciemicr.org/wp-content/uploads/2024/01/CERTIFICACION-AUDITOR-INTERNO-DE-CALIDAD-BASADO-EN-LA-NORMA-ISO-9001-2015.jpg
END:VEVENT
END:VCALENDAR