BEGIN:VCALENDAR
VERSION:2.0
PRODID:-//CIEMI - ECPv6.15.13.1//NONSGML v1.0//EN
CALSCALE:GREGORIAN
METHOD:PUBLISH
X-WR-CALNAME:CIEMI
X-ORIGINAL-URL:https://ciemicr.org
X-WR-CALDESC:Eventos para CIEMI
REFRESH-INTERVAL;VALUE=DURATION:PT1H
X-Robots-Tag:noindex
X-PUBLISHED-TTL:PT1H
BEGIN:VTIMEZONE
TZID:America/Costa_Rica
BEGIN:STANDARD
TZOFFSETFROM:-0600
TZOFFSETTO:-0600
TZNAME:CST
DTSTART:20230101T000000
END:STANDARD
END:VTIMEZONE
BEGIN:VEVENT
DTSTART;TZID=America/Costa_Rica:20240507T170000
DTEND;TZID=America/Costa_Rica:20240507T200000
DTSTAMP:20260421T113259
CREATED:20240423T224257Z
LAST-MODIFIED:20240423T224257Z
UID:10000824-1715101200-1715112000@ciemicr.org
SUMMARY:Curso Excel avanzado y análisis de datos vía tablas dinámicas
DESCRIPTION:Más información
URL:https://ciemicr.org/eventosrefresh_css/curso-excel-avanzado-y-analisis-de-datos-via-tablas-dinamicas/
LOCATION:Virtual\, Costa Rica
CATEGORIES:Capacitaciones
ATTACH;FMTTYPE=image/jpeg:https://ciemicr.org/wp-content/uploads/2024/04/Excel-avanzado.jpg
END:VEVENT
BEGIN:VEVENT
DTSTART;TZID=America/Costa_Rica:20240507T170000
DTEND;TZID=America/Costa_Rica:20240507T200000
DTSTAMP:20260421T113259
CREATED:20240423T224257Z
LAST-MODIFIED:20240423T224257Z
UID:10001890-1715101200-1715112000@ciemicr.org
SUMMARY:Curso Excel avanzado y análisis de datos vía tablas dinámicas
DESCRIPTION:Más información
URL:https://ciemicr.org/eventosrefresh_css/curso-excel-avanzado-y-analisis-de-datos-via-tablas-dinamicas-2/
LOCATION:Virtual\, Costa Rica
CATEGORIES:Capacitaciones
ATTACH;FMTTYPE=image/jpeg:https://ciemicr.org/wp-content/uploads/2024/04/Excel-avanzado.jpg
END:VEVENT
BEGIN:VEVENT
DTSTART;TZID=America/Costa_Rica:20240507T170000
DTEND;TZID=America/Costa_Rica:20240507T200000
DTSTAMP:20260421T113259
CREATED:20240423T224257Z
LAST-MODIFIED:20240423T224257Z
UID:10002308-1715101200-1715112000@ciemicr.org
SUMMARY:Curso Excel avanzado y análisis de datos vía tablas dinámicas
DESCRIPTION:Más información
URL:https://ciemicr.org/eventosrefresh_css/curso-excel-avanzado-y-analisis-de-datos-via-tablas-dinamicas-3/
LOCATION:Virtual\, Costa Rica
CATEGORIES:Capacitaciones
ATTACH;FMTTYPE=image/jpeg:https://ciemicr.org/wp-content/uploads/2024/04/Excel-avanzado.jpg
END:VEVENT
END:VCALENDAR