BEGIN:VCALENDAR
VERSION:2.0
PRODID:-//CIEMI - ECPv6.15.13.1//NONSGML v1.0//EN
CALSCALE:GREGORIAN
METHOD:PUBLISH
X-WR-CALNAME:CIEMI
X-ORIGINAL-URL:https://ciemicr.org
X-WR-CALDESC:Eventos para CIEMI
REFRESH-INTERVAL;VALUE=DURATION:PT1H
X-Robots-Tag:noindex
X-PUBLISHED-TTL:PT1H
BEGIN:VTIMEZONE
TZID:America/Costa_Rica
BEGIN:STANDARD
TZOFFSETFROM:-0600
TZOFFSETTO:-0600
TZNAME:CST
DTSTART:20230101T000000
END:STANDARD
END:VTIMEZONE
BEGIN:VEVENT
DTSTART;TZID=America/Costa_Rica:20240520T080000
DTEND;TZID=America/Costa_Rica:20240520T080000
DTSTAMP:20260421T113336
CREATED:20240214T201909Z
LAST-MODIFIED:20240322T150348Z
UID:10000785-1716192000-1716192000@ciemicr.org
SUMMARY:Curso FVOL202: Diseño Fotovoltaico avanzado y el NEC (Sistemas Interactivos) - en línea
DESCRIPTION:Inscríbase aquí \nPrograma
URL:https://ciemicr.org/eventosrefresh_css/curso-fvol202-diseno-fotovoltaico-avanzado-y-el-nec-sistemas-interactivos-en-linea-6/
LOCATION:Virtual\, Costa Rica
CATEGORIES:Capacitaciones
ATTACH;FMTTYPE=image/jpeg:https://ciemicr.org/wp-content/uploads/2024/01/CIEMI2024-FVO202.jpg
END:VEVENT
BEGIN:VEVENT
DTSTART;TZID=America/Costa_Rica:20240520T080000
DTEND;TZID=America/Costa_Rica:20240520T080000
DTSTAMP:20260421T113336
CREATED:20240214T201909Z
LAST-MODIFIED:20240214T201909Z
UID:10001858-1716192000-1716192000@ciemicr.org
SUMMARY:Curso FVOL202: Diseño Fotovoltaico avanzado y el NEC (Sistemas Interactivos) - en línea
DESCRIPTION:Inscríbase aquí \nPrograma
URL:https://ciemicr.org/eventosrefresh_css/curso-fvol202-diseno-fotovoltaico-avanzado-y-el-nec-sistemas-interactivos-en-linea-6-2/
LOCATION:Virtual\, Costa Rica
CATEGORIES:Capacitaciones
ATTACH;FMTTYPE=image/jpeg:https://ciemicr.org/wp-content/uploads/2024/01/CIEMI2024-FVO202.jpg
END:VEVENT
BEGIN:VEVENT
DTSTART;TZID=America/Costa_Rica:20240520T080000
DTEND;TZID=America/Costa_Rica:20240520T080000
DTSTAMP:20260421T113336
CREATED:20240214T201909Z
LAST-MODIFIED:20240214T201909Z
UID:10002276-1716192000-1716192000@ciemicr.org
SUMMARY:Curso FVOL202: Diseño Fotovoltaico avanzado y el NEC (Sistemas Interactivos) - en línea
DESCRIPTION:Inscríbase aquí \nPrograma
URL:https://ciemicr.org/eventosrefresh_css/curso-fvol202-diseno-fotovoltaico-avanzado-y-el-nec-sistemas-interactivos-en-linea-6-3/
LOCATION:Virtual\, Costa Rica
CATEGORIES:Capacitaciones
ATTACH;FMTTYPE=image/jpeg:https://ciemicr.org/wp-content/uploads/2024/01/CIEMI2024-FVO202.jpg
END:VEVENT
BEGIN:VEVENT
DTSTART;TZID=America/Costa_Rica:20240520T080000
DTEND;TZID=America/Costa_Rica:20240520T170000
DTSTAMP:20260421T113336
CREATED:20240214T201747Z
LAST-MODIFIED:20240508T170213Z
UID:10000784-1716192000-1716224400@ciemicr.org
SUMMARY:Curso FVOL101: Diseño e Instalación Solar Eléctrica (Sistemas Interactivos) – en línea
DESCRIPTION:Inscríbase aquí  \nPrograma
URL:https://ciemicr.org/eventosrefresh_css/curso-fvol101-diseno-e-instalacion-solar-electrica-sistemas-interactivos-en-linea-9/
LOCATION:Virtual\, Costa Rica
CATEGORIES:Capacitaciones
ATTACH;FMTTYPE=image/jpeg:https://ciemicr.org/wp-content/uploads/2024/01/CIEMI2024_FVOL101.jpg
END:VEVENT
BEGIN:VEVENT
DTSTART;TZID=America/Costa_Rica:20240520T080000
DTEND;TZID=America/Costa_Rica:20240520T170000
DTSTAMP:20260421T113336
CREATED:20240214T201747Z
LAST-MODIFIED:20240214T201747Z
UID:10001857-1716192000-1716224400@ciemicr.org
SUMMARY:Curso FVOL101: Diseño e Instalación Solar Eléctrica (Sistemas Interactivos) – en línea
DESCRIPTION:Inscríbase aquí  \nPrograma
URL:https://ciemicr.org/eventosrefresh_css/curso-fvol101-diseno-e-instalacion-solar-electrica-sistemas-interactivos-en-linea-9-2/
LOCATION:Virtual\, Costa Rica
CATEGORIES:Capacitaciones
ATTACH;FMTTYPE=image/jpeg:https://ciemicr.org/wp-content/uploads/2024/01/CIEMI2024_FVOL101.jpg
END:VEVENT
BEGIN:VEVENT
DTSTART;TZID=America/Costa_Rica:20240520T080000
DTEND;TZID=America/Costa_Rica:20240520T170000
DTSTAMP:20260421T113336
CREATED:20240214T201747Z
LAST-MODIFIED:20240214T201747Z
UID:10002275-1716192000-1716224400@ciemicr.org
SUMMARY:Curso FVOL101: Diseño e Instalación Solar Eléctrica (Sistemas Interactivos) – en línea
DESCRIPTION:Inscríbase aquí  \nPrograma
URL:https://ciemicr.org/eventosrefresh_css/curso-fvol101-diseno-e-instalacion-solar-electrica-sistemas-interactivos-en-linea-9-3/
LOCATION:Virtual\, Costa Rica
CATEGORIES:Capacitaciones
ATTACH;FMTTYPE=image/jpeg:https://ciemicr.org/wp-content/uploads/2024/01/CIEMI2024_FVOL101.jpg
END:VEVENT
END:VCALENDAR