BEGIN:VCALENDAR
VERSION:2.0
PRODID:-//CIEMI - ECPv6.15.13.1//NONSGML v1.0//EN
CALSCALE:GREGORIAN
METHOD:PUBLISH
X-WR-CALNAME:CIEMI
X-ORIGINAL-URL:https://ciemicr.org
X-WR-CALDESC:Eventos para CIEMI
REFRESH-INTERVAL;VALUE=DURATION:PT1H
X-Robots-Tag:noindex
X-PUBLISHED-TTL:PT1H
BEGIN:VTIMEZONE
TZID:America/Costa_Rica
BEGIN:STANDARD
TZOFFSETFROM:-0600
TZOFFSETTO:-0600
TZNAME:CST
DTSTART:20230101T000000
END:STANDARD
END:VTIMEZONE
BEGIN:VEVENT
DTSTART;TZID=America/Costa_Rica:20240627T180000
DTEND;TZID=America/Costa_Rica:20240627T210000
DTSTAMP:20260421T100750
CREATED:20240604T153926Z
LAST-MODIFIED:20240611T201251Z
UID:10000834-1719511200-1719522000@ciemicr.org
SUMMARY:Curso Inspecciones del Proceso Constructivo de Instalaciones Eléctricas de Baja Tensión (hasta 600 voltios)\, en Edificios Industriales\, Comerciales e Institucionales
DESCRIPTION:Inscríbase \nPrograma
URL:https://ciemicr.org/eventosrefresh_css/curso-inspecciones-del-proceso-constructivo-de-instalaciones-electricas-de-baja-tension-hasta-600-voltios-en-edificios-industriales-comerciales-e-institucionales-3/
LOCATION:Virtual\, Costa Rica
CATEGORIES:Capacitaciones
ATTACH;FMTTYPE=image/jpeg:https://ciemicr.org/wp-content/uploads/2024/06/Curso-Inspecciones-del-Proceso-Constructivo-de-Instalaciones-Electricas-de-Baja-Tension-hasta-600-voltios-en-Edificios-Industriales-Comerciales-e-Institucionales-1.jpg
END:VEVENT
BEGIN:VEVENT
DTSTART;TZID=America/Costa_Rica:20240627T180000
DTEND;TZID=America/Costa_Rica:20240627T210000
DTSTAMP:20260421T100750
CREATED:20240604T153926Z
LAST-MODIFIED:20240604T153926Z
UID:10001899-1719511200-1719522000@ciemicr.org
SUMMARY:Curso Inspecciones del Proceso Constructivo de Instalaciones Eléctricas de Baja Tensión (hasta 600 voltios)\, en Edificios Industriales\, Comerciales e Institucionales
DESCRIPTION:Inscríbase \nPrograma
URL:https://ciemicr.org/eventosrefresh_css/curso-inspecciones-del-proceso-constructivo-de-instalaciones-electricas-de-baja-tension-hasta-600-voltios-en-edificios-industriales-comerciales-e-institucionales-3-2/
LOCATION:Virtual\, Costa Rica
CATEGORIES:Capacitaciones
ATTACH;FMTTYPE=image/jpeg:https://ciemicr.org/wp-content/uploads/2024/06/Curso-Inspecciones-del-Proceso-Constructivo-de-Instalaciones-Electricas-de-Baja-Tension-hasta-600-voltios-en-Edificios-Industriales-Comerciales-e-Institucionales-1.jpg
END:VEVENT
BEGIN:VEVENT
DTSTART;TZID=America/Costa_Rica:20240627T180000
DTEND;TZID=America/Costa_Rica:20240627T210000
DTSTAMP:20260421T100750
CREATED:20240604T153926Z
LAST-MODIFIED:20240604T153926Z
UID:10002317-1719511200-1719522000@ciemicr.org
SUMMARY:Curso Inspecciones del Proceso Constructivo de Instalaciones Eléctricas de Baja Tensión (hasta 600 voltios)\, en Edificios Industriales\, Comerciales e Institucionales
DESCRIPTION:Inscríbase \nPrograma
URL:https://ciemicr.org/eventosrefresh_css/curso-inspecciones-del-proceso-constructivo-de-instalaciones-electricas-de-baja-tension-hasta-600-voltios-en-edificios-industriales-comerciales-e-institucionales-3-3/
LOCATION:Virtual\, Costa Rica
CATEGORIES:Capacitaciones
ATTACH;FMTTYPE=image/jpeg:https://ciemicr.org/wp-content/uploads/2024/06/Curso-Inspecciones-del-Proceso-Constructivo-de-Instalaciones-Electricas-de-Baja-Tension-hasta-600-voltios-en-Edificios-Industriales-Comerciales-e-Institucionales-1.jpg
END:VEVENT
END:VCALENDAR