BEGIN:VCALENDAR
VERSION:2.0
PRODID:-//CIEMI - ECPv6.15.13.1//NONSGML v1.0//EN
CALSCALE:GREGORIAN
METHOD:PUBLISH
X-ORIGINAL-URL:https://ciemicr.org
X-WR-CALDESC:Eventos para CIEMI
REFRESH-INTERVAL;VALUE=DURATION:PT1H
X-Robots-Tag:noindex
X-PUBLISHED-TTL:PT1H
BEGIN:VTIMEZONE
TZID:America/Costa_Rica
BEGIN:STANDARD
TZOFFSETFROM:-0600
TZOFFSETTO:-0600
TZNAME:CST
DTSTART:20230101T000000
END:STANDARD
END:VTIMEZONE
BEGIN:VEVENT
DTSTART;TZID=America/Costa_Rica:20240701T080000
DTEND;TZID=America/Costa_Rica:20240701T170000
DTSTAMP:20260421T083256
CREATED:20240322T162955Z
LAST-MODIFIED:20240603T220037Z
UID:10000799-1719820800-1719853200@ciemicr.org
SUMMARY:Curso FVOL101: Diseño e Instalación Solar Eléctrica (sistemas interactivos) – en línea
DESCRIPTION:Inscríbase aquí  \nPrograma
URL:https://ciemicr.org/eventosrefresh_css/curso-fvol101-diseno/
LOCATION:Virtual\, Costa Rica
CATEGORIES:Capacitaciones
ATTACH;FMTTYPE=image/jpeg:https://ciemicr.org/wp-content/uploads/2024/01/CIEMI2024_FVOL101.jpg
END:VEVENT
BEGIN:VEVENT
DTSTART;TZID=America/Costa_Rica:20240701T080000
DTEND;TZID=America/Costa_Rica:20240701T170000
DTSTAMP:20260421T083256
CREATED:20240322T162955Z
LAST-MODIFIED:20240322T162955Z
UID:10001869-1719820800-1719853200@ciemicr.org
SUMMARY:Curso FVOL101: Diseño e Instalación Solar Eléctrica (sistemas interactivos) – en línea
DESCRIPTION:Inscríbase aquí  \nPrograma
URL:https://ciemicr.org/eventosrefresh_css/curso-fvol101-diseno-2/
LOCATION:Virtual\, Costa Rica
CATEGORIES:Capacitaciones
ATTACH;FMTTYPE=image/jpeg:https://ciemicr.org/wp-content/uploads/2024/01/CIEMI2024_FVOL101.jpg
END:VEVENT
BEGIN:VEVENT
DTSTART;TZID=America/Costa_Rica:20240701T080000
DTEND;TZID=America/Costa_Rica:20240701T170000
DTSTAMP:20260421T083256
CREATED:20240322T162955Z
LAST-MODIFIED:20240322T162955Z
UID:10002287-1719820800-1719853200@ciemicr.org
SUMMARY:Curso FVOL101: Diseño e Instalación Solar Eléctrica (sistemas interactivos) – en línea
DESCRIPTION:Inscríbase aquí  \nPrograma
URL:https://ciemicr.org/eventosrefresh_css/curso-fvol101-diseno-3/
LOCATION:Virtual\, Costa Rica
CATEGORIES:Capacitaciones
ATTACH;FMTTYPE=image/jpeg:https://ciemicr.org/wp-content/uploads/2024/01/CIEMI2024_FVOL101.jpg
END:VEVENT
BEGIN:VEVENT
DTSTART;TZID=America/Costa_Rica:20240701T080000
DTEND;TZID=America/Costa_Rica:20240701T170000
DTSTAMP:20260421T083256
CREATED:20240326T150807Z
LAST-MODIFIED:20240603T220342Z
UID:10000806-1719820800-1719853200@ciemicr.org
SUMMARY:Curso FVOL 203: Fundamentos de Sistemas Fotovoltaicos basados en Baterías - en línea
DESCRIPTION:Regístrese aquí \nPrograma
URL:https://ciemicr.org/eventosrefresh_css/curso-fvol-203/
LOCATION:Virtual\, Costa Rica
CATEGORIES:Capacitaciones
ATTACH;FMTTYPE=image/jpeg:https://ciemicr.org/wp-content/uploads/2024/02/CIEMI2024_FVOL203.jpg
END:VEVENT
BEGIN:VEVENT
DTSTART;TZID=America/Costa_Rica:20240701T080000
DTEND;TZID=America/Costa_Rica:20240701T170000
DTSTAMP:20260421T083256
CREATED:20240326T150807Z
LAST-MODIFIED:20240326T150807Z
UID:10001876-1719820800-1719853200@ciemicr.org
SUMMARY:Curso FVOL 203: Fundamentos de Sistemas Fotovoltaicos basados en Baterías - en línea
DESCRIPTION:Regístrese aquí \nPrograma
URL:https://ciemicr.org/eventosrefresh_css/curso-fvol-203-2/
LOCATION:Virtual\, Costa Rica
CATEGORIES:Capacitaciones
ATTACH;FMTTYPE=image/jpeg:https://ciemicr.org/wp-content/uploads/2024/02/CIEMI2024_FVOL203.jpg
END:VEVENT
BEGIN:VEVENT
DTSTART;TZID=America/Costa_Rica:20240701T080000
DTEND;TZID=America/Costa_Rica:20240701T170000
DTSTAMP:20260421T083256
CREATED:20240326T150807Z
LAST-MODIFIED:20240326T150807Z
UID:10002294-1719820800-1719853200@ciemicr.org
SUMMARY:Curso FVOL 203: Fundamentos de Sistemas Fotovoltaicos basados en Baterías - en línea
DESCRIPTION:Regístrese aquí \nPrograma
URL:https://ciemicr.org/eventosrefresh_css/curso-fvol-203-3/
LOCATION:Virtual\, Costa Rica
CATEGORIES:Capacitaciones
ATTACH;FMTTYPE=image/jpeg:https://ciemicr.org/wp-content/uploads/2024/02/CIEMI2024_FVOL203.jpg
END:VEVENT
BEGIN:VEVENT
DTSTART;TZID=America/Costa_Rica:20240701T180000
DTEND;TZID=America/Costa_Rica:20240701T210000
DTSTAMP:20260421T083256
CREATED:20231128T001802Z
LAST-MODIFIED:20240529T164503Z
UID:10000751-1719856800-1719867600@ciemicr.org
SUMMARY:Curso Fundamentos de sistemas de supresión contra incendios a base agua
DESCRIPTION:Inscríbase aquí \nPrograma
URL:https://ciemicr.org/eventosrefresh_css/curso-fundamentos-de-sistemas-de-supresion-contra-incendios-a-base-agua-2/
LOCATION:Virtual\, Costa Rica
CATEGORIES:Capacitaciones
ATTACH;FMTTYPE=image/jpeg:https://ciemicr.org/wp-content/uploads/2023/11/Fundamentos-de-sistemas-de-supresion-contra-incendios-a-base-agua-1.jpg
END:VEVENT
BEGIN:VEVENT
DTSTART;TZID=America/Costa_Rica:20240701T180000
DTEND;TZID=America/Costa_Rica:20240701T210000
DTSTAMP:20260421T083256
CREATED:20231128T001802Z
LAST-MODIFIED:20231128T001802Z
UID:10001830-1719856800-1719867600@ciemicr.org
SUMMARY:Curso Fundamentos de sistemas de supresión contra incendios a base agua
DESCRIPTION:Inscríbase aquí \nPrograma
URL:https://ciemicr.org/eventosrefresh_css/curso-fundamentos-de-sistemas-de-supresion-contra-incendios-a-base-agua-2-2/
LOCATION:Virtual\, Costa Rica
CATEGORIES:Capacitaciones
ATTACH;FMTTYPE=image/jpeg:https://ciemicr.org/wp-content/uploads/2023/11/Fundamentos-de-sistemas-de-supresion-contra-incendios-a-base-agua-1.jpg
END:VEVENT
BEGIN:VEVENT
DTSTART;TZID=America/Costa_Rica:20240701T180000
DTEND;TZID=America/Costa_Rica:20240701T210000
DTSTAMP:20260421T083256
CREATED:20231128T001802Z
LAST-MODIFIED:20231128T001802Z
UID:10002248-1719856800-1719867600@ciemicr.org
SUMMARY:Curso Fundamentos de sistemas de supresión contra incendios a base agua
DESCRIPTION:Inscríbase aquí \nPrograma
URL:https://ciemicr.org/eventosrefresh_css/curso-fundamentos-de-sistemas-de-supresion-contra-incendios-a-base-agua-2-3/
LOCATION:Virtual\, Costa Rica
CATEGORIES:Capacitaciones
ATTACH;FMTTYPE=image/jpeg:https://ciemicr.org/wp-content/uploads/2023/11/Fundamentos-de-sistemas-de-supresion-contra-incendios-a-base-agua-1.jpg
END:VEVENT
BEGIN:VEVENT
DTSTART;TZID=America/Costa_Rica:20240701T180000
DTEND;TZID=America/Costa_Rica:20240701T210000
DTSTAMP:20260421T083256
CREATED:20240701T163745Z
LAST-MODIFIED:20240701T163830Z
UID:10000852-1719856800-1719867600@ciemicr.org
SUMMARY:Curso Interpretación de las normas ISO/IEC 17020:2012
DESCRIPTION:Inscríbase aquí \nPrograma
URL:https://ciemicr.org/eventosrefresh_css/curso-interpretacion-de-las-normas-iso-iec-170202012/
LOCATION:Virtual\, Costa Rica
CATEGORIES:Capacitaciones
END:VEVENT
BEGIN:VEVENT
DTSTART;TZID=America/Costa_Rica:20240701T180000
DTEND;TZID=America/Costa_Rica:20240701T210000
DTSTAMP:20260421T083256
CREATED:20240701T163745Z
LAST-MODIFIED:20240701T163745Z
UID:10001916-1719856800-1719867600@ciemicr.org
SUMMARY:Curso Interpretación de las normas ISO/IEC 17020:2012
DESCRIPTION:Inscríbase aquí \nPrograma
URL:https://ciemicr.org/eventosrefresh_css/curso-interpretacion-de-las-normas-iso-iec-170202012-2/
LOCATION:Virtual\, Costa Rica
CATEGORIES:Capacitaciones
END:VEVENT
BEGIN:VEVENT
DTSTART;TZID=America/Costa_Rica:20240701T180000
DTEND;TZID=America/Costa_Rica:20240701T210000
DTSTAMP:20260421T083256
CREATED:20240701T163745Z
LAST-MODIFIED:20240701T163745Z
UID:10002334-1719856800-1719867600@ciemicr.org
SUMMARY:Curso Interpretación de las normas ISO/IEC 17020:2012
DESCRIPTION:Inscríbase aquí \nPrograma
URL:https://ciemicr.org/eventosrefresh_css/curso-interpretacion-de-las-normas-iso-iec-170202012-3/
LOCATION:Virtual\, Costa Rica
CATEGORIES:Capacitaciones
END:VEVENT
END:VCALENDAR