BEGIN:VCALENDAR
VERSION:2.0
PRODID:-//CIEMI - ECPv6.15.13.1//NONSGML v1.0//EN
CALSCALE:GREGORIAN
METHOD:PUBLISH
X-ORIGINAL-URL:https://ciemicr.org
X-WR-CALDESC:Eventos para CIEMI
REFRESH-INTERVAL;VALUE=DURATION:PT1H
X-Robots-Tag:noindex
X-PUBLISHED-TTL:PT1H
BEGIN:VTIMEZONE
TZID:America/Costa_Rica
BEGIN:STANDARD
TZOFFSETFROM:-0600
TZOFFSETTO:-0600
TZNAME:CST
DTSTART:20230101T000000
END:STANDARD
END:VTIMEZONE
BEGIN:VEVENT
DTSTART;TZID=America/Costa_Rica:20241024T180000
DTEND;TZID=America/Costa_Rica:20241024T210000
DTSTAMP:20260421T041009
CREATED:20240606T175005Z
LAST-MODIFIED:20240826T172730Z
UID:10000842-1729792800-1729803600@ciemicr.org
SUMMARY:Curso CAPDEE-M2: Diseño eléctrico residencial\, comercial e industrial
DESCRIPTION:Inscríbase \nPrograma
URL:https://ciemicr.org/eventosrefresh_css/curso-capdee-m2-diseno-electrico-residencial-comercial-e-industrial-7/
LOCATION:Virtual\, Costa Rica
CATEGORIES:Capacitaciones
ATTACH;FMTTYPE=image/jpeg:https://ciemicr.org/wp-content/uploads/2024/06/CAPDEE-M2-Diseno-electrico-residencial-comercial-e-industrial.jpg
END:VEVENT
BEGIN:VEVENT
DTSTART;TZID=America/Costa_Rica:20241024T180000
DTEND;TZID=America/Costa_Rica:20241024T210000
DTSTAMP:20260421T041009
CREATED:20240606T175005Z
LAST-MODIFIED:20240606T175005Z
UID:10001907-1729792800-1729803600@ciemicr.org
SUMMARY:Curso CAPDEE-M2: Diseño eléctrico residencial\, comercial e industrial
DESCRIPTION:Inscríbase \nPrograma
URL:https://ciemicr.org/eventosrefresh_css/curso-capdee-m2-diseno-electrico-residencial-comercial-e-industrial-7-2/
LOCATION:Virtual\, Costa Rica
CATEGORIES:Capacitaciones
ATTACH;FMTTYPE=image/jpeg:https://ciemicr.org/wp-content/uploads/2024/06/CAPDEE-M2-Diseno-electrico-residencial-comercial-e-industrial.jpg
END:VEVENT
BEGIN:VEVENT
DTSTART;TZID=America/Costa_Rica:20241024T180000
DTEND;TZID=America/Costa_Rica:20241024T210000
DTSTAMP:20260421T041009
CREATED:20240606T175005Z
LAST-MODIFIED:20240606T175005Z
UID:10002325-1729792800-1729803600@ciemicr.org
SUMMARY:Curso CAPDEE-M2: Diseño eléctrico residencial\, comercial e industrial
DESCRIPTION:Inscríbase \nPrograma
URL:https://ciemicr.org/eventosrefresh_css/curso-capdee-m2-diseno-electrico-residencial-comercial-e-industrial-7-3/
LOCATION:Virtual\, Costa Rica
CATEGORIES:Capacitaciones
ATTACH;FMTTYPE=image/jpeg:https://ciemicr.org/wp-content/uploads/2024/06/CAPDEE-M2-Diseno-electrico-residencial-comercial-e-industrial.jpg
END:VEVENT
BEGIN:VEVENT
DTSTART;TZID=America/Costa_Rica:20241024T180000
DTEND;TZID=America/Costa_Rica:20241024T210000
DTSTAMP:20260421T041009
CREATED:20240611T213941Z
LAST-MODIFIED:20240930T151742Z
UID:10000847-1729792800-1729803600@ciemicr.org
SUMMARY:Curso Verificaciones de Instalaciones Eléctricas
DESCRIPTION:Inscríbase \nPrograma
URL:https://ciemicr.org/eventosrefresh_css/curso-verificaciones-de-instalaciones-electricas/
LOCATION:Virtual\, Costa Rica
CATEGORIES:Capacitaciones
ATTACH;FMTTYPE=image/jpeg:https://ciemicr.org/wp-content/uploads/2024/06/Verificaciones-de-Instalaciones-Electricas-1.jpg
END:VEVENT
BEGIN:VEVENT
DTSTART;TZID=America/Costa_Rica:20241024T180000
DTEND;TZID=America/Costa_Rica:20241024T210000
DTSTAMP:20260421T041009
CREATED:20240611T213941Z
LAST-MODIFIED:20240611T213941Z
UID:10001912-1729792800-1729803600@ciemicr.org
SUMMARY:Curso Verificaciones de Instalaciones Eléctricas
DESCRIPTION:Inscríbase \nPrograma
URL:https://ciemicr.org/eventosrefresh_css/curso-verificaciones-de-instalaciones-electricas-2/
LOCATION:Virtual\, Costa Rica
CATEGORIES:Capacitaciones
ATTACH;FMTTYPE=image/jpeg:https://ciemicr.org/wp-content/uploads/2024/06/Verificaciones-de-Instalaciones-Electricas-1.jpg
END:VEVENT
BEGIN:VEVENT
DTSTART;TZID=America/Costa_Rica:20241024T180000
DTEND;TZID=America/Costa_Rica:20241024T210000
DTSTAMP:20260421T041009
CREATED:20240611T213941Z
LAST-MODIFIED:20240611T213941Z
UID:10002330-1729792800-1729803600@ciemicr.org
SUMMARY:Curso Verificaciones de Instalaciones Eléctricas
DESCRIPTION:Inscríbase \nPrograma
URL:https://ciemicr.org/eventosrefresh_css/curso-verificaciones-de-instalaciones-electricas-3/
LOCATION:Virtual\, Costa Rica
CATEGORIES:Capacitaciones
ATTACH;FMTTYPE=image/jpeg:https://ciemicr.org/wp-content/uploads/2024/06/Verificaciones-de-Instalaciones-Electricas-1.jpg
END:VEVENT
END:VCALENDAR