BEGIN:VCALENDAR
VERSION:2.0
PRODID:-//CIEMI - ECPv6.15.13.1//NONSGML v1.0//EN
CALSCALE:GREGORIAN
METHOD:PUBLISH
X-WR-CALNAME:CIEMI
X-ORIGINAL-URL:https://ciemicr.org
X-WR-CALDESC:Eventos para CIEMI
REFRESH-INTERVAL;VALUE=DURATION:PT1H
X-Robots-Tag:noindex
X-PUBLISHED-TTL:PT1H
BEGIN:VTIMEZONE
TZID:America/Costa_Rica
BEGIN:STANDARD
TZOFFSETFROM:-0600
TZOFFSETTO:-0600
TZNAME:CST
DTSTART:20240101T000000
END:STANDARD
END:VTIMEZONE
BEGIN:VEVENT
DTSTART;TZID=America/Costa_Rica:20250114T180000
DTEND;TZID=America/Costa_Rica:20250114T210000
DTSTAMP:20260420T231729
CREATED:20241121T210627Z
LAST-MODIFIED:20241204T174105Z
UID:10001538-1736877600-1736888400@ciemicr.org
SUMMARY:Curso #3 Propiedades del Gas LP y Normativa Asociada a las Instalaciones de GLP
DESCRIPTION:Inscríbase \nPrograma
URL:https://ciemicr.org/eventosrefresh_css/curso-3-propiedades-del-gas-lp-y-normativa-asociada-a-las-instalaciones-de-glp-4/
LOCATION:Virtual\, Costa Rica
CATEGORIES:Capacitaciones
ATTACH;FMTTYPE=image/jpeg:https://ciemicr.org/wp-content/uploads/2024/11/Curso-3_Propiedades-del-Gas-LP-y-Normativa_Asociada-a-las-Instalaciones-de-GL.jpg
END:VEVENT
BEGIN:VEVENT
DTSTART;TZID=America/Costa_Rica:20250114T180000
DTEND;TZID=America/Costa_Rica:20250114T210000
DTSTAMP:20260420T231729
CREATED:20241121T210627Z
LAST-MODIFIED:20241121T210627Z
UID:10001953-1736877600-1736888400@ciemicr.org
SUMMARY:Curso #3 Propiedades del Gas LP y Normativa Asociada a las Instalaciones de GLP
DESCRIPTION:Inscríbase \nPrograma
URL:https://ciemicr.org/eventosrefresh_css/curso-3-propiedades-del-gas-lp-y-normativa-asociada-a-las-instalaciones-de-glp-4-2/
LOCATION:Virtual\, Costa Rica
CATEGORIES:Capacitaciones
ATTACH;FMTTYPE=image/jpeg:https://ciemicr.org/wp-content/uploads/2024/11/Curso-3_Propiedades-del-Gas-LP-y-Normativa_Asociada-a-las-Instalaciones-de-GL.jpg
END:VEVENT
BEGIN:VEVENT
DTSTART;TZID=America/Costa_Rica:20250114T180000
DTEND;TZID=America/Costa_Rica:20250114T210000
DTSTAMP:20260420T231729
CREATED:20241121T210627Z
LAST-MODIFIED:20241121T210627Z
UID:10002371-1736877600-1736888400@ciemicr.org
SUMMARY:Curso #3 Propiedades del Gas LP y Normativa Asociada a las Instalaciones de GLP
DESCRIPTION:Inscríbase \nPrograma
URL:https://ciemicr.org/eventosrefresh_css/curso-3-propiedades-del-gas-lp-y-normativa-asociada-a-las-instalaciones-de-glp-4-3/
LOCATION:Virtual\, Costa Rica
CATEGORIES:Capacitaciones
ATTACH;FMTTYPE=image/jpeg:https://ciemicr.org/wp-content/uploads/2024/11/Curso-3_Propiedades-del-Gas-LP-y-Normativa_Asociada-a-las-Instalaciones-de-GL.jpg
END:VEVENT
END:VCALENDAR