BEGIN:VCALENDAR
VERSION:2.0
PRODID:-//CIEMI - ECPv6.15.13.1//NONSGML v1.0//EN
CALSCALE:GREGORIAN
METHOD:PUBLISH
X-ORIGINAL-URL:https://ciemicr.org
X-WR-CALDESC:Eventos para CIEMI
REFRESH-INTERVAL;VALUE=DURATION:PT1H
X-Robots-Tag:noindex
X-PUBLISHED-TTL:PT1H
BEGIN:VTIMEZONE
TZID:America/Costa_Rica
BEGIN:STANDARD
TZOFFSETFROM:-0600
TZOFFSETTO:-0600
TZNAME:CST
DTSTART:20240101T000000
END:STANDARD
END:VTIMEZONE
BEGIN:VEVENT
DTSTART;TZID=America/Costa_Rica:20250224T080000
DTEND;TZID=America/Costa_Rica:20250224T170000
DTSTAMP:20260420T213046
CREATED:20250205T170438Z
LAST-MODIFIED:20250205T170438Z
UID:10001575-1740384000-1740416400@ciemicr.org
SUMMARY:Curso: FVOL101: Diseño e Instalación Solar Eléctrica (Sistemas Interactivos)
DESCRIPTION:Inscríbase
URL:https://ciemicr.org/eventosrefresh_css/curso-fvol101-diseno-e-instalacion-solar-electrica-sistemas-interactivos/
CATEGORIES:Capacitaciones
ATTACH;FMTTYPE=image/jpeg:https://ciemicr.org/wp-content/uploads/2024/03/CIEMI2024_FVOL101.jpg
END:VEVENT
BEGIN:VEVENT
DTSTART;TZID=America/Costa_Rica:20250224T080000
DTEND;TZID=America/Costa_Rica:20250224T170000
DTSTAMP:20260420T213046
CREATED:20250205T170438Z
LAST-MODIFIED:20250205T170438Z
UID:10001988-1740384000-1740416400@ciemicr.org
SUMMARY:Curso: FVOL101: Diseño e Instalación Solar Eléctrica (Sistemas Interactivos)
DESCRIPTION:Inscríbase
URL:https://ciemicr.org/eventosrefresh_css/curso-fvol101-diseno-e-instalacion-solar-electrica-sistemas-interactivos-2/
CATEGORIES:Capacitaciones
ATTACH;FMTTYPE=image/jpeg:https://ciemicr.org/wp-content/uploads/2024/03/CIEMI2024_FVOL101.jpg
END:VEVENT
BEGIN:VEVENT
DTSTART;TZID=America/Costa_Rica:20250224T080000
DTEND;TZID=America/Costa_Rica:20250224T170000
DTSTAMP:20260420T213046
CREATED:20250205T170438Z
LAST-MODIFIED:20250205T170438Z
UID:10002406-1740384000-1740416400@ciemicr.org
SUMMARY:Curso: FVOL101: Diseño e Instalación Solar Eléctrica (Sistemas Interactivos)
DESCRIPTION:Inscríbase
URL:https://ciemicr.org/eventosrefresh_css/curso-fvol101-diseno-e-instalacion-solar-electrica-sistemas-interactivos-3/
CATEGORIES:Capacitaciones
ATTACH;FMTTYPE=image/jpeg:https://ciemicr.org/wp-content/uploads/2024/03/CIEMI2024_FVOL101.jpg
END:VEVENT
BEGIN:VEVENT
DTSTART;TZID=America/Costa_Rica:20250224T080000
DTEND;TZID=America/Costa_Rica:20250224T170000
DTSTAMP:20260420T213046
CREATED:20250218T224615Z
LAST-MODIFIED:20250218T225107Z
UID:10001593-1740384000-1740416400@ciemicr.org
SUMMARY:Curso FVOL 202: Diseño Fotovoltaico Avanzado y el NEC (Sistemas Interactivos) - en línea
DESCRIPTION:Inscríbase \nPrograma
URL:https://ciemicr.org/eventosrefresh_css/curso-fvol-202-diseno-fotovoltaico-avanzado-y-el-nec-sistemas-interactivos-en-linea-4/
LOCATION:Virtual\, Costa Rica
CATEGORIES:Capacitaciones
ATTACH;FMTTYPE=image/png:https://ciemicr.org/wp-content/uploads/2025/02/CIEMI_2025_FVOL202.png
END:VEVENT
BEGIN:VEVENT
DTSTART;TZID=America/Costa_Rica:20250224T080000
DTEND;TZID=America/Costa_Rica:20250224T170000
DTSTAMP:20260420T213046
CREATED:20250218T224615Z
LAST-MODIFIED:20250218T224615Z
UID:10002006-1740384000-1740416400@ciemicr.org
SUMMARY:Curso FVOL 202: Diseño Fotovoltaico Avanzado y el NEC (Sistemas Interactivos) - en línea
DESCRIPTION:Inscríbase \nPrograma
URL:https://ciemicr.org/eventosrefresh_css/curso-fvol-202-diseno-fotovoltaico-avanzado-y-el-nec-sistemas-interactivos-en-linea-4-2/
LOCATION:Virtual\, Costa Rica
CATEGORIES:Capacitaciones
ATTACH;FMTTYPE=image/png:https://ciemicr.org/wp-content/uploads/2025/02/CIEMI_2025_FVOL202.png
END:VEVENT
BEGIN:VEVENT
DTSTART;TZID=America/Costa_Rica:20250224T080000
DTEND;TZID=America/Costa_Rica:20250224T170000
DTSTAMP:20260420T213046
CREATED:20250218T224615Z
LAST-MODIFIED:20250218T224615Z
UID:10002424-1740384000-1740416400@ciemicr.org
SUMMARY:Curso FVOL 202: Diseño Fotovoltaico Avanzado y el NEC (Sistemas Interactivos) - en línea
DESCRIPTION:Inscríbase \nPrograma
URL:https://ciemicr.org/eventosrefresh_css/curso-fvol-202-diseno-fotovoltaico-avanzado-y-el-nec-sistemas-interactivos-en-linea-4-3/
LOCATION:Virtual\, Costa Rica
CATEGORIES:Capacitaciones
ATTACH;FMTTYPE=image/png:https://ciemicr.org/wp-content/uploads/2025/02/CIEMI_2025_FVOL202.png
END:VEVENT
END:VCALENDAR