BEGIN:VCALENDAR
VERSION:2.0
PRODID:-//CIEMI - ECPv6.15.13.1//NONSGML v1.0//EN
CALSCALE:GREGORIAN
METHOD:PUBLISH
X-ORIGINAL-URL:https://ciemicr.org
X-WR-CALDESC:Eventos para CIEMI
REFRESH-INTERVAL;VALUE=DURATION:PT1H
X-Robots-Tag:noindex
X-PUBLISHED-TTL:PT1H
BEGIN:VTIMEZONE
TZID:America/Costa_Rica
BEGIN:STANDARD
TZOFFSETFROM:-0600
TZOFFSETTO:-0600
TZNAME:CST
DTSTART:20240101T000000
END:STANDARD
END:VTIMEZONE
BEGIN:VEVENT
DTSTART;TZID=America/Costa_Rica:20250226T180000
DTEND;TZID=America/Costa_Rica:20250226T210000
DTSTAMP:20260420T195406
CREATED:20241121T204444Z
LAST-MODIFIED:20250225T143842Z
UID:10001534-1740592800-1740603600@ciemicr.org
SUMMARY:Curso Sistemas de bombeo contra incendios y de tubería vertical
DESCRIPTION:Inscríbase \nPrograma
URL:https://ciemicr.org/eventosrefresh_css/curso-sistemas-de-bombeo-contra-incendios-y-de-tuberia-vertical-2/
LOCATION:Virtual\, Costa Rica
CATEGORIES:Capacitaciones
ATTACH;FMTTYPE=image/jpeg:https://ciemicr.org/wp-content/uploads/2024/11/Curso-Sistemas-de-bombeocontra-incendios-y-de-tuberiavertical-2.jpg
END:VEVENT
BEGIN:VEVENT
DTSTART;TZID=America/Costa_Rica:20250226T180000
DTEND;TZID=America/Costa_Rica:20250226T210000
DTSTAMP:20260420T195406
CREATED:20241121T204444Z
LAST-MODIFIED:20241121T204444Z
UID:10001949-1740592800-1740603600@ciemicr.org
SUMMARY:Curso Sistemas de bombeo contra incendios y de tubería vertical
DESCRIPTION:Inscríbase \nPrograma
URL:https://ciemicr.org/eventosrefresh_css/curso-sistemas-de-bombeo-contra-incendios-y-de-tuberia-vertical-2-2/
LOCATION:Virtual\, Costa Rica
CATEGORIES:Capacitaciones
ATTACH;FMTTYPE=image/jpeg:https://ciemicr.org/wp-content/uploads/2024/11/Curso-Sistemas-de-bombeocontra-incendios-y-de-tuberiavertical-2.jpg
END:VEVENT
BEGIN:VEVENT
DTSTART;TZID=America/Costa_Rica:20250226T180000
DTEND;TZID=America/Costa_Rica:20250226T210000
DTSTAMP:20260420T195406
CREATED:20241121T204444Z
LAST-MODIFIED:20241121T204444Z
UID:10002367-1740592800-1740603600@ciemicr.org
SUMMARY:Curso Sistemas de bombeo contra incendios y de tubería vertical
DESCRIPTION:Inscríbase \nPrograma
URL:https://ciemicr.org/eventosrefresh_css/curso-sistemas-de-bombeo-contra-incendios-y-de-tuberia-vertical-2-3/
LOCATION:Virtual\, Costa Rica
CATEGORIES:Capacitaciones
ATTACH;FMTTYPE=image/jpeg:https://ciemicr.org/wp-content/uploads/2024/11/Curso-Sistemas-de-bombeocontra-incendios-y-de-tuberiavertical-2.jpg
END:VEVENT
END:VCALENDAR