BEGIN:VCALENDAR
VERSION:2.0
PRODID:-//CIEMI - ECPv6.15.13.1//NONSGML v1.0//EN
CALSCALE:GREGORIAN
METHOD:PUBLISH
X-WR-CALNAME:CIEMI
X-ORIGINAL-URL:https://ciemicr.org
X-WR-CALDESC:Eventos para CIEMI
REFRESH-INTERVAL;VALUE=DURATION:PT1H
X-Robots-Tag:noindex
X-PUBLISHED-TTL:PT1H
BEGIN:VTIMEZONE
TZID:America/Costa_Rica
BEGIN:STANDARD
TZOFFSETFROM:-0600
TZOFFSETTO:-0600
TZNAME:CST
DTSTART:20240101T000000
END:STANDARD
END:VTIMEZONE
BEGIN:VEVENT
DTSTART;TZID=America/Costa_Rica:20250227T170000
DTEND;TZID=America/Costa_Rica:20250227T200000
DTSTAMP:20260420T194638
CREATED:20250128T013840Z
LAST-MODIFIED:20250225T145420Z
UID:10001572-1740675600-1740686400@ciemicr.org
SUMMARY:Curso Administración y Evaluación de Proyectos
DESCRIPTION:Más información
URL:https://ciemicr.org/eventosrefresh_css/curso-administracion-y-evaluacion-de-proyectos/
LOCATION:Virtual\, Costa Rica
CATEGORIES:Capacitaciones
ATTACH;FMTTYPE=image/jpeg:https://ciemicr.org/wp-content/uploads/2025/01/EXCEL-BASICO-CIEMI.jpg
END:VEVENT
BEGIN:VEVENT
DTSTART;TZID=America/Costa_Rica:20250227T170000
DTEND;TZID=America/Costa_Rica:20250227T200000
DTSTAMP:20260420T194638
CREATED:20250128T013840Z
LAST-MODIFIED:20250128T013840Z
UID:10001985-1740675600-1740686400@ciemicr.org
SUMMARY:Curso Administración y Evaluación de Proyectos
DESCRIPTION:Más información
URL:https://ciemicr.org/eventosrefresh_css/curso-administracion-y-evaluacion-de-proyectos-2/
LOCATION:Virtual\, Costa Rica
CATEGORIES:Capacitaciones
ATTACH;FMTTYPE=image/jpeg:https://ciemicr.org/wp-content/uploads/2025/01/EXCEL-BASICO-CIEMI.jpg
END:VEVENT
BEGIN:VEVENT
DTSTART;TZID=America/Costa_Rica:20250227T170000
DTEND;TZID=America/Costa_Rica:20250227T200000
DTSTAMP:20260420T194638
CREATED:20250128T013840Z
LAST-MODIFIED:20250128T013840Z
UID:10002403-1740675600-1740686400@ciemicr.org
SUMMARY:Curso Administración y Evaluación de Proyectos
DESCRIPTION:Más información
URL:https://ciemicr.org/eventosrefresh_css/curso-administracion-y-evaluacion-de-proyectos-3/
LOCATION:Virtual\, Costa Rica
CATEGORIES:Capacitaciones
ATTACH;FMTTYPE=image/jpeg:https://ciemicr.org/wp-content/uploads/2025/01/EXCEL-BASICO-CIEMI.jpg
END:VEVENT
END:VCALENDAR