BEGIN:VCALENDAR
VERSION:2.0
PRODID:-//CIEMI - ECPv6.15.13.1//NONSGML v1.0//EN
CALSCALE:GREGORIAN
METHOD:PUBLISH
X-WR-CALNAME:CIEMI
X-ORIGINAL-URL:https://ciemicr.org
X-WR-CALDESC:Eventos para CIEMI
REFRESH-INTERVAL;VALUE=DURATION:PT1H
X-Robots-Tag:noindex
X-PUBLISHED-TTL:PT1H
BEGIN:VTIMEZONE
TZID:America/Costa_Rica
BEGIN:STANDARD
TZOFFSETFROM:-0600
TZOFFSETTO:-0600
TZNAME:CST
DTSTART:20240101T000000
END:STANDARD
END:VTIMEZONE
BEGIN:VEVENT
DTSTART;TZID=America/Costa_Rica:20250423T080000
DTEND;TZID=America/Costa_Rica:20250423T170000
DTSTAMP:20260420T182101
CREATED:20250210T200831Z
LAST-MODIFIED:20250213T011109Z
UID:10001577-1745395200-1745427600@ciemicr.org
SUMMARY:Curso NFPA 101: Código de Seguridad Humana
DESCRIPTION:Inscríbase \nPrograma
URL:https://ciemicr.org/eventosrefresh_css/curso-nfpa-101-codigo-de-seguridad-humana-2/
CATEGORIES:Capacitaciones
ATTACH;FMTTYPE=image/jpeg:https://ciemicr.org/wp-content/uploads/2025/02/NFPA-101-22.jpg
END:VEVENT
BEGIN:VEVENT
DTSTART;TZID=America/Costa_Rica:20250423T080000
DTEND;TZID=America/Costa_Rica:20250423T170000
DTSTAMP:20260420T182101
CREATED:20250210T200831Z
LAST-MODIFIED:20250210T200831Z
UID:10001990-1745395200-1745427600@ciemicr.org
SUMMARY:Curso NFPA 101: Código de Seguridad Humana
DESCRIPTION:Inscríbase \nPrograma
URL:https://ciemicr.org/eventosrefresh_css/curso-nfpa-101-codigo-de-seguridad-humana-2-2/
CATEGORIES:Capacitaciones
ATTACH;FMTTYPE=image/jpeg:https://ciemicr.org/wp-content/uploads/2025/02/NFPA-101-22.jpg
END:VEVENT
BEGIN:VEVENT
DTSTART;TZID=America/Costa_Rica:20250423T080000
DTEND;TZID=America/Costa_Rica:20250423T170000
DTSTAMP:20260420T182101
CREATED:20250210T200831Z
LAST-MODIFIED:20250210T200831Z
UID:10002408-1745395200-1745427600@ciemicr.org
SUMMARY:Curso NFPA 101: Código de Seguridad Humana
DESCRIPTION:Inscríbase \nPrograma
URL:https://ciemicr.org/eventosrefresh_css/curso-nfpa-101-codigo-de-seguridad-humana-2-3/
CATEGORIES:Capacitaciones
ATTACH;FMTTYPE=image/jpeg:https://ciemicr.org/wp-content/uploads/2025/02/NFPA-101-22.jpg
END:VEVENT
END:VCALENDAR