BEGIN:VCALENDAR
VERSION:2.0
PRODID:-//CIEMI - ECPv6.15.13.1//NONSGML v1.0//EN
CALSCALE:GREGORIAN
METHOD:PUBLISH
X-WR-CALNAME:CIEMI
X-ORIGINAL-URL:https://ciemicr.org
X-WR-CALDESC:Eventos para CIEMI
REFRESH-INTERVAL;VALUE=DURATION:PT1H
X-Robots-Tag:noindex
X-PUBLISHED-TTL:PT1H
BEGIN:VTIMEZONE
TZID:America/Costa_Rica
BEGIN:STANDARD
TZOFFSETFROM:-0600
TZOFFSETTO:-0600
TZNAME:CST
DTSTART:20240101T000000
END:STANDARD
END:VTIMEZONE
BEGIN:VEVENT
DTSTART;TZID=America/Costa_Rica:20250811T080000
DTEND;TZID=America/Costa_Rica:20250811T170000
DTSTAMP:20260420T115409
CREATED:20250211T223604Z
LAST-MODIFIED:20250717T002848Z
UID:10001584-1754899200-1754931600@ciemicr.org
SUMMARY:Curso FVOL 101: Diseño e Instalación Solar Eléctrica (Sistemas Interactivos) - en línea
DESCRIPTION:Inscríbase \nPrograma 
URL:https://ciemicr.org/eventosrefresh_css/curso-fvol-101-diseno-e-instalacion-solar-electrica-sistemas-interactivos-en-linea-4/
LOCATION:Virtual\, Costa Rica
CATEGORIES:Capacitaciones
ATTACH;FMTTYPE=image/png:https://ciemicr.org/wp-content/uploads/2025/02/CIEMI_2025_FVOL101.png
END:VEVENT
BEGIN:VEVENT
DTSTART;TZID=America/Costa_Rica:20250811T080000
DTEND;TZID=America/Costa_Rica:20250811T170000
DTSTAMP:20260420T115409
CREATED:20250211T224434Z
LAST-MODIFIED:20250211T224434Z
UID:10001588-1754899200-1754931600@ciemicr.org
SUMMARY:Curso FVOL 202: Diseño Fotovoltaico Avanzado y el NEC (Sistemas Interactivos) - en línea
DESCRIPTION:Inscríbase
URL:https://ciemicr.org/eventosrefresh_css/curso-fvol-202-diseno-fotovoltaico-avanzado-y-el-nec-sistemas-interactivos-en-linea-2/
LOCATION:Virtual\, Costa Rica
CATEGORIES:Capacitaciones
ATTACH;FMTTYPE=image/png:https://ciemicr.org/wp-content/uploads/2025/02/CIEMI_2025_FVOL202.png
END:VEVENT
BEGIN:VEVENT
DTSTART;TZID=America/Costa_Rica:20250811T080000
DTEND;TZID=America/Costa_Rica:20250811T170000
DTSTAMP:20260420T115409
CREATED:20250225T154519Z
LAST-MODIFIED:20250225T165728Z
UID:10001595-1754899200-1754931600@ciemicr.org
SUMMARY:Curso PVOL206: Solar Business and Technical Sales - En línea
DESCRIPTION:Inscríbase  \nPrograma 
URL:https://ciemicr.org/eventosrefresh_css/curso-pvol206-solar-business-and-technical-sales-en-linea/
LOCATION:Virtual\, Costa Rica
CATEGORIES:Capacitaciones
ATTACH;FMTTYPE=image/png:https://ciemicr.org/wp-content/uploads/2025/02/CIEMI_2025_PVOL206.png
END:VEVENT
END:VCALENDAR