BEGIN:VCALENDAR
VERSION:2.0
PRODID:-//CIEMI - ECPv6.15.13.1//NONSGML v1.0//EN
CALSCALE:GREGORIAN
METHOD:PUBLISH
X-ORIGINAL-URL:https://ciemicr.org
X-WR-CALDESC:Eventos para CIEMI
REFRESH-INTERVAL;VALUE=DURATION:PT1H
X-Robots-Tag:noindex
X-PUBLISHED-TTL:PT1H
BEGIN:VTIMEZONE
TZID:America/Costa_Rica
BEGIN:STANDARD
TZOFFSETFROM:-0600
TZOFFSETTO:-0600
TZNAME:CST
DTSTART:20240101T000000
END:STANDARD
END:VTIMEZONE
BEGIN:VEVENT
DTSTART;TZID=America/Costa_Rica:20250923T180000
DTEND;TZID=America/Costa_Rica:20250923T210000
DTSTAMP:20260420T103251
CREATED:20241128T200749Z
LAST-MODIFIED:20250605T171321Z
UID:10001563-1758650400-1758661200@ciemicr.org
SUMMARY:Curso #4 Inspectores de instalaciones de consumo\, almacenamiento y venta de Gas Licuado de Petróleo “Basado en NFPA 58
DESCRIPTION:Inscríbase \nPrograma
URL:https://ciemicr.org/eventosrefresh_css/curso-4-inspectores-de-instalaciones-de-consumo-almacenamiento-y-venta-de-gas-licuado-de-petroleo-basado-en-nfpa-58-4/
LOCATION:Virtual\, Costa Rica
CATEGORIES:Capacitaciones
ATTACH;FMTTYPE=image/jpeg:https://ciemicr.org/wp-content/uploads/2024/11/Curso-4-Inspectores-de-instalaciones-de-consumo-almacenamiento-y-venta-de-Gas-SET-1.jpg
END:VEVENT
END:VCALENDAR