BEGIN:VCALENDAR
VERSION:2.0
PRODID:-//CIEMI - ECPv6.15.13.1//NONSGML v1.0//EN
CALSCALE:GREGORIAN
METHOD:PUBLISH
X-ORIGINAL-URL:https://ciemicr.org
X-WR-CALDESC:Eventos para CIEMI
REFRESH-INTERVAL;VALUE=DURATION:PT1H
X-Robots-Tag:noindex
X-PUBLISHED-TTL:PT1H
BEGIN:VTIMEZONE
TZID:America/Costa_Rica
BEGIN:STANDARD
TZOFFSETFROM:-0600
TZOFFSETTO:-0600
TZNAME:CST
DTSTART:20220101T000000
END:STANDARD
END:VTIMEZONE
BEGIN:VEVENT
DTSTART;TZID=America/Costa_Rica:20230323T150000
DTEND;TZID=America/Costa_Rica:20230323T163000
DTSTAMP:20260422T060034
CREATED:20230223T191631Z
LAST-MODIFIED:20230313T225821Z
UID:10000633-1679583600-1679589000@ciemicr.org
SUMMARY:Conferencia: Diseño y Evaluación de Sistemas de Control
DESCRIPTION:
URL:https://ciemicr.org/eventosrefresh_css/conferencia-diseno-y-evaluacion-de-sistemas-de-control/
LOCATION:Virtual\, Costa Rica
CATEGORIES:Conferencias
ATTACH;FMTTYPE=image/jpeg:https://ciemicr.org/wp-content/uploads/2023/02/Conferencias-COPIMERA-Orlando-Arrieta.jpg
END:VEVENT
BEGIN:VEVENT
DTSTART;TZID=America/Costa_Rica:20230323T150000
DTEND;TZID=America/Costa_Rica:20230323T163000
DTSTAMP:20260422T060034
CREATED:20230223T191631Z
LAST-MODIFIED:20230223T191631Z
UID:10001743-1679583600-1679589000@ciemicr.org
SUMMARY:Conferencia: Diseño y Evaluación de Sistemas de Control
DESCRIPTION:
URL:https://ciemicr.org/eventosrefresh_css/conferencia-diseno-y-evaluacion-de-sistemas-de-control-3/
LOCATION:Virtual\, Costa Rica
CATEGORIES:Conferencias
ATTACH;FMTTYPE=image/jpeg:https://ciemicr.org/wp-content/uploads/2023/02/Conferencias-COPIMERA-Orlando-Arrieta.jpg
END:VEVENT
BEGIN:VEVENT
DTSTART;TZID=America/Costa_Rica:20230323T150000
DTEND;TZID=America/Costa_Rica:20230323T163000
DTSTAMP:20260422T060034
CREATED:20230223T191631Z
LAST-MODIFIED:20230223T191631Z
UID:10002161-1679583600-1679589000@ciemicr.org
SUMMARY:Conferencia: Diseño y Evaluación de Sistemas de Control
DESCRIPTION:
URL:https://ciemicr.org/eventosrefresh_css/conferencia-diseno-y-evaluacion-de-sistemas-de-control-4/
LOCATION:Virtual\, Costa Rica
CATEGORIES:Conferencias
ATTACH;FMTTYPE=image/jpeg:https://ciemicr.org/wp-content/uploads/2023/02/Conferencias-COPIMERA-Orlando-Arrieta.jpg
END:VEVENT
END:VCALENDAR