BEGIN:VCALENDAR
VERSION:2.0
PRODID:-//CIEMI - ECPv6.15.13.1//NONSGML v1.0//EN
CALSCALE:GREGORIAN
METHOD:PUBLISH
X-WR-CALNAME:CIEMI
X-ORIGINAL-URL:https://ciemicr.org
X-WR-CALDESC:Eventos para CIEMI
REFRESH-INTERVAL;VALUE=DURATION:PT1H
X-Robots-Tag:noindex
X-PUBLISHED-TTL:PT1H
BEGIN:VTIMEZONE
TZID:America/Costa_Rica
BEGIN:STANDARD
TZOFFSETFROM:-0600
TZOFFSETTO:-0600
TZNAME:CST
DTSTART:20230101T000000
END:STANDARD
END:VTIMEZONE
BEGIN:VEVENT
DTSTART;TZID=America/Costa_Rica:20240612T170000
DTEND;TZID=America/Costa_Rica:20240612T170000
DTSTAMP:20260421T083728
CREATED:20240516T180616Z
LAST-MODIFIED:20240605T184458Z
UID:10000832-1718211600-1718211600@ciemicr.org
SUMMARY:Webinar: Potencial de la Inteligencia Artificial en el análisis de datos médicos
DESCRIPTION:Inscríbase aquí
URL:https://ciemicr.org/eventosrefresh_css/charla-con-cafe-y-cerveza-potencial-de-la-inteligencia-artificial-en-el-analisis-de-datos-medicos/
LOCATION:Virtual\, Costa Rica
CATEGORIES:Conferencias
ATTACH;FMTTYPE=image/jpeg:https://ciemicr.org/wp-content/uploads/2024/05/Webinar-Potencial-de-la-Inteligencia-Artificial-en-el-analisis-de-datos-medicos-1.jpg
END:VEVENT
BEGIN:VEVENT
DTSTART;TZID=America/Costa_Rica:20240612T170000
DTEND;TZID=America/Costa_Rica:20240612T170000
DTSTAMP:20260421T083728
CREATED:20240516T180616Z
LAST-MODIFIED:20240516T180616Z
UID:10001897-1718211600-1718211600@ciemicr.org
SUMMARY:Webinar: Potencial de la Inteligencia Artificial en el análisis de datos médicos
DESCRIPTION:Inscríbase aquí
URL:https://ciemicr.org/eventosrefresh_css/charla-con-cafe-y-cerveza-potencial-de-la-inteligencia-artificial-en-el-analisis-de-datos-medicos-2/
LOCATION:Virtual\, Costa Rica
CATEGORIES:Conferencias
ATTACH;FMTTYPE=image/jpeg:https://ciemicr.org/wp-content/uploads/2024/05/Webinar-Potencial-de-la-Inteligencia-Artificial-en-el-analisis-de-datos-medicos-1.jpg
END:VEVENT
BEGIN:VEVENT
DTSTART;TZID=America/Costa_Rica:20240612T170000
DTEND;TZID=America/Costa_Rica:20240612T170000
DTSTAMP:20260421T083728
CREATED:20240516T180616Z
LAST-MODIFIED:20240516T180616Z
UID:10002315-1718211600-1718211600@ciemicr.org
SUMMARY:Webinar: Potencial de la Inteligencia Artificial en el análisis de datos médicos
DESCRIPTION:Inscríbase aquí
URL:https://ciemicr.org/eventosrefresh_css/charla-con-cafe-y-cerveza-potencial-de-la-inteligencia-artificial-en-el-analisis-de-datos-medicos-3/
LOCATION:Virtual\, Costa Rica
CATEGORIES:Conferencias
ATTACH;FMTTYPE=image/jpeg:https://ciemicr.org/wp-content/uploads/2024/05/Webinar-Potencial-de-la-Inteligencia-Artificial-en-el-analisis-de-datos-medicos-1.jpg
END:VEVENT
BEGIN:VEVENT
DTSTART;TZID=America/Costa_Rica:20240619T170000
DTEND;TZID=America/Costa_Rica:20240619T170000
DTSTAMP:20260421T083728
CREATED:20240606T162343Z
LAST-MODIFIED:20240613T211840Z
UID:10000836-1718816400-1718816400@ciemicr.org
SUMMARY:Webinar Hidrógeno: Pasado\, presente y futuro en Costa Rica
DESCRIPTION:Inscríbase
URL:https://ciemicr.org/eventosrefresh_css/webinar-hidrogeno-pasado-presente-y-futuro-en-costa-rica/
LOCATION:Virtual\, Costa Rica
CATEGORIES:Conferencias
ATTACH;FMTTYPE=image/jpeg:https://ciemicr.org/wp-content/uploads/2024/06/Webinar-Hidrogeno-Pasado-presente-y-futuro-en-Costa-Rica-1.jpg
END:VEVENT
BEGIN:VEVENT
DTSTART;TZID=America/Costa_Rica:20240619T170000
DTEND;TZID=America/Costa_Rica:20240619T170000
DTSTAMP:20260421T083728
CREATED:20240606T162343Z
LAST-MODIFIED:20240606T162343Z
UID:10001901-1718816400-1718816400@ciemicr.org
SUMMARY:Webinar Hidrógeno: Pasado\, presente y futuro en Costa Rica
DESCRIPTION:Inscríbase
URL:https://ciemicr.org/eventosrefresh_css/webinar-hidrogeno-pasado-presente-y-futuro-en-costa-rica-2/
LOCATION:Virtual\, Costa Rica
CATEGORIES:Conferencias
ATTACH;FMTTYPE=image/jpeg:https://ciemicr.org/wp-content/uploads/2024/06/Webinar-Hidrogeno-Pasado-presente-y-futuro-en-Costa-Rica-1.jpg
END:VEVENT
BEGIN:VEVENT
DTSTART;TZID=America/Costa_Rica:20240619T170000
DTEND;TZID=America/Costa_Rica:20240619T170000
DTSTAMP:20260421T083728
CREATED:20240606T162343Z
LAST-MODIFIED:20240606T162343Z
UID:10002319-1718816400-1718816400@ciemicr.org
SUMMARY:Webinar Hidrógeno: Pasado\, presente y futuro en Costa Rica
DESCRIPTION:Inscríbase
URL:https://ciemicr.org/eventosrefresh_css/webinar-hidrogeno-pasado-presente-y-futuro-en-costa-rica-3/
LOCATION:Virtual\, Costa Rica
CATEGORIES:Conferencias
ATTACH;FMTTYPE=image/jpeg:https://ciemicr.org/wp-content/uploads/2024/06/Webinar-Hidrogeno-Pasado-presente-y-futuro-en-Costa-Rica-1.jpg
END:VEVENT
BEGIN:VEVENT
DTSTART;TZID=America/Costa_Rica:20240627T180000
DTEND;TZID=America/Costa_Rica:20240627T180000
DTSTAMP:20260421T083728
CREATED:20240606T160538Z
LAST-MODIFIED:20240614T164221Z
UID:10000835-1719511200-1719511200@ciemicr.org
SUMMARY:Webinar Riesgos Especiales en Protección Contra Incendios
DESCRIPTION:Inscríbase aquí
URL:https://ciemicr.org/eventosrefresh_css/webinar-riesgos-especiales-en-proteccion-contra-incendios/
LOCATION:Virtual\, Costa Rica
CATEGORIES:Conferencias
ATTACH;FMTTYPE=image/jpeg:https://ciemicr.org/wp-content/uploads/2024/06/Webinar-Riesgos-Especiales-en-Proteccion-Contra-Incendios-1.jpg
END:VEVENT
BEGIN:VEVENT
DTSTART;TZID=America/Costa_Rica:20240627T180000
DTEND;TZID=America/Costa_Rica:20240627T180000
DTSTAMP:20260421T083728
CREATED:20240606T160538Z
LAST-MODIFIED:20240606T160538Z
UID:10001900-1719511200-1719511200@ciemicr.org
SUMMARY:Webinar Riesgos Especiales en Protección Contra Incendios
DESCRIPTION:Inscríbase aquí
URL:https://ciemicr.org/eventosrefresh_css/webinar-riesgos-especiales-en-proteccion-contra-incendios-2/
LOCATION:Virtual\, Costa Rica
CATEGORIES:Conferencias
ATTACH;FMTTYPE=image/jpeg:https://ciemicr.org/wp-content/uploads/2024/06/Webinar-Riesgos-Especiales-en-Proteccion-Contra-Incendios-1.jpg
END:VEVENT
BEGIN:VEVENT
DTSTART;TZID=America/Costa_Rica:20240627T180000
DTEND;TZID=America/Costa_Rica:20240627T180000
DTSTAMP:20260421T083728
CREATED:20240606T160538Z
LAST-MODIFIED:20240606T160538Z
UID:10002318-1719511200-1719511200@ciemicr.org
SUMMARY:Webinar Riesgos Especiales en Protección Contra Incendios
DESCRIPTION:Inscríbase aquí
URL:https://ciemicr.org/eventosrefresh_css/webinar-riesgos-especiales-en-proteccion-contra-incendios-3/
LOCATION:Virtual\, Costa Rica
CATEGORIES:Conferencias
ATTACH;FMTTYPE=image/jpeg:https://ciemicr.org/wp-content/uploads/2024/06/Webinar-Riesgos-Especiales-en-Proteccion-Contra-Incendios-1.jpg
END:VEVENT
END:VCALENDAR