BEGIN:VCALENDAR
VERSION:2.0
PRODID:-//CIEMI - ECPv6.15.13.1//NONSGML v1.0//EN
CALSCALE:GREGORIAN
METHOD:PUBLISH
X-WR-CALNAME:CIEMI
X-ORIGINAL-URL:https://ciemicr.org
X-WR-CALDESC:Eventos para CIEMI
REFRESH-INTERVAL;VALUE=DURATION:PT1H
X-Robots-Tag:noindex
X-PUBLISHED-TTL:PT1H
BEGIN:VTIMEZONE
TZID:America/Costa_Rica
BEGIN:STANDARD
TZOFFSETFROM:-0600
TZOFFSETTO:-0600
TZNAME:CST
DTSTART:20220101T000000
END:STANDARD
END:VTIMEZONE
BEGIN:VEVENT
DTSTART;TZID=America/Costa_Rica:20230718T180000
DTEND;TZID=America/Costa_Rica:20230718T180000
DTSTAMP:20260422T015241
CREATED:20230619T203230Z
LAST-MODIFIED:20230703T173405Z
UID:10000678-1689703200-1689703200@ciemicr.org
SUMMARY:Conferencia Introducción a 5G y sus servicios
DESCRIPTION:Inscríbase aquí
URL:https://ciemicr.org/eventosrefresh_css/conferencia-introduccion-a-5g-y-sus-servicios/
LOCATION:CIEMI Contiguo al Indoor Club. Urbanización La Alameda\, San José\, CIEMI
CATEGORIES:Conferencias
ATTACH;FMTTYPE=image/jpeg:https://ciemicr.org/wp-content/uploads/2023/06/Conferencia-Introduccion-a-5G-y-sus-servicios-1.jpg
END:VEVENT
BEGIN:VEVENT
DTSTART;TZID=America/Costa_Rica:20230718T180000
DTEND;TZID=America/Costa_Rica:20230718T180000
DTSTAMP:20260422T015241
CREATED:20230619T203230Z
LAST-MODIFIED:20230619T203230Z
UID:10001770-1689703200-1689703200@ciemicr.org
SUMMARY:Conferencia Introducción a 5G y sus servicios
DESCRIPTION:Inscríbase aquí
URL:https://ciemicr.org/eventosrefresh_css/conferencia-introduccion-a-5g-y-sus-servicios-3/
LOCATION:CIEMI Contiguo al Indoor Club. Urbanización La Alameda\, San José\, CIEMI
CATEGORIES:Conferencias
ATTACH;FMTTYPE=image/jpeg:https://ciemicr.org/wp-content/uploads/2023/06/Conferencia-Introduccion-a-5G-y-sus-servicios-1.jpg
END:VEVENT
BEGIN:VEVENT
DTSTART;TZID=America/Costa_Rica:20230718T180000
DTEND;TZID=America/Costa_Rica:20230718T180000
DTSTAMP:20260422T015241
CREATED:20230619T203230Z
LAST-MODIFIED:20230619T203230Z
UID:10002188-1689703200-1689703200@ciemicr.org
SUMMARY:Conferencia Introducción a 5G y sus servicios
DESCRIPTION:Inscríbase aquí
URL:https://ciemicr.org/eventosrefresh_css/conferencia-introduccion-a-5g-y-sus-servicios-4/
LOCATION:CIEMI Contiguo al Indoor Club. Urbanización La Alameda\, San José\, CIEMI
CATEGORIES:Conferencias
ATTACH;FMTTYPE=image/jpeg:https://ciemicr.org/wp-content/uploads/2023/06/Conferencia-Introduccion-a-5G-y-sus-servicios-1.jpg
END:VEVENT
END:VCALENDAR