BEGIN:VCALENDAR
VERSION:2.0
PRODID:-//CIEMI - ECPv6.15.13.1//NONSGML v1.0//EN
CALSCALE:GREGORIAN
METHOD:PUBLISH
X-WR-CALNAME:CIEMI
X-ORIGINAL-URL:https://ciemicr.org
X-WR-CALDESC:Eventos para CIEMI
REFRESH-INTERVAL;VALUE=DURATION:PT1H
X-Robots-Tag:noindex
X-PUBLISHED-TTL:PT1H
BEGIN:VTIMEZONE
TZID:America/Costa_Rica
BEGIN:STANDARD
TZOFFSETFROM:-0600
TZOFFSETTO:-0600
TZNAME:CST
DTSTART:20220101T000000
END:STANDARD
END:VTIMEZONE
BEGIN:VEVENT
DTSTART;TZID=America/Costa_Rica:20230831T180000
DTEND;TZID=America/Costa_Rica:20230831T180000
DTSTAMP:20260421T231139
CREATED:20230731T174713Z
LAST-MODIFIED:20230807T221809Z
UID:10000696-1693504800-1693504800@ciemicr.org
SUMMARY:Webinar “Buenas Prácticas para el despliegue de Redes de Telecomunicaciones en Inmuebles Empresariales y Comerciales con Infraestructura”
DESCRIPTION:Regístrese aquí
URL:https://ciemicr.org/eventosrefresh_css/webinar-buenas-practicas-para-el-despliegue-de-redes-de-telecomunicaciones-en-inmuebles-empresariales-y-comerciales-con-infraestructura/
LOCATION:Virtual\, Costa Rica
CATEGORIES:Conferencias
ATTACH;FMTTYPE=image/jpeg:https://ciemicr.org/wp-content/uploads/2023/07/Webinar-Buenas-Practicas-para-el-despliegue-de-Redes-de-Telecomunicaciones-en-Inmuebles-Empresariales-y-Comerciales-con-Infraestructura-3.jpg
END:VEVENT
BEGIN:VEVENT
DTSTART;TZID=America/Costa_Rica:20230831T180000
DTEND;TZID=America/Costa_Rica:20230831T180000
DTSTAMP:20260421T231139
CREATED:20230731T174713Z
LAST-MODIFIED:20230731T174713Z
UID:10001785-1693504800-1693504800@ciemicr.org
SUMMARY:Webinar “Buenas Prácticas para el despliegue de Redes de Telecomunicaciones en Inmuebles Empresariales y Comerciales con Infraestructura”
DESCRIPTION:Regístrese aquí
URL:https://ciemicr.org/eventosrefresh_css/webinar-buenas-practicas-para-el-despliegue-de-redes-de-telecomunicaciones-en-inmuebles-empresariales-y-comerciales-con-infraestructura-3/
LOCATION:Virtual\, Costa Rica
CATEGORIES:Conferencias
ATTACH;FMTTYPE=image/jpeg:https://ciemicr.org/wp-content/uploads/2023/07/Webinar-Buenas-Practicas-para-el-despliegue-de-Redes-de-Telecomunicaciones-en-Inmuebles-Empresariales-y-Comerciales-con-Infraestructura-3.jpg
END:VEVENT
BEGIN:VEVENT
DTSTART;TZID=America/Costa_Rica:20230831T180000
DTEND;TZID=America/Costa_Rica:20230831T180000
DTSTAMP:20260421T231139
CREATED:20230731T174713Z
LAST-MODIFIED:20230731T174713Z
UID:10002203-1693504800-1693504800@ciemicr.org
SUMMARY:Webinar “Buenas Prácticas para el despliegue de Redes de Telecomunicaciones en Inmuebles Empresariales y Comerciales con Infraestructura”
DESCRIPTION:Regístrese aquí
URL:https://ciemicr.org/eventosrefresh_css/webinar-buenas-practicas-para-el-despliegue-de-redes-de-telecomunicaciones-en-inmuebles-empresariales-y-comerciales-con-infraestructura-4/
LOCATION:Virtual\, Costa Rica
CATEGORIES:Conferencias
ATTACH;FMTTYPE=image/jpeg:https://ciemicr.org/wp-content/uploads/2023/07/Webinar-Buenas-Practicas-para-el-despliegue-de-Redes-de-Telecomunicaciones-en-Inmuebles-Empresariales-y-Comerciales-con-Infraestructura-3.jpg
END:VEVENT
END:VCALENDAR