BEGIN:VCALENDAR
VERSION:2.0
PRODID:-//CIEMI - ECPv6.15.13.1//NONSGML v1.0//EN
CALSCALE:GREGORIAN
METHOD:PUBLISH
X-WR-CALNAME:CIEMI
X-ORIGINAL-URL:https://ciemicr.org
X-WR-CALDESC:Eventos para CIEMI
REFRESH-INTERVAL;VALUE=DURATION:PT1H
X-Robots-Tag:noindex
X-PUBLISHED-TTL:PT1H
BEGIN:VTIMEZONE
TZID:America/Costa_Rica
BEGIN:STANDARD
TZOFFSETFROM:-0600
TZOFFSETTO:-0600
TZNAME:CST
DTSTART:20230101T000000
END:STANDARD
END:VTIMEZONE
BEGIN:VEVENT
DTSTART;TZID=America/Costa_Rica:20240402T180000
DTEND;TZID=America/Costa_Rica:20240402T180000
DTSTAMP:20260421T130317
CREATED:20240213T143330Z
LAST-MODIFIED:20240301T024753Z
UID:10000781-1712080800-1712080800@ciemicr.org
SUMMARY:Webinar BIM y la transformación de la construcción en Costa Rica
DESCRIPTION:Inscríbase aquí \nMás información
URL:https://ciemicr.org/eventosrefresh_css/webinar-mitos-del-bim-por-que-impacta-la-productividad-en-tu-empresa/
LOCATION:Virtual\, Costa Rica
CATEGORIES:Conferencias
ATTACH;FMTTYPE=image/jpeg:https://ciemicr.org/wp-content/uploads/2024/02/Webinar-Mitos-del-BIM-¿Por-que-impacta-la-productividad-en-tu-empresa-6.jpg
END:VEVENT
BEGIN:VEVENT
DTSTART;TZID=America/Costa_Rica:20240402T180000
DTEND;TZID=America/Costa_Rica:20240402T180000
DTSTAMP:20260421T130317
CREATED:20240213T143330Z
LAST-MODIFIED:20240213T143330Z
UID:10001855-1712080800-1712080800@ciemicr.org
SUMMARY:Webinar BIM y la transformación de la construcción en Costa Rica
DESCRIPTION:Inscríbase aquí \nMás información
URL:https://ciemicr.org/eventosrefresh_css/webinar-mitos-del-bim-por-que-impacta-la-productividad-en-tu-empresa-2/
LOCATION:Virtual\, Costa Rica
CATEGORIES:Conferencias
ATTACH;FMTTYPE=image/jpeg:https://ciemicr.org/wp-content/uploads/2024/02/Webinar-Mitos-del-BIM-¿Por-que-impacta-la-productividad-en-tu-empresa-6.jpg
END:VEVENT
BEGIN:VEVENT
DTSTART;TZID=America/Costa_Rica:20240402T180000
DTEND;TZID=America/Costa_Rica:20240402T180000
DTSTAMP:20260421T130317
CREATED:20240213T143330Z
LAST-MODIFIED:20240213T143330Z
UID:10002273-1712080800-1712080800@ciemicr.org
SUMMARY:Webinar BIM y la transformación de la construcción en Costa Rica
DESCRIPTION:Inscríbase aquí \nMás información
URL:https://ciemicr.org/eventosrefresh_css/webinar-mitos-del-bim-por-que-impacta-la-productividad-en-tu-empresa-3/
LOCATION:Virtual\, Costa Rica
CATEGORIES:Conferencias
ATTACH;FMTTYPE=image/jpeg:https://ciemicr.org/wp-content/uploads/2024/02/Webinar-Mitos-del-BIM-¿Por-que-impacta-la-productividad-en-tu-empresa-6.jpg
END:VEVENT
END:VCALENDAR