BEGIN:VCALENDAR
VERSION:2.0
PRODID:-//CIEMI - ECPv6.15.13.1//NONSGML v1.0//EN
CALSCALE:GREGORIAN
METHOD:PUBLISH
X-ORIGINAL-URL:https://ciemicr.org
X-WR-CALDESC:Eventos para CIEMI
REFRESH-INTERVAL;VALUE=DURATION:PT1H
X-Robots-Tag:noindex
X-PUBLISHED-TTL:PT1H
BEGIN:VTIMEZONE
TZID:America/Costa_Rica
BEGIN:STANDARD
TZOFFSETFROM:-0600
TZOFFSETTO:-0600
TZNAME:CST
DTSTART:20230101T000000
END:STANDARD
END:VTIMEZONE
BEGIN:VEVENT
DTSTART;TZID=America/Costa_Rica:20240403T180000
DTEND;TZID=America/Costa_Rica:20240403T180000
DTSTAMP:20260421T130532
CREATED:20240319T171209Z
LAST-MODIFIED:20240320T152210Z
UID:10000796-1712167200-1712167200@ciemicr.org
SUMMARY:Webinar Movilidad Eléctrica
DESCRIPTION:Inscríbase aquí
URL:https://ciemicr.org/eventosrefresh_css/webinar-movilidad-electrica/
LOCATION:Virtual\, Costa Rica
CATEGORIES:Conferencias
ATTACH;FMTTYPE=image/jpeg:https://ciemicr.org/wp-content/uploads/2024/03/Webinar-Movilidad-Electrica-1.jpg
END:VEVENT
BEGIN:VEVENT
DTSTART;TZID=America/Costa_Rica:20240403T180000
DTEND;TZID=America/Costa_Rica:20240403T180000
DTSTAMP:20260421T130532
CREATED:20240319T171209Z
LAST-MODIFIED:20240319T171209Z
UID:10001867-1712167200-1712167200@ciemicr.org
SUMMARY:Webinar Movilidad Eléctrica
DESCRIPTION:Inscríbase aquí
URL:https://ciemicr.org/eventosrefresh_css/webinar-movilidad-electrica-2/
LOCATION:Virtual\, Costa Rica
CATEGORIES:Conferencias
ATTACH;FMTTYPE=image/jpeg:https://ciemicr.org/wp-content/uploads/2024/03/Webinar-Movilidad-Electrica-1.jpg
END:VEVENT
BEGIN:VEVENT
DTSTART;TZID=America/Costa_Rica:20240403T180000
DTEND;TZID=America/Costa_Rica:20240403T180000
DTSTAMP:20260421T130532
CREATED:20240319T171209Z
LAST-MODIFIED:20240319T171209Z
UID:10002285-1712167200-1712167200@ciemicr.org
SUMMARY:Webinar Movilidad Eléctrica
DESCRIPTION:Inscríbase aquí
URL:https://ciemicr.org/eventosrefresh_css/webinar-movilidad-electrica-3/
LOCATION:Virtual\, Costa Rica
CATEGORIES:Conferencias
ATTACH;FMTTYPE=image/jpeg:https://ciemicr.org/wp-content/uploads/2024/03/Webinar-Movilidad-Electrica-1.jpg
END:VEVENT
END:VCALENDAR