BEGIN:VCALENDAR
VERSION:2.0
PRODID:-//CIEMI - ECPv6.15.13.1//NONSGML v1.0//EN
CALSCALE:GREGORIAN
METHOD:PUBLISH
X-WR-CALNAME:CIEMI
X-ORIGINAL-URL:https://ciemicr.org
X-WR-CALDESC:Eventos para CIEMI
REFRESH-INTERVAL;VALUE=DURATION:PT1H
X-Robots-Tag:noindex
X-PUBLISHED-TTL:PT1H
BEGIN:VTIMEZONE
TZID:America/Costa_Rica
BEGIN:STANDARD
TZOFFSETFROM:-0600
TZOFFSETTO:-0600
TZNAME:CST
DTSTART:20230101T000000
END:STANDARD
END:VTIMEZONE
BEGIN:VEVENT
DTSTART;TZID=America/Costa_Rica:20240627T180000
DTEND;TZID=America/Costa_Rica:20240627T180000
DTSTAMP:20260421T100823
CREATED:20240606T160538Z
LAST-MODIFIED:20240614T164221Z
UID:10000835-1719511200-1719511200@ciemicr.org
SUMMARY:Webinar Riesgos Especiales en Protección Contra Incendios
DESCRIPTION:Inscríbase aquí
URL:https://ciemicr.org/eventosrefresh_css/webinar-riesgos-especiales-en-proteccion-contra-incendios/
LOCATION:Virtual\, Costa Rica
CATEGORIES:Conferencias
ATTACH;FMTTYPE=image/jpeg:https://ciemicr.org/wp-content/uploads/2024/06/Webinar-Riesgos-Especiales-en-Proteccion-Contra-Incendios-1.jpg
END:VEVENT
BEGIN:VEVENT
DTSTART;TZID=America/Costa_Rica:20240627T180000
DTEND;TZID=America/Costa_Rica:20240627T180000
DTSTAMP:20260421T100823
CREATED:20240606T160538Z
LAST-MODIFIED:20240606T160538Z
UID:10001900-1719511200-1719511200@ciemicr.org
SUMMARY:Webinar Riesgos Especiales en Protección Contra Incendios
DESCRIPTION:Inscríbase aquí
URL:https://ciemicr.org/eventosrefresh_css/webinar-riesgos-especiales-en-proteccion-contra-incendios-2/
LOCATION:Virtual\, Costa Rica
CATEGORIES:Conferencias
ATTACH;FMTTYPE=image/jpeg:https://ciemicr.org/wp-content/uploads/2024/06/Webinar-Riesgos-Especiales-en-Proteccion-Contra-Incendios-1.jpg
END:VEVENT
BEGIN:VEVENT
DTSTART;TZID=America/Costa_Rica:20240627T180000
DTEND;TZID=America/Costa_Rica:20240627T180000
DTSTAMP:20260421T100823
CREATED:20240606T160538Z
LAST-MODIFIED:20240606T160538Z
UID:10002318-1719511200-1719511200@ciemicr.org
SUMMARY:Webinar Riesgos Especiales en Protección Contra Incendios
DESCRIPTION:Inscríbase aquí
URL:https://ciemicr.org/eventosrefresh_css/webinar-riesgos-especiales-en-proteccion-contra-incendios-3/
LOCATION:Virtual\, Costa Rica
CATEGORIES:Conferencias
ATTACH;FMTTYPE=image/jpeg:https://ciemicr.org/wp-content/uploads/2024/06/Webinar-Riesgos-Especiales-en-Proteccion-Contra-Incendios-1.jpg
END:VEVENT
END:VCALENDAR