BEGIN:VCALENDAR
VERSION:2.0
PRODID:-//CIEMI - ECPv6.15.13.1//NONSGML v1.0//EN
CALSCALE:GREGORIAN
METHOD:PUBLISH
X-ORIGINAL-URL:https://ciemicr.org
X-WR-CALDESC:Eventos para CIEMI
REFRESH-INTERVAL;VALUE=DURATION:PT1H
X-Robots-Tag:noindex
X-PUBLISHED-TTL:PT1H
BEGIN:VTIMEZONE
TZID:America/Costa_Rica
BEGIN:STANDARD
TZOFFSETFROM:-0600
TZOFFSETTO:-0600
TZNAME:CST
DTSTART:20240101T000000
END:STANDARD
END:VTIMEZONE
BEGIN:VEVENT
DTSTART;TZID=America/Costa_Rica:20250430T180000
DTEND;TZID=America/Costa_Rica:20250430T180000
DTSTAMP:20260420T185512
CREATED:20250303T220354Z
LAST-MODIFIED:20250310T180305Z
UID:10001613-1746036000-1746036000@ciemicr.org
SUMMARY:Conversatorio Importancia del Gemelo Digital en el desarrollo de Ciudades Inteligentes
DESCRIPTION:Inscríbase
URL:https://ciemicr.org/eventosrefresh_css/conversatorio-importancia-del-gemelo-digital-en-el-desarrollo-de-ciudades-inteligentes/
LOCATION:Virtual\, Costa Rica
CATEGORIES:Conferencias
ATTACH;FMTTYPE=image/jpeg:https://ciemicr.org/wp-content/uploads/2025/03/Conferencia-1-2025.jpg
END:VEVENT
END:VCALENDAR