BEGIN:VCALENDAR
VERSION:2.0
PRODID:-//CIEMI - ECPv6.15.13.1//NONSGML v1.0//EN
CALSCALE:GREGORIAN
METHOD:PUBLISH
X-ORIGINAL-URL:https://ciemicr.org
X-WR-CALDESC:Eventos para CIEMI
REFRESH-INTERVAL;VALUE=DURATION:PT1H
X-Robots-Tag:noindex
X-PUBLISHED-TTL:PT1H
BEGIN:VTIMEZONE
TZID:America/Costa_Rica
BEGIN:STANDARD
TZOFFSETFROM:-0600
TZOFFSETTO:-0600
TZNAME:CST
DTSTART:20240101T000000
END:STANDARD
END:VTIMEZONE
BEGIN:VEVENT
DTSTART;TZID=America/Costa_Rica:20250505T180000
DTEND;TZID=America/Costa_Rica:20250505T180000
DTSTAMP:20260420T172637
CREATED:20250324T213124Z
LAST-MODIFIED:20250324T213124Z
UID:10002028-1746468000-1746468000@ciemicr.org
SUMMARY:Webinar Contrato APC y Herramientas para resolución de conflictos
DESCRIPTION:Inscríbase 
URL:https://ciemicr.org/eventosrefresh_css/contrato-apc-y-herramientas-para-resolucion-de-conflictos-modalidades-de-resolucion-de-conflictos-y-las-clausulas-del-contrato-apc-para-contratistas-de-proyectos-electromecanicos-2/
LOCATION:Virtual\, Costa Rica
CATEGORIES:Conferencias
ATTACH;FMTTYPE=image/jpeg:https://ciemicr.org/wp-content/uploads/2025/03/web.-apc.jpg
END:VEVENT
END:VCALENDAR