BEGIN:VCALENDAR
VERSION:2.0
PRODID:-//CIEMI - ECPv6.15.13.1//NONSGML v1.0//EN
CALSCALE:GREGORIAN
METHOD:PUBLISH
X-WR-CALNAME:CIEMI
X-ORIGINAL-URL:https://ciemicr.org
X-WR-CALDESC:Eventos para CIEMI
REFRESH-INTERVAL;VALUE=DURATION:PT1H
X-Robots-Tag:noindex
X-PUBLISHED-TTL:PT1H
BEGIN:VTIMEZONE
TZID:America/Costa_Rica
BEGIN:STANDARD
TZOFFSETFROM:-0600
TZOFFSETTO:-0600
TZNAME:CST
DTSTART:20240101T000000
END:STANDARD
END:VTIMEZONE
BEGIN:VEVENT
DTSTART;TZID=America/Costa_Rica:20250506T180000
DTEND;TZID=America/Costa_Rica:20250506T180000
DTSTAMP:20260420T171704
CREATED:20250407T150726Z
LAST-MODIFIED:20250407T150726Z
UID:10002034-1746554400-1746554400@ciemicr.org
SUMMARY:Conferencia Supresores de Transientes y Sistema de Puesta a Tierra
DESCRIPTION:Inscríbase
URL:https://ciemicr.org/eventosrefresh_css/conferencia-supresores-de-transientes-y-sistema-de-puesta-a-tierra/
LOCATION:Virtual\, Costa Rica
CATEGORIES:Conferencias
ATTACH;FMTTYPE=image/jpeg:https://ciemicr.org/wp-content/uploads/2025/04/supresores-COOPEGUANACASTE.jpg
END:VEVENT
END:VCALENDAR