BEGIN:VCALENDAR
VERSION:2.0
PRODID:-//CIEMI - ECPv6.15.13.1//NONSGML v1.0//EN
CALSCALE:GREGORIAN
METHOD:PUBLISH
X-WR-CALNAME:CIEMI
X-ORIGINAL-URL:https://ciemicr.org
X-WR-CALDESC:Eventos para CIEMI
REFRESH-INTERVAL;VALUE=DURATION:PT1H
X-Robots-Tag:noindex
X-PUBLISHED-TTL:PT1H
BEGIN:VTIMEZONE
TZID:America/Costa_Rica
BEGIN:STANDARD
TZOFFSETFROM:-0600
TZOFFSETTO:-0600
TZNAME:CST
DTSTART:20240101T000000
END:STANDARD
END:VTIMEZONE
BEGIN:VEVENT
DTSTART;TZID=America/Costa_Rica:20250702T183000
DTEND;TZID=America/Costa_Rica:20250702T183000
DTSTAMP:20260420T155208
CREATED:20250616T230211Z
LAST-MODIFIED:20250619T181805Z
UID:10002470-1751481000-1751481000@ciemicr.org
SUMMARY:Webinar Los ataques cibernéticos en la era de la IA-el adversario artificial
DESCRIPTION:Inscríbase
URL:https://ciemicr.org/eventosrefresh_css/webinar-los-ataques-ciberneticos-en-la-era-de-la-ia-el-adversario-artificial/
LOCATION:Virtual\, Costa Rica
CATEGORIES:Conferencias
ATTACH;FMTTYPE=image/jpeg:https://ciemicr.org/wp-content/uploads/2025/06/WEBINAR-1.jpg
END:VEVENT
END:VCALENDAR