BEGIN:VCALENDAR
VERSION:2.0
PRODID:-//CIEMI - ECPv6.15.13.1//NONSGML v1.0//EN
CALSCALE:GREGORIAN
METHOD:PUBLISH
X-ORIGINAL-URL:https://ciemicr.org
X-WR-CALDESC:Eventos para CIEMI
REFRESH-INTERVAL;VALUE=DURATION:PT1H
X-Robots-Tag:noindex
X-PUBLISHED-TTL:PT1H
BEGIN:VTIMEZONE
TZID:America/Costa_Rica
BEGIN:STANDARD
TZOFFSETFROM:-0600
TZOFFSETTO:-0600
TZNAME:CST
DTSTART:20230101T000000
END:STANDARD
END:VTIMEZONE
BEGIN:VEVENT
DTSTART;TZID=America/Costa_Rica:20241017T173000
DTEND;TZID=America/Costa_Rica:20241017T173000
DTSTAMP:20260421T063211
CREATED:20240926T205659Z
LAST-MODIFIED:20240926T205851Z
UID:10001522-1729186200-1729186200@ciemicr.org
SUMMARY:Asamblea General Ordinaria No. 01-2024/2025 - AGO
DESCRIPTION:Orden del día \nInformes
URL:https://ciemicr.org/eventosrefresh_css/asamblea-general-ordinaria-no-01-2024-2025-ago/
CATEGORIES:Eventos
ATTACH;FMTTYPE=image/jpeg:https://ciemicr.org/wp-content/uploads/2024/09/Invitacion.jpg
END:VEVENT
BEGIN:VEVENT
DTSTART;TZID=America/Costa_Rica:20241017T173000
DTEND;TZID=America/Costa_Rica:20241017T173000
DTSTAMP:20260421T063211
CREATED:20240926T205659Z
LAST-MODIFIED:20240926T205659Z
UID:10001938-1729186200-1729186200@ciemicr.org
SUMMARY:Asamblea General Ordinaria No. 01-2024/2025 - AGO
DESCRIPTION:Orden del día \nInformes
URL:https://ciemicr.org/eventosrefresh_css/asamblea-general-ordinaria-no-01-2024-2025-ago-2/
CATEGORIES:Eventos
ATTACH;FMTTYPE=image/jpeg:https://ciemicr.org/wp-content/uploads/2024/09/Invitacion.jpg
END:VEVENT
BEGIN:VEVENT
DTSTART;TZID=America/Costa_Rica:20241017T173000
DTEND;TZID=America/Costa_Rica:20241017T173000
DTSTAMP:20260421T063211
CREATED:20240926T205659Z
LAST-MODIFIED:20240926T205659Z
UID:10002356-1729186200-1729186200@ciemicr.org
SUMMARY:Asamblea General Ordinaria No. 01-2024/2025 - AGO
DESCRIPTION:Orden del día \nInformes
URL:https://ciemicr.org/eventosrefresh_css/asamblea-general-ordinaria-no-01-2024-2025-ago-3/
CATEGORIES:Eventos
ATTACH;FMTTYPE=image/jpeg:https://ciemicr.org/wp-content/uploads/2024/09/Invitacion.jpg
END:VEVENT
END:VCALENDAR