BEGIN:VCALENDAR
VERSION:2.0
PRODID:-//CIEMI - ECPv6.15.13.1//NONSGML v1.0//EN
CALSCALE:GREGORIAN
METHOD:PUBLISH
X-WR-CALNAME:CIEMI
X-ORIGINAL-URL:https://ciemicr.org
X-WR-CALDESC:Eventos para CIEMI
REFRESH-INTERVAL;VALUE=DURATION:PT1H
X-Robots-Tag:noindex
X-PUBLISHED-TTL:PT1H
BEGIN:VTIMEZONE
TZID:America/Costa_Rica
BEGIN:STANDARD
TZOFFSETFROM:-0600
TZOFFSETTO:-0600
TZNAME:CST
DTSTART:20230101T000000
END:STANDARD
END:VTIMEZONE
BEGIN:VEVENT
DTSTART;TZID=America/Costa_Rica:20240401T100000
DTEND;TZID=America/Costa_Rica:20240401T100000
DTSTAMP:20260421T073749
CREATED:20240229T210848Z
LAST-MODIFIED:20240229T210848Z
UID:10001862-1711965600-1711965600@ciemicr.org
SUMMARY:Webinar Sesión informativa programa formación Certificación PMP®.
DESCRIPTION:Inscríbase aquí
URL:https://ciemicr.org/eventosrefresh_css/webinar-sesion-informativa-programa-formacion-certificacion-pmp-2-2/
LOCATION:Virtual\, Costa Rica
CATEGORIES:Conferencias
ATTACH;FMTTYPE=image/jpeg:https://ciemicr.org/wp-content/uploads/2024/02/Webinar-Sesion-informativa-programa-formacion-Certificacion-PMP-2.jpg
END:VEVENT
BEGIN:VEVENT
DTSTART;TZID=America/Costa_Rica:20240401T100000
DTEND;TZID=America/Costa_Rica:20240401T100000
DTSTAMP:20260421T073749
CREATED:20240229T210848Z
LAST-MODIFIED:20240315T174154Z
UID:10000790-1711965600-1711965600@ciemicr.org
SUMMARY:Webinar Sesión informativa programa formación Certificación PMP®.
DESCRIPTION:Inscríbase aquí
URL:https://ciemicr.org/eventosrefresh_css/webinar-sesion-informativa-programa-formacion-certificacion-pmp-2/
LOCATION:Virtual\, Costa Rica
CATEGORIES:Conferencias
ATTACH;FMTTYPE=image/jpeg:https://ciemicr.org/wp-content/uploads/2024/02/Webinar-Sesion-informativa-programa-formacion-Certificacion-PMP-2.jpg
END:VEVENT
BEGIN:VEVENT
DTSTART;TZID=America/Costa_Rica:20240401T100000
DTEND;TZID=America/Costa_Rica:20240401T100000
DTSTAMP:20260421T073749
CREATED:20240229T210848Z
LAST-MODIFIED:20240229T210848Z
UID:10002280-1711965600-1711965600@ciemicr.org
SUMMARY:Webinar Sesión informativa programa formación Certificación PMP®.
DESCRIPTION:Inscríbase aquí
URL:https://ciemicr.org/eventosrefresh_css/webinar-sesion-informativa-programa-formacion-certificacion-pmp-2-3/
LOCATION:Virtual\, Costa Rica
CATEGORIES:Conferencias
ATTACH;FMTTYPE=image/jpeg:https://ciemicr.org/wp-content/uploads/2024/02/Webinar-Sesion-informativa-programa-formacion-Certificacion-PMP-2.jpg
END:VEVENT
BEGIN:VEVENT
DTSTART;TZID=America/Costa_Rica:20240401T170000
DTEND;TZID=America/Costa_Rica:20240401T210000
DTSTAMP:20260421T073749
CREATED:20240320T155244Z
LAST-MODIFIED:20240320T155244Z
UID:10001868-1711990800-1712005200@ciemicr.org
SUMMARY:Curso Formación Administrador de la Energía
DESCRIPTION:Más información
URL:https://ciemicr.org/eventosrefresh_css/curso-formacion-administrador-de-la-energia-2/
LOCATION:Virtual\, Costa Rica
CATEGORIES:Capacitaciones
ATTACH;FMTTYPE=image/jpeg:https://ciemicr.org/wp-content/uploads/2024/03/admin-energia.jpg
END:VEVENT
BEGIN:VEVENT
DTSTART;TZID=America/Costa_Rica:20240401T170000
DTEND;TZID=America/Costa_Rica:20240401T210000
DTSTAMP:20260421T073749
CREATED:20240320T155244Z
LAST-MODIFIED:20240320T155244Z
UID:10002286-1711990800-1712005200@ciemicr.org
SUMMARY:Curso Formación Administrador de la Energía
DESCRIPTION:Más información
URL:https://ciemicr.org/eventosrefresh_css/curso-formacion-administrador-de-la-energia-3/
LOCATION:Virtual\, Costa Rica
CATEGORIES:Capacitaciones
ATTACH;FMTTYPE=image/jpeg:https://ciemicr.org/wp-content/uploads/2024/03/admin-energia.jpg
END:VEVENT
BEGIN:VEVENT
DTSTART;TZID=America/Costa_Rica:20240401T170000
DTEND;TZID=America/Costa_Rica:20240401T210000
DTSTAMP:20260421T073749
CREATED:20240320T155244Z
LAST-MODIFIED:20240320T155244Z
UID:10000797-1711990800-1712005200@ciemicr.org
SUMMARY:Curso Formación Administrador de la Energía
DESCRIPTION:Más información
URL:https://ciemicr.org/eventosrefresh_css/curso-formacion-administrador-de-la-energia/
LOCATION:Virtual\, Costa Rica
CATEGORIES:Capacitaciones
ATTACH;FMTTYPE=image/jpeg:https://ciemicr.org/wp-content/uploads/2024/03/admin-energia.jpg
END:VEVENT
BEGIN:VEVENT
DTSTART;TZID=America/Costa_Rica:20240402T180000
DTEND;TZID=America/Costa_Rica:20240402T180000
DTSTAMP:20260421T073749
CREATED:20240213T143330Z
LAST-MODIFIED:20240301T024753Z
UID:10000781-1712080800-1712080800@ciemicr.org
SUMMARY:Webinar BIM y la transformación de la construcción en Costa Rica
DESCRIPTION:Inscríbase aquí \nMás información
URL:https://ciemicr.org/eventosrefresh_css/webinar-mitos-del-bim-por-que-impacta-la-productividad-en-tu-empresa/
LOCATION:Virtual\, Costa Rica
CATEGORIES:Conferencias
ATTACH;FMTTYPE=image/jpeg:https://ciemicr.org/wp-content/uploads/2024/02/Webinar-Mitos-del-BIM-¿Por-que-impacta-la-productividad-en-tu-empresa-6.jpg
END:VEVENT
BEGIN:VEVENT
DTSTART;TZID=America/Costa_Rica:20240402T180000
DTEND;TZID=America/Costa_Rica:20240402T180000
DTSTAMP:20260421T073749
CREATED:20240213T143330Z
LAST-MODIFIED:20240213T143330Z
UID:10001855-1712080800-1712080800@ciemicr.org
SUMMARY:Webinar BIM y la transformación de la construcción en Costa Rica
DESCRIPTION:Inscríbase aquí \nMás información
URL:https://ciemicr.org/eventosrefresh_css/webinar-mitos-del-bim-por-que-impacta-la-productividad-en-tu-empresa-2/
LOCATION:Virtual\, Costa Rica
CATEGORIES:Conferencias
ATTACH;FMTTYPE=image/jpeg:https://ciemicr.org/wp-content/uploads/2024/02/Webinar-Mitos-del-BIM-¿Por-que-impacta-la-productividad-en-tu-empresa-6.jpg
END:VEVENT
BEGIN:VEVENT
DTSTART;TZID=America/Costa_Rica:20240402T180000
DTEND;TZID=America/Costa_Rica:20240402T180000
DTSTAMP:20260421T073749
CREATED:20240213T143330Z
LAST-MODIFIED:20240213T143330Z
UID:10002273-1712080800-1712080800@ciemicr.org
SUMMARY:Webinar BIM y la transformación de la construcción en Costa Rica
DESCRIPTION:Inscríbase aquí \nMás información
URL:https://ciemicr.org/eventosrefresh_css/webinar-mitos-del-bim-por-que-impacta-la-productividad-en-tu-empresa-3/
LOCATION:Virtual\, Costa Rica
CATEGORIES:Conferencias
ATTACH;FMTTYPE=image/jpeg:https://ciemicr.org/wp-content/uploads/2024/02/Webinar-Mitos-del-BIM-¿Por-que-impacta-la-productividad-en-tu-empresa-6.jpg
END:VEVENT
BEGIN:VEVENT
DTSTART;TZID=America/Costa_Rica:20240403T180000
DTEND;TZID=America/Costa_Rica:20240403T180000
DTSTAMP:20260421T073749
CREATED:20240319T171209Z
LAST-MODIFIED:20240319T171209Z
UID:10001867-1712167200-1712167200@ciemicr.org
SUMMARY:Webinar Movilidad Eléctrica
DESCRIPTION:Inscríbase aquí
URL:https://ciemicr.org/eventosrefresh_css/webinar-movilidad-electrica-2/
LOCATION:Virtual\, Costa Rica
CATEGORIES:Conferencias
ATTACH;FMTTYPE=image/jpeg:https://ciemicr.org/wp-content/uploads/2024/03/Webinar-Movilidad-Electrica-1.jpg
END:VEVENT
BEGIN:VEVENT
DTSTART;TZID=America/Costa_Rica:20240403T180000
DTEND;TZID=America/Costa_Rica:20240403T180000
DTSTAMP:20260421T073749
CREATED:20240319T171209Z
LAST-MODIFIED:20240319T171209Z
UID:10002285-1712167200-1712167200@ciemicr.org
SUMMARY:Webinar Movilidad Eléctrica
DESCRIPTION:Inscríbase aquí
URL:https://ciemicr.org/eventosrefresh_css/webinar-movilidad-electrica-3/
LOCATION:Virtual\, Costa Rica
CATEGORIES:Conferencias
ATTACH;FMTTYPE=image/jpeg:https://ciemicr.org/wp-content/uploads/2024/03/Webinar-Movilidad-Electrica-1.jpg
END:VEVENT
BEGIN:VEVENT
DTSTART;TZID=America/Costa_Rica:20240403T180000
DTEND;TZID=America/Costa_Rica:20240403T180000
DTSTAMP:20260421T073749
CREATED:20240319T171209Z
LAST-MODIFIED:20240320T152210Z
UID:10000796-1712167200-1712167200@ciemicr.org
SUMMARY:Webinar Movilidad Eléctrica
DESCRIPTION:Inscríbase aquí
URL:https://ciemicr.org/eventosrefresh_css/webinar-movilidad-electrica/
LOCATION:Virtual\, Costa Rica
CATEGORIES:Conferencias
ATTACH;FMTTYPE=image/jpeg:https://ciemicr.org/wp-content/uploads/2024/03/Webinar-Movilidad-Electrica-1.jpg
END:VEVENT
BEGIN:VEVENT
DTSTART;TZID=America/Costa_Rica:20240408T080000
DTEND;TZID=America/Costa_Rica:20240408T170000
DTSTAMP:20260421T073749
CREATED:20240214T201638Z
LAST-MODIFIED:20240214T201638Z
UID:10002274-1712563200-1712595600@ciemicr.org
SUMMARY:Curso FVOL101: Diseño e Instalación Solar Eléctrica (sistemas interactivos) – en línea
DESCRIPTION:Inscríbase aquí  \nPrograma
URL:https://ciemicr.org/eventosrefresh_css/curso-fvol101-diseno-e-instalacion-solar-electrica-sistemas-interactivos-en-linea-duplicado-12336-3/
LOCATION:Virtual\, Costa Rica
CATEGORIES:Capacitaciones
ATTACH;FMTTYPE=image/jpeg:https://ciemicr.org/wp-content/uploads/2024/01/CIEMI2024_FVOL101.jpg
END:VEVENT
BEGIN:VEVENT
DTSTART;TZID=America/Costa_Rica:20240408T080000
DTEND;TZID=America/Costa_Rica:20240408T170000
DTSTAMP:20260421T073749
CREATED:20240214T201638Z
LAST-MODIFIED:20240214T201638Z
UID:10001856-1712563200-1712595600@ciemicr.org
SUMMARY:Curso FVOL101: Diseño e Instalación Solar Eléctrica (sistemas interactivos) – en línea
DESCRIPTION:Inscríbase aquí  \nPrograma
URL:https://ciemicr.org/eventosrefresh_css/curso-fvol101-diseno-e-instalacion-solar-electrica-sistemas-interactivos-en-linea-duplicado-12336-2/
LOCATION:Virtual\, Costa Rica
CATEGORIES:Capacitaciones
ATTACH;FMTTYPE=image/jpeg:https://ciemicr.org/wp-content/uploads/2024/01/CIEMI2024_FVOL101.jpg
END:VEVENT
BEGIN:VEVENT
DTSTART;TZID=America/Costa_Rica:20240408T080000
DTEND;TZID=America/Costa_Rica:20240408T170000
DTSTAMP:20260421T073749
CREATED:20240214T201638Z
LAST-MODIFIED:20240322T145633Z
UID:10000783-1712563200-1712595600@ciemicr.org
SUMMARY:Curso FVOL101: Diseño e Instalación Solar Eléctrica (sistemas interactivos) – en línea
DESCRIPTION:Inscríbase aquí  \nPrograma
URL:https://ciemicr.org/eventosrefresh_css/curso-fvol101-diseno-e-instalacion-solar-electrica-sistemas-interactivos-en-linea-duplicado-12336/
LOCATION:Virtual\, Costa Rica
CATEGORIES:Capacitaciones
ATTACH;FMTTYPE=image/jpeg:https://ciemicr.org/wp-content/uploads/2024/01/CIEMI2024_FVOL101.jpg
END:VEVENT
BEGIN:VEVENT
DTSTART;TZID=America/Costa_Rica:20240408T080000
DTEND;TZID=America/Costa_Rica:20240408T170000
DTSTAMP:20260421T073749
CREATED:20240214T202334Z
LAST-MODIFIED:20240214T202334Z
UID:10002277-1712563200-1712595600@ciemicr.org
SUMMARY:Curso FVOL 203: Fundamentos de Sistemas Fotovoltaicos basados en Baterías - en línea
DESCRIPTION:Regístrese aquí \nPrograma
URL:https://ciemicr.org/eventosrefresh_css/curso-fvol-203-fundamentos-de-sistemas-fotovoltaicos-basados-en-baterias-en-linea-6/
LOCATION:Virtual\, Costa Rica
CATEGORIES:Capacitaciones
ATTACH;FMTTYPE=image/jpeg:https://ciemicr.org/wp-content/uploads/2024/02/CIEMI2024_FVOL203.jpg
END:VEVENT
BEGIN:VEVENT
DTSTART;TZID=America/Costa_Rica:20240408T080000
DTEND;TZID=America/Costa_Rica:20240408T170000
DTSTAMP:20260421T073749
CREATED:20240214T202334Z
LAST-MODIFIED:20240214T202334Z
UID:10001859-1712563200-1712595600@ciemicr.org
SUMMARY:Curso FVOL 203: Fundamentos de Sistemas Fotovoltaicos basados en Baterías - en línea
DESCRIPTION:Regístrese aquí \nPrograma
URL:https://ciemicr.org/eventosrefresh_css/curso-fvol-203-fundamentos-de-sistemas-fotovoltaicos-basados-en-baterias-en-linea-5/
LOCATION:Virtual\, Costa Rica
CATEGORIES:Capacitaciones
ATTACH;FMTTYPE=image/jpeg:https://ciemicr.org/wp-content/uploads/2024/02/CIEMI2024_FVOL203.jpg
END:VEVENT
BEGIN:VEVENT
DTSTART;TZID=America/Costa_Rica:20240408T080000
DTEND;TZID=America/Costa_Rica:20240408T170000
DTSTAMP:20260421T073749
CREATED:20240214T202334Z
LAST-MODIFIED:20240316T150236Z
UID:10000786-1712563200-1712595600@ciemicr.org
SUMMARY:Curso FVOL 203: Fundamentos de Sistemas Fotovoltaicos basados en Baterías - en línea
DESCRIPTION:Regístrese aquí \nPrograma
URL:https://ciemicr.org/eventosrefresh_css/curso-fvol-203-fundamentos-de-sistemas-fotovoltaicos-basados-en-baterias-en-linea/
LOCATION:Virtual\, Costa Rica
CATEGORIES:Capacitaciones
ATTACH;FMTTYPE=image/jpeg:https://ciemicr.org/wp-content/uploads/2024/02/CIEMI2024_FVOL203.jpg
END:VEVENT
BEGIN:VEVENT
DTSTART;TZID=America/Costa_Rica:20240410T080000
DTEND;TZID=America/Costa_Rica:20240410T190000
DTSTAMP:20260421T073749
CREATED:20240130T170856Z
LAST-MODIFIED:20240130T170856Z
UID:10002270-1712736000-1712775600@ciemicr.org
SUMMARY:Seminario de Aire Acondicionado y Ventilación: Estratégias de mantenimiento como llave para una gestión energética eficiente
DESCRIPTION:Inscríbase aquí \nPrograma
URL:https://ciemicr.org/eventosrefresh_css/seminario-de-aire-acondicionado-y-ventilacion-3/
LOCATION:Auditorio del CFIA\, Curridabat\, 2346-1000\, Costa Rica\, Colegio de Ingenieros y Arquitectos\, Costa Rica
CATEGORIES:Eventos
ATTACH;FMTTYPE=image/jpeg:https://ciemicr.org/wp-content/uploads/2024/01/POST-Seminario-de-Aire-Acondicionado-y-Ventilacion-3.jpg
GEO:9.9253512346433;-84.03936233163
X-APPLE-STRUCTURED-LOCATION;VALUE=URI;X-ADDRESS=Auditorio del CFIA Curridabat 2346-1000 Costa Rica Colegio de Ingenieros y Arquitectos Costa Rica;X-APPLE-RADIUS=500;X-TITLE=2346-1000:geo:-84.03936233163,9.9253512346433
END:VEVENT
BEGIN:VEVENT
DTSTART;TZID=America/Costa_Rica:20240410T080000
DTEND;TZID=America/Costa_Rica:20240410T190000
DTSTAMP:20260421T073749
CREATED:20240130T170856Z
LAST-MODIFIED:20240326T193611Z
UID:10000778-1712736000-1712775600@ciemicr.org
SUMMARY:Seminario de Aire Acondicionado y Ventilación: Estratégias de mantenimiento como llave para una gestión energética eficiente
DESCRIPTION:Inscríbase aquí \nPrograma
URL:https://ciemicr.org/eventosrefresh_css/seminario-de-aire-acondicionado-y-ventilacion/
LOCATION:Auditorio del CFIA\, Curridabat\, 2346-1000\, Costa Rica\, Colegio de Ingenieros y Arquitectos\, Costa Rica
CATEGORIES:Eventos
ATTACH;FMTTYPE=image/jpeg:https://ciemicr.org/wp-content/uploads/2024/01/POST-Seminario-de-Aire-Acondicionado-y-Ventilacion-3.jpg
GEO:9.9253512346433;-84.03936233163
X-APPLE-STRUCTURED-LOCATION;VALUE=URI;X-ADDRESS=Auditorio del CFIA Curridabat 2346-1000 Costa Rica Colegio de Ingenieros y Arquitectos Costa Rica;X-APPLE-RADIUS=500;X-TITLE=2346-1000:geo:-84.03936233163,9.9253512346433
END:VEVENT
BEGIN:VEVENT
DTSTART;TZID=America/Costa_Rica:20240410T080000
DTEND;TZID=America/Costa_Rica:20240410T190000
DTSTAMP:20260421T073749
CREATED:20240130T170856Z
LAST-MODIFIED:20240130T170856Z
UID:10001852-1712736000-1712775600@ciemicr.org
SUMMARY:Seminario de Aire Acondicionado y Ventilación: Estratégias de mantenimiento como llave para una gestión energética eficiente
DESCRIPTION:Inscríbase aquí \nPrograma
URL:https://ciemicr.org/eventosrefresh_css/seminario-de-aire-acondicionado-y-ventilacion-2/
LOCATION:Auditorio del CFIA\, Curridabat\, 2346-1000\, Costa Rica\, Colegio de Ingenieros y Arquitectos\, Costa Rica
CATEGORIES:Eventos
ATTACH;FMTTYPE=image/jpeg:https://ciemicr.org/wp-content/uploads/2024/01/POST-Seminario-de-Aire-Acondicionado-y-Ventilacion-3.jpg
GEO:9.9253512346433;-84.03936233163
X-APPLE-STRUCTURED-LOCATION;VALUE=URI;X-ADDRESS=Auditorio del CFIA Curridabat 2346-1000 Costa Rica Colegio de Ingenieros y Arquitectos Costa Rica;X-APPLE-RADIUS=500;X-TITLE=2346-1000:geo:-84.03936233163,9.9253512346433
END:VEVENT
BEGIN:VEVENT
DTSTART;TZID=America/Costa_Rica:20240410T180000
DTEND;TZID=America/Costa_Rica:20240410T210000
DTSTAMP:20260421T073749
CREATED:20231120T144527Z
LAST-MODIFIED:20231206T182726Z
UID:10000737-1712772000-1712782800@ciemicr.org
SUMMARY:Curso CAPDEE-M2: Diseño eléctrico residencial\, comercial e industrial
DESCRIPTION:Inscríbase aquí \nPrograma
URL:https://ciemicr.org/eventosrefresh_css/curso-capdee-m2-diseno-electrico-residencial-comercial-e-industrial-5/
LOCATION:Virtual\, Costa Rica
CATEGORIES:Capacitaciones
ATTACH;FMTTYPE=image/jpeg:https://ciemicr.org/wp-content/uploads/2023/11/CAPDEE-M2-Diseno-electrico-residencial-comercial-e-industrial.jpg
END:VEVENT
BEGIN:VEVENT
DTSTART;TZID=America/Costa_Rica:20240410T180000
DTEND;TZID=America/Costa_Rica:20240410T210000
DTSTAMP:20260421T073749
CREATED:20231120T144527Z
LAST-MODIFIED:20231120T144527Z
UID:10002236-1712772000-1712782800@ciemicr.org
SUMMARY:Curso CAPDEE-M2: Diseño eléctrico residencial\, comercial e industrial
DESCRIPTION:Inscríbase aquí \nPrograma
URL:https://ciemicr.org/eventosrefresh_css/curso-capdee-m2-diseno-electrico-residencial-comercial-e-industrial-5-4/
LOCATION:Virtual\, Costa Rica
CATEGORIES:Capacitaciones
ATTACH;FMTTYPE=image/jpeg:https://ciemicr.org/wp-content/uploads/2023/11/CAPDEE-M2-Diseno-electrico-residencial-comercial-e-industrial.jpg
END:VEVENT
BEGIN:VEVENT
DTSTART;TZID=America/Costa_Rica:20240410T180000
DTEND;TZID=America/Costa_Rica:20240410T210000
DTSTAMP:20260421T073749
CREATED:20231120T144527Z
LAST-MODIFIED:20231120T144527Z
UID:10001818-1712772000-1712782800@ciemicr.org
SUMMARY:Curso CAPDEE-M2: Diseño eléctrico residencial\, comercial e industrial
DESCRIPTION:Inscríbase aquí \nPrograma
URL:https://ciemicr.org/eventosrefresh_css/curso-capdee-m2-diseno-electrico-residencial-comercial-e-industrial-5-3/
LOCATION:Virtual\, Costa Rica
CATEGORIES:Capacitaciones
ATTACH;FMTTYPE=image/jpeg:https://ciemicr.org/wp-content/uploads/2023/11/CAPDEE-M2-Diseno-electrico-residencial-comercial-e-industrial.jpg
END:VEVENT
BEGIN:VEVENT
DTSTART;TZID=America/Costa_Rica:20240417T080000
DTEND;TZID=America/Costa_Rica:20240417T170000
DTSTAMP:20260421T073749
CREATED:20240408T140643Z
LAST-MODIFIED:20240408T140643Z
UID:10001879-1713340800-1713373200@ciemicr.org
SUMMARY:XI foro Lean & Six Sigma – 2024
DESCRIPTION:Información e inscripciones: capacitacion@cicr.com
URL:https://ciemicr.org/eventosrefresh_css/xi-foro-lean-six-sigma-2024-2/
LOCATION:Hotel Crowne Plaza Corobicí
CATEGORIES:Eventos
ATTACH;FMTTYPE=image/jpeg:https://ciemicr.org/wp-content/uploads/2024/04/Foro.jpg
END:VEVENT
BEGIN:VEVENT
DTSTART;TZID=America/Costa_Rica:20240417T080000
DTEND;TZID=America/Costa_Rica:20240417T170000
DTSTAMP:20260421T073749
CREATED:20240408T140643Z
LAST-MODIFIED:20240408T140643Z
UID:10002297-1713340800-1713373200@ciemicr.org
SUMMARY:XI foro Lean & Six Sigma – 2024
DESCRIPTION:Información e inscripciones: capacitacion@cicr.com
URL:https://ciemicr.org/eventosrefresh_css/xi-foro-lean-six-sigma-2024-3/
LOCATION:Hotel Crowne Plaza Corobicí
CATEGORIES:Eventos
ATTACH;FMTTYPE=image/jpeg:https://ciemicr.org/wp-content/uploads/2024/04/Foro.jpg
END:VEVENT
BEGIN:VEVENT
DTSTART;TZID=America/Costa_Rica:20240417T080000
DTEND;TZID=America/Costa_Rica:20240417T170000
DTSTAMP:20260421T073749
CREATED:20240408T140643Z
LAST-MODIFIED:20240408T140643Z
UID:10000809-1713340800-1713373200@ciemicr.org
SUMMARY:XI foro Lean & Six Sigma – 2024
DESCRIPTION:Información e inscripciones: capacitacion@cicr.com
URL:https://ciemicr.org/eventosrefresh_css/xi-foro-lean-six-sigma-2024/
LOCATION:Hotel Crowne Plaza Corobicí
CATEGORIES:Eventos
ATTACH;FMTTYPE=image/jpeg:https://ciemicr.org/wp-content/uploads/2024/04/Foro.jpg
END:VEVENT
BEGIN:VEVENT
DTSTART;TZID=America/Costa_Rica:20240417T180000
DTEND;TZID=America/Costa_Rica:20240417T210000
DTSTAMP:20260421T073749
CREATED:20231128T000541Z
LAST-MODIFIED:20231128T000541Z
UID:10001829-1713376800-1713387600@ciemicr.org
SUMMARY:Curso Fundamentos de diseño en Aire Acondicionado para  Cuartos Limpios
DESCRIPTION:Inscríbase aquí \nPrograma
URL:https://ciemicr.org/eventosrefresh_css/curso-fundamentos-de-diseno-en-aire-acondicionado-para-cuartos-limpios-3-2/
LOCATION:Virtual\, Costa Rica
CATEGORIES:Capacitaciones
ATTACH;FMTTYPE=image/jpeg:https://ciemicr.org/wp-content/uploads/2023/11/Fundamentos-de-diseno-en-Aire-Acondicionado-para-Cuartos-Limpios-1.jpg
END:VEVENT
BEGIN:VEVENT
DTSTART;TZID=America/Costa_Rica:20240417T180000
DTEND;TZID=America/Costa_Rica:20240417T210000
DTSTAMP:20260421T073749
CREATED:20231128T000541Z
LAST-MODIFIED:20231128T000541Z
UID:10002247-1713376800-1713387600@ciemicr.org
SUMMARY:Curso Fundamentos de diseño en Aire Acondicionado para  Cuartos Limpios
DESCRIPTION:Inscríbase aquí \nPrograma
URL:https://ciemicr.org/eventosrefresh_css/curso-fundamentos-de-diseno-en-aire-acondicionado-para-cuartos-limpios-3-3/
LOCATION:Virtual\, Costa Rica
CATEGORIES:Capacitaciones
ATTACH;FMTTYPE=image/jpeg:https://ciemicr.org/wp-content/uploads/2023/11/Fundamentos-de-diseno-en-Aire-Acondicionado-para-Cuartos-Limpios-1.jpg
END:VEVENT
BEGIN:VEVENT
DTSTART;TZID=America/Costa_Rica:20240417T180000
DTEND;TZID=America/Costa_Rica:20240417T210000
DTSTAMP:20260421T073749
CREATED:20231128T000541Z
LAST-MODIFIED:20240320T171556Z
UID:10000750-1713376800-1713387600@ciemicr.org
SUMMARY:Curso Fundamentos de diseño en Aire Acondicionado para  Cuartos Limpios
DESCRIPTION:Inscríbase aquí \nPrograma
URL:https://ciemicr.org/eventosrefresh_css/curso-fundamentos-de-diseno-en-aire-acondicionado-para-cuartos-limpios-3/
LOCATION:Virtual\, Costa Rica
CATEGORIES:Capacitaciones
ATTACH;FMTTYPE=image/jpeg:https://ciemicr.org/wp-content/uploads/2023/11/Fundamentos-de-diseno-en-Aire-Acondicionado-para-Cuartos-Limpios-1.jpg
END:VEVENT
END:VCALENDAR