BEGIN:VCALENDAR
VERSION:2.0
PRODID:-//CIEMI - ECPv6.15.13.1//NONSGML v1.0//EN
CALSCALE:GREGORIAN
METHOD:PUBLISH
X-WR-CALNAME:CIEMI
X-ORIGINAL-URL:https://ciemicr.org
X-WR-CALDESC:Eventos para CIEMI
REFRESH-INTERVAL;VALUE=DURATION:PT1H
X-Robots-Tag:noindex
X-PUBLISHED-TTL:PT1H
BEGIN:VTIMEZONE
TZID:America/Costa_Rica
BEGIN:STANDARD
TZOFFSETFROM:-0600
TZOFFSETTO:-0600
TZNAME:CST
DTSTART:20230101T000000
END:STANDARD
END:VTIMEZONE
BEGIN:VEVENT
DTSTART;TZID=America/Costa_Rica:20241104T080000
DTEND;TZID=America/Costa_Rica:20241104T170000
DTSTAMP:20260420T212421
CREATED:20240322T165450Z
LAST-MODIFIED:20240322T165450Z
UID:10002290-1730707200-1730739600@ciemicr.org
SUMMARY:Curso FVOL101: Diseño e Instalación Solar Eléctrica (sistemas interactivos) – en línea
DESCRIPTION:Inscríbase aquí \nPrograma
URL:https://ciemicr.org/eventosrefresh_css/curso-fvol101-diseno-e-instalacion-solar-electrica-sistemas-interactivos-en-linea-12-3/
LOCATION:Virtual\, Costa Rica
CATEGORIES:Capacitaciones
ATTACH;FMTTYPE=image/jpeg:https://ciemicr.org/wp-content/uploads/2024/03/CIEMI2024_FVOL101.jpg
END:VEVENT
BEGIN:VEVENT
DTSTART;TZID=America/Costa_Rica:20241104T080000
DTEND;TZID=America/Costa_Rica:20241104T170000
DTSTAMP:20260420T212421
CREATED:20240322T165450Z
LAST-MODIFIED:20241022T155950Z
UID:10000802-1730707200-1730739600@ciemicr.org
SUMMARY:Curso FVOL101: Diseño e Instalación Solar Eléctrica (sistemas interactivos) – en línea
DESCRIPTION:Inscríbase aquí \nPrograma
URL:https://ciemicr.org/eventosrefresh_css/curso-fvol101-diseno-e-instalacion-solar-electrica-sistemas-interactivos-en-linea-12/
LOCATION:Virtual\, Costa Rica
CATEGORIES:Capacitaciones
ATTACH;FMTTYPE=image/jpeg:https://ciemicr.org/wp-content/uploads/2024/03/CIEMI2024_FVOL101.jpg
END:VEVENT
BEGIN:VEVENT
DTSTART;TZID=America/Costa_Rica:20241104T080000
DTEND;TZID=America/Costa_Rica:20241104T170000
DTSTAMP:20260420T212421
CREATED:20240322T165450Z
LAST-MODIFIED:20240322T165450Z
UID:10001872-1730707200-1730739600@ciemicr.org
SUMMARY:Curso FVOL101: Diseño e Instalación Solar Eléctrica (sistemas interactivos) – en línea
DESCRIPTION:Inscríbase aquí \nPrograma
URL:https://ciemicr.org/eventosrefresh_css/curso-fvol101-diseno-e-instalacion-solar-electrica-sistemas-interactivos-en-linea-12-2/
LOCATION:Virtual\, Costa Rica
CATEGORIES:Capacitaciones
ATTACH;FMTTYPE=image/jpeg:https://ciemicr.org/wp-content/uploads/2024/03/CIEMI2024_FVOL101.jpg
END:VEVENT
BEGIN:VEVENT
DTSTART;TZID=America/Costa_Rica:20241104T080000
DTEND;TZID=America/Costa_Rica:20241104T170000
DTSTAMP:20260420T212421
CREATED:20240326T150339Z
LAST-MODIFIED:20241104T223021Z
UID:10000804-1730707200-1730739600@ciemicr.org
SUMMARY:Curso FVOL202: Diseño Fotovoltaico avanzado y el NEC (Sistemas Interactivos) – en línea
DESCRIPTION:Inscríbase aquí \nPrograma
URL:https://ciemicr.org/eventosrefresh_css/curso-fvol202-2/
LOCATION:Virtual\, Costa Rica
CATEGORIES:Capacitaciones
ATTACH;FMTTYPE=image/jpeg:https://ciemicr.org/wp-content/uploads/2024/01/CIEMI2024-FVO202.jpg
END:VEVENT
BEGIN:VEVENT
DTSTART;TZID=America/Costa_Rica:20241104T080000
DTEND;TZID=America/Costa_Rica:20241104T170000
DTSTAMP:20260420T212421
CREATED:20240326T150339Z
LAST-MODIFIED:20240326T150339Z
UID:10002291-1730707200-1730739600@ciemicr.org
SUMMARY:Curso FVOL202: Diseño Fotovoltaico avanzado y el NEC (Sistemas Interactivos) – en línea
DESCRIPTION:Inscríbase aquí \nPrograma
URL:https://ciemicr.org/eventosrefresh_css/curso-fvol202-2-3/
LOCATION:Virtual\, Costa Rica
CATEGORIES:Capacitaciones
ATTACH;FMTTYPE=image/jpeg:https://ciemicr.org/wp-content/uploads/2024/01/CIEMI2024-FVO202.jpg
END:VEVENT
BEGIN:VEVENT
DTSTART;TZID=America/Costa_Rica:20241104T080000
DTEND;TZID=America/Costa_Rica:20241104T170000
DTSTAMP:20260420T212421
CREATED:20240326T150339Z
LAST-MODIFIED:20240326T150339Z
UID:10001873-1730707200-1730739600@ciemicr.org
SUMMARY:Curso FVOL202: Diseño Fotovoltaico avanzado y el NEC (Sistemas Interactivos) – en línea
DESCRIPTION:Inscríbase aquí \nPrograma
URL:https://ciemicr.org/eventosrefresh_css/curso-fvol202-2-2/
LOCATION:Virtual\, Costa Rica
CATEGORIES:Capacitaciones
ATTACH;FMTTYPE=image/jpeg:https://ciemicr.org/wp-content/uploads/2024/01/CIEMI2024-FVO202.jpg
END:VEVENT
BEGIN:VEVENT
DTSTART;TZID=America/Costa_Rica:20241108T080000
DTEND;TZID=America/Costa_Rica:20241108T180000
DTSTAMP:20260420T212421
CREATED:20240819T180313Z
LAST-MODIFIED:20241104T152814Z
UID:10000872-1731052800-1731088800@ciemicr.org
SUMMARY:Seminario Protección contra Incendios
DESCRIPTION:Inscríbase \nPrograma
URL:https://ciemicr.org/eventosrefresh_css/seminario-proteccion-contra-incendios/
LOCATION:Hotel Crowne Plaza Corobicí
CATEGORIES:Eventos
ATTACH;FMTTYPE=image/jpeg:https://ciemicr.org/wp-content/uploads/2024/08/POST-Seminario-de-Proteccion-Contra-Incendios.jpg
END:VEVENT
BEGIN:VEVENT
DTSTART;TZID=America/Costa_Rica:20241108T080000
DTEND;TZID=America/Costa_Rica:20241108T180000
DTSTAMP:20260420T212421
CREATED:20240819T180313Z
LAST-MODIFIED:20240819T180313Z
UID:10002351-1731052800-1731088800@ciemicr.org
SUMMARY:Seminario Protección contra Incendios
DESCRIPTION:Inscríbase \nPrograma
URL:https://ciemicr.org/eventosrefresh_css/seminario-proteccion-contra-incendios-3/
LOCATION:Hotel Crowne Plaza Corobicí
CATEGORIES:Eventos
ATTACH;FMTTYPE=image/jpeg:https://ciemicr.org/wp-content/uploads/2024/08/POST-Seminario-de-Proteccion-Contra-Incendios.jpg
END:VEVENT
BEGIN:VEVENT
DTSTART;TZID=America/Costa_Rica:20241108T080000
DTEND;TZID=America/Costa_Rica:20241108T180000
DTSTAMP:20260420T212421
CREATED:20240819T180313Z
LAST-MODIFIED:20240819T180313Z
UID:10001933-1731052800-1731088800@ciemicr.org
SUMMARY:Seminario Protección contra Incendios
DESCRIPTION:Inscríbase \nPrograma
URL:https://ciemicr.org/eventosrefresh_css/seminario-proteccion-contra-incendios-2/
LOCATION:Hotel Crowne Plaza Corobicí
CATEGORIES:Eventos
ATTACH;FMTTYPE=image/jpeg:https://ciemicr.org/wp-content/uploads/2024/08/POST-Seminario-de-Proteccion-Contra-Incendios.jpg
END:VEVENT
BEGIN:VEVENT
DTSTART;TZID=America/Costa_Rica:20241111T180000
DTEND;TZID=America/Costa_Rica:20241111T210000
DTSTAMP:20260420T212421
CREATED:20241008T190333Z
LAST-MODIFIED:20241008T190333Z
UID:10001939-1731348000-1731358800@ciemicr.org
SUMMARY:Curso #2 Norma NFPA 1 “Código de Incendios
DESCRIPTION:Inscríbase  \nPrograma
URL:https://ciemicr.org/eventosrefresh_css/curso-2-norma-nfpa-1-codigo-de-incendios-4-2/
LOCATION:Virtual\, Costa Rica
CATEGORIES:Capacitaciones
ATTACH;FMTTYPE=image/jpeg:https://ciemicr.org/wp-content/uploads/2024/10/Curso-2.jpg
END:VEVENT
BEGIN:VEVENT
DTSTART;TZID=America/Costa_Rica:20241111T180000
DTEND;TZID=America/Costa_Rica:20241111T210000
DTSTAMP:20260420T212421
CREATED:20241008T190333Z
LAST-MODIFIED:20241008T190333Z
UID:10002357-1731348000-1731358800@ciemicr.org
SUMMARY:Curso #2 Norma NFPA 1 “Código de Incendios
DESCRIPTION:Inscríbase  \nPrograma
URL:https://ciemicr.org/eventosrefresh_css/curso-2-norma-nfpa-1-codigo-de-incendios-4-3/
LOCATION:Virtual\, Costa Rica
CATEGORIES:Capacitaciones
ATTACH;FMTTYPE=image/jpeg:https://ciemicr.org/wp-content/uploads/2024/10/Curso-2.jpg
END:VEVENT
BEGIN:VEVENT
DTSTART;TZID=America/Costa_Rica:20241111T180000
DTEND;TZID=America/Costa_Rica:20241111T210000
DTSTAMP:20260420T212421
CREATED:20241008T190333Z
LAST-MODIFIED:20241014T150952Z
UID:10001523-1731348000-1731358800@ciemicr.org
SUMMARY:Curso #2 Norma NFPA 1 “Código de Incendios
DESCRIPTION:Inscríbase  \nPrograma
URL:https://ciemicr.org/eventosrefresh_css/curso-2-norma-nfpa-1-codigo-de-incendios-4/
LOCATION:Virtual\, Costa Rica
CATEGORIES:Capacitaciones
ATTACH;FMTTYPE=image/jpeg:https://ciemicr.org/wp-content/uploads/2024/10/Curso-2.jpg
END:VEVENT
BEGIN:VEVENT
DTSTART;TZID=America/Costa_Rica:20241113T080000
DTEND;TZID=America/Costa_Rica:20241114T170000
DTSTAMP:20260420T212421
CREATED:20240711T160658Z
LAST-MODIFIED:20240711T160658Z
UID:10001923-1731484800-1731603600@ciemicr.org
SUMMARY:XXVI Seminario IIAR
DESCRIPTION:Inscríbase aquí \nPrograma
URL:https://ciemicr.org/eventosrefresh_css/xxvi-seminario-iiar-2/
LOCATION:Hotel Crowne Plaza Corobicí
CATEGORIES:Eventos
ATTACH;FMTTYPE=image/jpeg:https://ciemicr.org/wp-content/uploads/2024/07/Redes-CR_4.jpg
END:VEVENT
BEGIN:VEVENT
DTSTART;TZID=America/Costa_Rica:20241113T080000
DTEND;TZID=America/Costa_Rica:20241114T170000
DTSTAMP:20260420T212421
CREATED:20240711T160658Z
LAST-MODIFIED:20240711T160658Z
UID:10002341-1731484800-1731603600@ciemicr.org
SUMMARY:XXVI Seminario IIAR
DESCRIPTION:Inscríbase aquí \nPrograma
URL:https://ciemicr.org/eventosrefresh_css/xxvi-seminario-iiar-3/
LOCATION:Hotel Crowne Plaza Corobicí
CATEGORIES:Eventos
ATTACH;FMTTYPE=image/jpeg:https://ciemicr.org/wp-content/uploads/2024/07/Redes-CR_4.jpg
END:VEVENT
BEGIN:VEVENT
DTSTART;TZID=America/Costa_Rica:20241113T080000
DTEND;TZID=America/Costa_Rica:20241114T170000
DTSTAMP:20260420T212421
CREATED:20240711T160658Z
LAST-MODIFIED:20240820T195316Z
UID:10000860-1731484800-1731603600@ciemicr.org
SUMMARY:XXVI Seminario IIAR
DESCRIPTION:Inscríbase aquí \nPrograma
URL:https://ciemicr.org/eventosrefresh_css/xxvi-seminario-iiar/
LOCATION:Hotel Crowne Plaza Corobicí
CATEGORIES:Eventos
ATTACH;FMTTYPE=image/jpeg:https://ciemicr.org/wp-content/uploads/2024/07/Redes-CR_4.jpg
END:VEVENT
BEGIN:VEVENT
DTSTART;TZID=America/Costa_Rica:20241118T180000
DTEND;TZID=America/Costa_Rica:20241118T210000
DTSTAMP:20260420T212421
CREATED:20241031T171501Z
LAST-MODIFIED:20241031T194613Z
UID:10001527-1731952800-1731963600@ciemicr.org
SUMMARY:Curso Presupuesto de Obra Eléctrica
DESCRIPTION:Inscríbase  \nPrograma \n 
URL:https://ciemicr.org/eventosrefresh_css/curso-presupuesto-de-obra-electrica/
LOCATION:Virtual\, Costa Rica
CATEGORIES:Capacitaciones
ATTACH;FMTTYPE=image/jpeg:https://ciemicr.org/wp-content/uploads/2024/10/Curso-de-Presupuesto-para-Obra-Electrica-1.jpg
END:VEVENT
BEGIN:VEVENT
DTSTART;TZID=America/Costa_Rica:20241118T180000
DTEND;TZID=America/Costa_Rica:20241118T210000
DTSTAMP:20260420T212421
CREATED:20241031T171501Z
LAST-MODIFIED:20241031T171501Z
UID:10001942-1731952800-1731963600@ciemicr.org
SUMMARY:Curso Presupuesto de Obra Eléctrica
DESCRIPTION:Inscríbase  \nPrograma \n 
URL:https://ciemicr.org/eventosrefresh_css/curso-presupuesto-de-obra-electrica-2/
LOCATION:Virtual\, Costa Rica
CATEGORIES:Capacitaciones
ATTACH;FMTTYPE=image/jpeg:https://ciemicr.org/wp-content/uploads/2024/10/Curso-de-Presupuesto-para-Obra-Electrica-1.jpg
END:VEVENT
BEGIN:VEVENT
DTSTART;TZID=America/Costa_Rica:20241118T180000
DTEND;TZID=America/Costa_Rica:20241118T210000
DTSTAMP:20260420T212421
CREATED:20241031T171501Z
LAST-MODIFIED:20241031T171501Z
UID:10002360-1731952800-1731963600@ciemicr.org
SUMMARY:Curso Presupuesto de Obra Eléctrica
DESCRIPTION:Inscríbase  \nPrograma \n 
URL:https://ciemicr.org/eventosrefresh_css/curso-presupuesto-de-obra-electrica-3/
LOCATION:Virtual\, Costa Rica
CATEGORIES:Capacitaciones
ATTACH;FMTTYPE=image/jpeg:https://ciemicr.org/wp-content/uploads/2024/10/Curso-de-Presupuesto-para-Obra-Electrica-1.jpg
END:VEVENT
BEGIN:VEVENT
DTSTART;TZID=America/Costa_Rica:20241120T180000
DTEND;TZID=America/Costa_Rica:20241120T180000
DTSTAMP:20260420T212421
CREATED:20241022T210512Z
LAST-MODIFIED:20241022T210512Z
UID:10001941-1732125600-1732125600@ciemicr.org
SUMMARY:Webinar Generalidades de la norma ISO 45001
DESCRIPTION:Inscríbase
URL:https://ciemicr.org/eventosrefresh_css/webinar-generalidades-de-la-norma-iso-45001-2-2/
LOCATION:Virtual\, Costa Rica
CATEGORIES:Conferencias
ATTACH;FMTTYPE=image/jpeg:https://ciemicr.org/wp-content/uploads/2024/10/Webinar-Generalidades-de-la-norma-ISO-45001.jpg
END:VEVENT
BEGIN:VEVENT
DTSTART;TZID=America/Costa_Rica:20241120T180000
DTEND;TZID=America/Costa_Rica:20241120T180000
DTSTAMP:20260420T212421
CREATED:20241022T210512Z
LAST-MODIFIED:20241031T194805Z
UID:10001526-1732125600-1732125600@ciemicr.org
SUMMARY:Webinar Generalidades de la norma ISO 45001
DESCRIPTION:Inscríbase
URL:https://ciemicr.org/eventosrefresh_css/webinar-generalidades-de-la-norma-iso-45001-2/
LOCATION:Virtual\, Costa Rica
CATEGORIES:Conferencias
ATTACH;FMTTYPE=image/jpeg:https://ciemicr.org/wp-content/uploads/2024/10/Webinar-Generalidades-de-la-norma-ISO-45001.jpg
END:VEVENT
BEGIN:VEVENT
DTSTART;TZID=America/Costa_Rica:20241120T180000
DTEND;TZID=America/Costa_Rica:20241120T180000
DTSTAMP:20260420T212421
CREATED:20241022T210512Z
LAST-MODIFIED:20241022T210512Z
UID:10002359-1732125600-1732125600@ciemicr.org
SUMMARY:Webinar Generalidades de la norma ISO 45001
DESCRIPTION:Inscríbase
URL:https://ciemicr.org/eventosrefresh_css/webinar-generalidades-de-la-norma-iso-45001-2-3/
LOCATION:Virtual\, Costa Rica
CATEGORIES:Conferencias
ATTACH;FMTTYPE=image/jpeg:https://ciemicr.org/wp-content/uploads/2024/10/Webinar-Generalidades-de-la-norma-ISO-45001.jpg
END:VEVENT
BEGIN:VEVENT
DTSTART;TZID=America/Costa_Rica:20241120T180000
DTEND;TZID=America/Costa_Rica:20241120T210000
DTSTAMP:20260420T212421
CREATED:20241008T214023Z
LAST-MODIFIED:20241008T214023Z
UID:10001940-1732125600-1732136400@ciemicr.org
SUMMARY:Curso Módulo II: Sistemas de desagüe y tratamiento de aguas pluviales y aguas servidas
DESCRIPTION:Inscríbase \nPrograma
URL:https://ciemicr.org/eventosrefresh_css/curso-diseno-de-instalaciones-hidraulicas-en-edificaciones-modulo-ii-sistemas-de-suministro-y-distribucion-de-agua-2/
LOCATION:Virtual\, Costa Rica
CATEGORIES:Capacitaciones
ATTACH;FMTTYPE=image/jpeg:https://ciemicr.org/wp-content/uploads/2024/10/Afiche.jpeg
END:VEVENT
BEGIN:VEVENT
DTSTART;TZID=America/Costa_Rica:20241120T180000
DTEND;TZID=America/Costa_Rica:20241120T210000
DTSTAMP:20260420T212421
CREATED:20241008T214023Z
LAST-MODIFIED:20241029T165212Z
UID:10001524-1732125600-1732136400@ciemicr.org
SUMMARY:Curso Módulo II: Sistemas de desagüe y tratamiento de aguas pluviales y aguas servidas
DESCRIPTION:Inscríbase \nPrograma
URL:https://ciemicr.org/eventosrefresh_css/curso-diseno-de-instalaciones-hidraulicas-en-edificaciones-modulo-ii-sistemas-de-suministro-y-distribucion-de-agua/
LOCATION:Virtual\, Costa Rica
CATEGORIES:Capacitaciones
ATTACH;FMTTYPE=image/jpeg:https://ciemicr.org/wp-content/uploads/2024/10/Afiche.jpeg
END:VEVENT
BEGIN:VEVENT
DTSTART;TZID=America/Costa_Rica:20241120T180000
DTEND;TZID=America/Costa_Rica:20241120T210000
DTSTAMP:20260420T212421
CREATED:20241008T214023Z
LAST-MODIFIED:20241008T214023Z
UID:10002358-1732125600-1732136400@ciemicr.org
SUMMARY:Curso Módulo II: Sistemas de desagüe y tratamiento de aguas pluviales y aguas servidas
DESCRIPTION:Inscríbase \nPrograma
URL:https://ciemicr.org/eventosrefresh_css/curso-diseno-de-instalaciones-hidraulicas-en-edificaciones-modulo-ii-sistemas-de-suministro-y-distribucion-de-agua-3/
LOCATION:Virtual\, Costa Rica
CATEGORIES:Capacitaciones
ATTACH;FMTTYPE=image/jpeg:https://ciemicr.org/wp-content/uploads/2024/10/Afiche.jpeg
END:VEVENT
END:VCALENDAR