BEGIN:VCALENDAR
VERSION:2.0
PRODID:-//CIEMI - ECPv6.15.13.1//NONSGML v1.0//EN
CALSCALE:GREGORIAN
METHOD:PUBLISH
X-WR-CALNAME:CIEMI
X-ORIGINAL-URL:https://ciemicr.org
X-WR-CALDESC:Eventos para CIEMI
REFRESH-INTERVAL;VALUE=DURATION:PT1H
X-Robots-Tag:noindex
X-PUBLISHED-TTL:PT1H
BEGIN:VTIMEZONE
TZID:America/Costa_Rica
BEGIN:STANDARD
TZOFFSETFROM:-0600
TZOFFSETTO:-0600
TZNAME:CST
DTSTART:20240101T000000
END:STANDARD
END:VTIMEZONE
BEGIN:VEVENT
DTSTART;TZID=America/Costa_Rica:20250303T180000
DTEND;TZID=America/Costa_Rica:20250303T210000
DTSTAMP:20260420T143905
CREATED:20241126T210922Z
LAST-MODIFIED:20250130T020415Z
UID:10001552-1741024800-1741035600@ciemicr.org
SUMMARY:Curso #4 Inspectores de instalaciones de consumo\, almacenamiento y venta de Gas Licuado de Petróleo “Basado en NFPA 58"
DESCRIPTION:Inscríbase \nPrograma
URL:https://ciemicr.org/eventosrefresh_css/curso-4-inspectores-de-instalaciones-de-consumo-almacenamiento-y-venta-de-gas-licuado-de-petroleo-basado-en-nfpa-58-3/
LOCATION:Virtual\, Costa Rica
CATEGORIES:Capacitaciones
ATTACH;FMTTYPE=image/jpeg:https://ciemicr.org/wp-content/uploads/2024/11/Curso-4-Inspectores-de-instalaciones-de-consumo-almacenamiento-y-venta-de-Gas@2x.jpg
END:VEVENT
BEGIN:VEVENT
DTSTART;TZID=America/Costa_Rica:20250303T180000
DTEND;TZID=America/Costa_Rica:20250303T210000
DTSTAMP:20260420T143905
CREATED:20241126T210922Z
LAST-MODIFIED:20241126T210922Z
UID:10002383-1741024800-1741035600@ciemicr.org
SUMMARY:Curso #4 Inspectores de instalaciones de consumo\, almacenamiento y venta de Gas Licuado de Petróleo “Basado en NFPA 58"
DESCRIPTION:Inscríbase \nPrograma
URL:https://ciemicr.org/eventosrefresh_css/curso-4-inspectores-de-instalaciones-de-consumo-almacenamiento-y-venta-de-gas-licuado-de-petroleo-basado-en-nfpa-58-3-3/
LOCATION:Virtual\, Costa Rica
CATEGORIES:Capacitaciones
ATTACH;FMTTYPE=image/jpeg:https://ciemicr.org/wp-content/uploads/2024/11/Curso-4-Inspectores-de-instalaciones-de-consumo-almacenamiento-y-venta-de-Gas@2x.jpg
END:VEVENT
BEGIN:VEVENT
DTSTART;TZID=America/Costa_Rica:20250303T180000
DTEND;TZID=America/Costa_Rica:20250303T210000
DTSTAMP:20260420T143905
CREATED:20241126T210922Z
LAST-MODIFIED:20241126T210922Z
UID:10001965-1741024800-1741035600@ciemicr.org
SUMMARY:Curso #4 Inspectores de instalaciones de consumo\, almacenamiento y venta de Gas Licuado de Petróleo “Basado en NFPA 58"
DESCRIPTION:Inscríbase \nPrograma
URL:https://ciemicr.org/eventosrefresh_css/curso-4-inspectores-de-instalaciones-de-consumo-almacenamiento-y-venta-de-gas-licuado-de-petroleo-basado-en-nfpa-58-3-2/
LOCATION:Virtual\, Costa Rica
CATEGORIES:Capacitaciones
ATTACH;FMTTYPE=image/jpeg:https://ciemicr.org/wp-content/uploads/2024/11/Curso-4-Inspectores-de-instalaciones-de-consumo-almacenamiento-y-venta-de-Gas@2x.jpg
END:VEVENT
BEGIN:VEVENT
DTSTART;TZID=America/Costa_Rica:20250311T180000
DTEND;TZID=America/Costa_Rica:20250311T200000
DTSTAMP:20260420T143905
CREATED:20250228T225634Z
LAST-MODIFIED:20250228T225634Z
UID:10002021-1741716000-1741723200@ciemicr.org
SUMMARY:Conferencia: Supresores de Transientes: Conceptos\, Instalación y Selección
DESCRIPTION:Inscríbase
URL:https://ciemicr.org/eventosrefresh_css/conferencia-supresores-de-transientes-conceptos-instalacion-y-seleccion-2/
LOCATION:Auditorio del CFIA\, Curridabat\, 2346-1000\, Costa Rica\, Colegio de Ingenieros y Arquitectos\, Costa Rica
CATEGORIES:Conferencias
ATTACH;FMTTYPE=image/jpeg:https://ciemicr.org/wp-content/uploads/2025/02/Conferencia-Sch.jpg
GEO:9.9253512346433;-84.03936233163
X-APPLE-STRUCTURED-LOCATION;VALUE=URI;X-ADDRESS=Auditorio del CFIA Curridabat 2346-1000 Costa Rica Colegio de Ingenieros y Arquitectos Costa Rica;X-APPLE-RADIUS=500;X-TITLE=2346-1000:geo:-84.03936233163,9.9253512346433
END:VEVENT
BEGIN:VEVENT
DTSTART;TZID=America/Costa_Rica:20250311T180000
DTEND;TZID=America/Costa_Rica:20250311T200000
DTSTAMP:20260420T143905
CREATED:20250228T225634Z
LAST-MODIFIED:20250228T230333Z
UID:10001608-1741716000-1741723200@ciemicr.org
SUMMARY:Conferencia: Supresores de Transientes: Conceptos\, Instalación y Selección
DESCRIPTION:Inscríbase
URL:https://ciemicr.org/eventosrefresh_css/conferencia-supresores-de-transientes-conceptos-instalacion-y-seleccion/
LOCATION:Auditorio del CFIA\, Curridabat\, 2346-1000\, Costa Rica\, Colegio de Ingenieros y Arquitectos\, Costa Rica
CATEGORIES:Conferencias
ATTACH;FMTTYPE=image/jpeg:https://ciemicr.org/wp-content/uploads/2025/02/Conferencia-Sch.jpg
GEO:9.9253512346433;-84.03936233163
X-APPLE-STRUCTURED-LOCATION;VALUE=URI;X-ADDRESS=Auditorio del CFIA Curridabat 2346-1000 Costa Rica Colegio de Ingenieros y Arquitectos Costa Rica;X-APPLE-RADIUS=500;X-TITLE=2346-1000:geo:-84.03936233163,9.9253512346433
END:VEVENT
BEGIN:VEVENT
DTSTART;TZID=America/Costa_Rica:20250311T180000
DTEND;TZID=America/Costa_Rica:20250311T200000
DTSTAMP:20260420T143905
CREATED:20250228T225634Z
LAST-MODIFIED:20250228T225634Z
UID:10002439-1741716000-1741723200@ciemicr.org
SUMMARY:Conferencia: Supresores de Transientes: Conceptos\, Instalación y Selección
DESCRIPTION:Inscríbase
URL:https://ciemicr.org/eventosrefresh_css/conferencia-supresores-de-transientes-conceptos-instalacion-y-seleccion-3/
LOCATION:Auditorio del CFIA\, Curridabat\, 2346-1000\, Costa Rica\, Colegio de Ingenieros y Arquitectos\, Costa Rica
CATEGORIES:Conferencias
ATTACH;FMTTYPE=image/jpeg:https://ciemicr.org/wp-content/uploads/2025/02/Conferencia-Sch.jpg
GEO:9.9253512346433;-84.03936233163
X-APPLE-STRUCTURED-LOCATION;VALUE=URI;X-ADDRESS=Auditorio del CFIA Curridabat 2346-1000 Costa Rica Colegio de Ingenieros y Arquitectos Costa Rica;X-APPLE-RADIUS=500;X-TITLE=2346-1000:geo:-84.03936233163,9.9253512346433
END:VEVENT
BEGIN:VEVENT
DTSTART;TZID=America/Costa_Rica:20250312T100000
DTEND;TZID=America/Costa_Rica:20250312T100000
DTSTAMP:20260420T143905
CREATED:20250225T173445Z
LAST-MODIFIED:20250225T173445Z
UID:10002437-1741773600-1741773600@ciemicr.org
SUMMARY:Webinar Sesión informativa para programa formación Certificación PMP
DESCRIPTION:Inscríbase
URL:https://ciemicr.org/eventosrefresh_css/webinar-sesion-informativa-para-programa-formacion-certificacion-pmp-3/
LOCATION:Virtual\, Costa Rica
CATEGORIES:Conferencias
ATTACH;FMTTYPE=image/png:https://ciemicr.org/wp-content/uploads/2025/02/Webinar.png
END:VEVENT
BEGIN:VEVENT
DTSTART;TZID=America/Costa_Rica:20250312T100000
DTEND;TZID=America/Costa_Rica:20250312T100000
DTSTAMP:20260420T143905
CREATED:20250225T173445Z
LAST-MODIFIED:20250225T173445Z
UID:10001606-1741773600-1741773600@ciemicr.org
SUMMARY:Webinar Sesión informativa para programa formación Certificación PMP
DESCRIPTION:Inscríbase
URL:https://ciemicr.org/eventosrefresh_css/webinar-sesion-informativa-para-programa-formacion-certificacion-pmp/
LOCATION:Virtual\, Costa Rica
CATEGORIES:Conferencias
ATTACH;FMTTYPE=image/png:https://ciemicr.org/wp-content/uploads/2025/02/Webinar.png
END:VEVENT
BEGIN:VEVENT
DTSTART;TZID=America/Costa_Rica:20250312T100000
DTEND;TZID=America/Costa_Rica:20250312T100000
DTSTAMP:20260420T143905
CREATED:20250225T173445Z
LAST-MODIFIED:20250225T173445Z
UID:10002019-1741773600-1741773600@ciemicr.org
SUMMARY:Webinar Sesión informativa para programa formación Certificación PMP
DESCRIPTION:Inscríbase
URL:https://ciemicr.org/eventosrefresh_css/webinar-sesion-informativa-para-programa-formacion-certificacion-pmp-2/
LOCATION:Virtual\, Costa Rica
CATEGORIES:Conferencias
ATTACH;FMTTYPE=image/png:https://ciemicr.org/wp-content/uploads/2025/02/Webinar.png
END:VEVENT
BEGIN:VEVENT
DTSTART;TZID=America/Costa_Rica:20250318T170000
DTEND;TZID=America/Costa_Rica:20250318T200000
DTSTAMP:20260420T143905
CREATED:20250211T215428Z
LAST-MODIFIED:20250211T215428Z
UID:10002411-1742317200-1742328000@ciemicr.org
SUMMARY:Curso de Automatización Robótica de procesos (RPA)
DESCRIPTION:Más información
URL:https://ciemicr.org/eventosrefresh_css/curso-de-automatizacion-robotica-de-procesos-rpa-3/
LOCATION:Virtual\, Costa Rica
CATEGORIES:Capacitaciones
ATTACH;FMTTYPE=image/jpeg:https://ciemicr.org/wp-content/uploads/2025/02/17-Curso-Automatizacion-Robotica.jpg
END:VEVENT
BEGIN:VEVENT
DTSTART;TZID=America/Costa_Rica:20250318T170000
DTEND;TZID=America/Costa_Rica:20250318T200000
DTSTAMP:20260420T143905
CREATED:20250211T215428Z
LAST-MODIFIED:20250211T215619Z
UID:10001580-1742317200-1742328000@ciemicr.org
SUMMARY:Curso de Automatización Robótica de procesos (RPA)
DESCRIPTION:Más información
URL:https://ciemicr.org/eventosrefresh_css/curso-de-automatizacion-robotica-de-procesos-rpa/
LOCATION:Virtual\, Costa Rica
CATEGORIES:Capacitaciones
ATTACH;FMTTYPE=image/jpeg:https://ciemicr.org/wp-content/uploads/2025/02/17-Curso-Automatizacion-Robotica.jpg
END:VEVENT
BEGIN:VEVENT
DTSTART;TZID=America/Costa_Rica:20250318T170000
DTEND;TZID=America/Costa_Rica:20250318T200000
DTSTAMP:20260420T143905
CREATED:20250211T215428Z
LAST-MODIFIED:20250211T215428Z
UID:10001993-1742317200-1742328000@ciemicr.org
SUMMARY:Curso de Automatización Robótica de procesos (RPA)
DESCRIPTION:Más información
URL:https://ciemicr.org/eventosrefresh_css/curso-de-automatizacion-robotica-de-procesos-rpa-2/
LOCATION:Virtual\, Costa Rica
CATEGORIES:Capacitaciones
ATTACH;FMTTYPE=image/jpeg:https://ciemicr.org/wp-content/uploads/2025/02/17-Curso-Automatizacion-Robotica.jpg
END:VEVENT
BEGIN:VEVENT
DTSTART;TZID=America/Costa_Rica:20250320T180000
DTEND;TZID=America/Costa_Rica:20250320T210000
DTSTAMP:20260420T143905
CREATED:20241121T210015Z
LAST-MODIFIED:20250121T160026Z
UID:10001537-1742493600-1742504400@ciemicr.org
SUMMARY:Curso CAPDEE-M3: Criterios de diseño desde el punto de vista de corrientes de cortocircuito
DESCRIPTION:Inscríbase \nPrograma
URL:https://ciemicr.org/eventosrefresh_css/curso-capdee-m3-criterios-de-diseno-desde-el-punto-de-vista-de-corrientes-de-cortocircuito-2/
LOCATION:Virtual\, Costa Rica
CATEGORIES:Capacitaciones
ATTACH;FMTTYPE=image/jpeg:https://ciemicr.org/wp-content/uploads/2024/11/Curso-CAPDEE-M3-Criterios-de-diseno-desde-el-punto-devista-de-corrientes-de-cortocircuito.jpg
END:VEVENT
BEGIN:VEVENT
DTSTART;TZID=America/Costa_Rica:20250320T180000
DTEND;TZID=America/Costa_Rica:20250320T210000
DTSTAMP:20260420T143905
CREATED:20241121T210015Z
LAST-MODIFIED:20241121T210015Z
UID:10002370-1742493600-1742504400@ciemicr.org
SUMMARY:Curso CAPDEE-M3: Criterios de diseño desde el punto de vista de corrientes de cortocircuito
DESCRIPTION:Inscríbase \nPrograma
URL:https://ciemicr.org/eventosrefresh_css/curso-capdee-m3-criterios-de-diseno-desde-el-punto-de-vista-de-corrientes-de-cortocircuito-2-3/
LOCATION:Virtual\, Costa Rica
CATEGORIES:Capacitaciones
ATTACH;FMTTYPE=image/jpeg:https://ciemicr.org/wp-content/uploads/2024/11/Curso-CAPDEE-M3-Criterios-de-diseno-desde-el-punto-devista-de-corrientes-de-cortocircuito.jpg
END:VEVENT
BEGIN:VEVENT
DTSTART;TZID=America/Costa_Rica:20250320T180000
DTEND;TZID=America/Costa_Rica:20250320T210000
DTSTAMP:20260420T143905
CREATED:20241121T210015Z
LAST-MODIFIED:20241121T210015Z
UID:10001952-1742493600-1742504400@ciemicr.org
SUMMARY:Curso CAPDEE-M3: Criterios de diseño desde el punto de vista de corrientes de cortocircuito
DESCRIPTION:Inscríbase \nPrograma
URL:https://ciemicr.org/eventosrefresh_css/curso-capdee-m3-criterios-de-diseno-desde-el-punto-de-vista-de-corrientes-de-cortocircuito-2-2/
LOCATION:Virtual\, Costa Rica
CATEGORIES:Capacitaciones
ATTACH;FMTTYPE=image/jpeg:https://ciemicr.org/wp-content/uploads/2024/11/Curso-CAPDEE-M3-Criterios-de-diseno-desde-el-punto-devista-de-corrientes-de-cortocircuito.jpg
END:VEVENT
BEGIN:VEVENT
DTSTART;TZID=America/Costa_Rica:20250323T090000
DTEND;TZID=America/Costa_Rica:20250323T140000
DTSTAMP:20260420T143905
CREATED:20250205T180345Z
LAST-MODIFIED:20250205T180345Z
UID:10001989-1742720400-1742738400@ciemicr.org
SUMMARY:Día deportivo familiar
DESCRIPTION:Inscríbase
URL:https://ciemicr.org/eventosrefresh_css/dia-deportivo-familiar-2/
LOCATION:Centro de Capacitación Integral Uxarrací\, Centro Uxarrací\, Cartago\, Costa Rica
CATEGORIES:Eventos
ATTACH;FMTTYPE=image/jpeg:https://ciemicr.org/wp-content/uploads/2025/02/Dia-deportivo-1-1-1-scaled.jpg
END:VEVENT
BEGIN:VEVENT
DTSTART;TZID=America/Costa_Rica:20250323T090000
DTEND;TZID=America/Costa_Rica:20250323T140000
DTSTAMP:20260420T143905
CREATED:20250205T180345Z
LAST-MODIFIED:20250205T180345Z
UID:10001576-1742720400-1742738400@ciemicr.org
SUMMARY:Día deportivo familiar
DESCRIPTION:Inscríbase
URL:https://ciemicr.org/eventosrefresh_css/dia-deportivo-familiar/
LOCATION:Centro de Capacitación Integral Uxarrací\, Centro Uxarrací\, Cartago\, Costa Rica
CATEGORIES:Eventos
ATTACH;FMTTYPE=image/jpeg:https://ciemicr.org/wp-content/uploads/2025/02/Dia-deportivo-1-1-1-scaled.jpg
END:VEVENT
BEGIN:VEVENT
DTSTART;TZID=America/Costa_Rica:20250323T090000
DTEND;TZID=America/Costa_Rica:20250323T140000
DTSTAMP:20260420T143905
CREATED:20250205T180345Z
LAST-MODIFIED:20250205T180345Z
UID:10002407-1742720400-1742738400@ciemicr.org
SUMMARY:Día deportivo familiar
DESCRIPTION:Inscríbase
URL:https://ciemicr.org/eventosrefresh_css/dia-deportivo-familiar-3/
LOCATION:Centro de Capacitación Integral Uxarrací\, Centro Uxarrací\, Cartago\, Costa Rica
CATEGORIES:Eventos
ATTACH;FMTTYPE=image/jpeg:https://ciemicr.org/wp-content/uploads/2025/02/Dia-deportivo-1-1-1-scaled.jpg
END:VEVENT
BEGIN:VEVENT
DTSTART;TZID=America/Costa_Rica:20250324T180000
DTEND;TZID=America/Costa_Rica:20250324T210000
DTSTAMP:20260420T143905
CREATED:20250117T172748Z
LAST-MODIFIED:20250117T172748Z
UID:10001983-1742839200-1742850000@ciemicr.org
SUMMARY:Curso Cambios en el Código Eléctrico Nacional (NEC) / Decreto 36979-MEIC y sus reformas
DESCRIPTION:Inscríbase \nPrograma
URL:https://ciemicr.org/eventosrefresh_css/curso-cambios-en-el-codigo-electrico-nacional-nec-nfpa-70-edicion-2020-2/
LOCATION:Virtual\, Costa Rica
CATEGORIES:Capacitaciones
ATTACH;FMTTYPE=image/jpeg:https://ciemicr.org/wp-content/uploads/2025/01/Curso-Codigo-Electrico-Nacional222.jpg
END:VEVENT
BEGIN:VEVENT
DTSTART;TZID=America/Costa_Rica:20250324T180000
DTEND;TZID=America/Costa_Rica:20250324T210000
DTSTAMP:20260420T143905
CREATED:20250117T172748Z
LAST-MODIFIED:20250304T195905Z
UID:10001570-1742839200-1742850000@ciemicr.org
SUMMARY:Curso Cambios en el Código Eléctrico Nacional (NEC) / Decreto 36979-MEIC y sus reformas
DESCRIPTION:Inscríbase \nPrograma
URL:https://ciemicr.org/eventosrefresh_css/curso-cambios-en-el-codigo-electrico-nacional-nec-nfpa-70-edicion-2020/
LOCATION:Virtual\, Costa Rica
CATEGORIES:Capacitaciones
ATTACH;FMTTYPE=image/jpeg:https://ciemicr.org/wp-content/uploads/2025/01/Curso-Codigo-Electrico-Nacional222.jpg
END:VEVENT
BEGIN:VEVENT
DTSTART;TZID=America/Costa_Rica:20250324T180000
DTEND;TZID=America/Costa_Rica:20250324T210000
DTSTAMP:20260420T143905
CREATED:20250117T172748Z
LAST-MODIFIED:20250117T172748Z
UID:10002401-1742839200-1742850000@ciemicr.org
SUMMARY:Curso Cambios en el Código Eléctrico Nacional (NEC) / Decreto 36979-MEIC y sus reformas
DESCRIPTION:Inscríbase \nPrograma
URL:https://ciemicr.org/eventosrefresh_css/curso-cambios-en-el-codigo-electrico-nacional-nec-nfpa-70-edicion-2020-3/
LOCATION:Virtual\, Costa Rica
CATEGORIES:Capacitaciones
ATTACH;FMTTYPE=image/jpeg:https://ciemicr.org/wp-content/uploads/2025/01/Curso-Codigo-Electrico-Nacional222.jpg
END:VEVENT
BEGIN:VEVENT
DTSTART;TZID=America/Costa_Rica:20250326T170000
DTEND;TZID=America/Costa_Rica:20250326T200000
DTSTAMP:20260420T143905
CREATED:20250211T204824Z
LAST-MODIFIED:20250211T204824Z
UID:10001991-1743008400-1743019200@ciemicr.org
SUMMARY:Programa Excel Completo
DESCRIPTION:Más información
URL:https://ciemicr.org/eventosrefresh_css/programa-excel-completo-2/
LOCATION:Virtual\, Costa Rica
CATEGORIES:Capacitaciones
ATTACH;FMTTYPE=image/jpeg:https://ciemicr.org/wp-content/uploads/2025/02/Programa-de-Excel-completo.jpg
END:VEVENT
BEGIN:VEVENT
DTSTART;TZID=America/Costa_Rica:20250326T170000
DTEND;TZID=America/Costa_Rica:20250326T200000
DTSTAMP:20260420T143905
CREATED:20250211T204824Z
LAST-MODIFIED:20250211T205150Z
UID:10001578-1743008400-1743019200@ciemicr.org
SUMMARY:Programa Excel Completo
DESCRIPTION:Más información
URL:https://ciemicr.org/eventosrefresh_css/programa-excel-completo/
LOCATION:Virtual\, Costa Rica
CATEGORIES:Capacitaciones
ATTACH;FMTTYPE=image/jpeg:https://ciemicr.org/wp-content/uploads/2025/02/Programa-de-Excel-completo.jpg
END:VEVENT
BEGIN:VEVENT
DTSTART;TZID=America/Costa_Rica:20250326T170000
DTEND;TZID=America/Costa_Rica:20250326T200000
DTSTAMP:20260420T143905
CREATED:20250211T204824Z
LAST-MODIFIED:20250211T204824Z
UID:10002409-1743008400-1743019200@ciemicr.org
SUMMARY:Programa Excel Completo
DESCRIPTION:Más información
URL:https://ciemicr.org/eventosrefresh_css/programa-excel-completo-3/
LOCATION:Virtual\, Costa Rica
CATEGORIES:Capacitaciones
ATTACH;FMTTYPE=image/jpeg:https://ciemicr.org/wp-content/uploads/2025/02/Programa-de-Excel-completo.jpg
END:VEVENT
BEGIN:VEVENT
DTSTART;TZID=America/Costa_Rica:20250327T170000
DTEND;TZID=America/Costa_Rica:20250327T200000
DTSTAMP:20260420T143905
CREATED:20250211T215139Z
LAST-MODIFIED:20250211T215139Z
UID:10001992-1743094800-1743105600@ciemicr.org
SUMMARY:Curso Balance de líneas y control de producción para eficientizar los recursos
DESCRIPTION:Más información
URL:https://ciemicr.org/eventosrefresh_css/curso-balance-de-lineas-y-control-de-produccion-para-eficientizar-los-recursos-2/
LOCATION:Virtual\, Costa Rica
CATEGORIES:Capacitaciones
ATTACH;FMTTYPE=image/jpeg:https://ciemicr.org/wp-content/uploads/2025/02/Balance.jpg
END:VEVENT
BEGIN:VEVENT
DTSTART;TZID=America/Costa_Rica:20250327T170000
DTEND;TZID=America/Costa_Rica:20250327T200000
DTSTAMP:20260420T143905
CREATED:20250211T215139Z
LAST-MODIFIED:20250211T215202Z
UID:10001579-1743094800-1743105600@ciemicr.org
SUMMARY:Curso Balance de líneas y control de producción para eficientizar los recursos
DESCRIPTION:Más información
URL:https://ciemicr.org/eventosrefresh_css/curso-balance-de-lineas-y-control-de-produccion-para-eficientizar-los-recursos/
LOCATION:Virtual\, Costa Rica
CATEGORIES:Capacitaciones
ATTACH;FMTTYPE=image/jpeg:https://ciemicr.org/wp-content/uploads/2025/02/Balance.jpg
END:VEVENT
BEGIN:VEVENT
DTSTART;TZID=America/Costa_Rica:20250327T170000
DTEND;TZID=America/Costa_Rica:20250327T200000
DTSTAMP:20260420T143905
CREATED:20250211T215139Z
LAST-MODIFIED:20250211T215139Z
UID:10002410-1743094800-1743105600@ciemicr.org
SUMMARY:Curso Balance de líneas y control de producción para eficientizar los recursos
DESCRIPTION:Más información
URL:https://ciemicr.org/eventosrefresh_css/curso-balance-de-lineas-y-control-de-produccion-para-eficientizar-los-recursos-3/
LOCATION:Virtual\, Costa Rica
CATEGORIES:Capacitaciones
ATTACH;FMTTYPE=image/jpeg:https://ciemicr.org/wp-content/uploads/2025/02/Balance.jpg
END:VEVENT
BEGIN:VEVENT
DTSTART;TZID=America/Costa_Rica:20250327T180000
DTEND;TZID=America/Costa_Rica:20250327T210000
DTSTAMP:20260420T143905
CREATED:20241121T225123Z
LAST-MODIFIED:20250303T164829Z
UID:10001545-1743098400-1743109200@ciemicr.org
SUMMARY:Curso CAPDEE-M7: Requerimientos de instalación\, canalización\, conductores\, equipos y accesorios en las instalaciones eléctricas
DESCRIPTION:Inscríbase \nPrograma
URL:https://ciemicr.org/eventosrefresh_css/curso-capdee-m7-requerimientos-de-instalacion-canalizacion-conductores-equipos-y-accesorios-en-las-instalaciones-electricas-3/
LOCATION:Virtual\, Costa Rica
CATEGORIES:Capacitaciones
ATTACH;FMTTYPE=image/jpeg:https://ciemicr.org/wp-content/uploads/2024/11/CAPDEE-M7-Requerimientos-de-instalacion-canalizacionconductores-equipos-y-accesoriosen-las-instalaciones-electricas-1.jpg
END:VEVENT
BEGIN:VEVENT
DTSTART;TZID=America/Costa_Rica:20250331T180000
DTEND;TZID=America/Costa_Rica:20250331T210000
DTSTAMP:20260420T143905
CREATED:20250303T165709Z
LAST-MODIFIED:20250303T165709Z
UID:10002024-1743444000-1743454800@ciemicr.org
SUMMARY:Curso CAPDEE M1: Normativa Vigente y Código Eléctrico (NEC)
DESCRIPTION:Inscríbase \nPrograma
URL:https://ciemicr.org/eventosrefresh_css/curso-capdee-m1-normativa-vigente-y-codigo-electrico-nec-7-2/
LOCATION:Virtual\, Costa Rica
CATEGORIES:Capacitaciones
ATTACH;FMTTYPE=image/jpeg:https://ciemicr.org/wp-content/uploads/2025/02/CAPDEE-M1-_Normativa-Vigente-y_Codigo-Electrico-Fredy-2.jpg
END:VEVENT
BEGIN:VEVENT
DTSTART;TZID=America/Costa_Rica:20250331T180000
DTEND;TZID=America/Costa_Rica:20250331T210000
DTSTAMP:20260420T143905
CREATED:20250303T165709Z
LAST-MODIFIED:20250303T195751Z
UID:10001612-1743444000-1743454800@ciemicr.org
SUMMARY:Curso CAPDEE M1: Normativa Vigente y Código Eléctrico (NEC)
DESCRIPTION:Inscríbase \nPrograma
URL:https://ciemicr.org/eventosrefresh_css/curso-capdee-m1-normativa-vigente-y-codigo-electrico-nec-7/
LOCATION:Virtual\, Costa Rica
CATEGORIES:Capacitaciones
ATTACH;FMTTYPE=image/jpeg:https://ciemicr.org/wp-content/uploads/2025/02/CAPDEE-M1-_Normativa-Vigente-y_Codigo-Electrico-Fredy-2.jpg
END:VEVENT
END:VCALENDAR